BEGIN:VCALENDAR
VERSION:2.0
PRODID:-//Stuttgarti Katolikusok - ECPv6.15.20//NONSGML v1.0//EN
CALSCALE:GREGORIAN
METHOD:PUBLISH
X-ORIGINAL-URL:https://stuttgarti-katolikusok.de
X-WR-CALDESC:Események Stuttgarti Katolikusok
REFRESH-INTERVAL;VALUE=DURATION:PT1H
X-Robots-Tag:noindex
X-PUBLISHED-TTL:PT1H
BEGIN:VTIMEZONE
TZID:Europe/Berlin
BEGIN:DAYLIGHT
TZOFFSETFROM:+0100
TZOFFSETTO:+0200
TZNAME:CEST
DTSTART:20220327T010000
END:DAYLIGHT
BEGIN:STANDARD
TZOFFSETFROM:+0200
TZOFFSETTO:+0100
TZNAME:CET
DTSTART:20221030T010000
END:STANDARD
BEGIN:DAYLIGHT
TZOFFSETFROM:+0100
TZOFFSETTO:+0200
TZNAME:CEST
DTSTART:20230326T010000
END:DAYLIGHT
BEGIN:STANDARD
TZOFFSETFROM:+0200
TZOFFSETTO:+0100
TZNAME:CET
DTSTART:20231029T010000
END:STANDARD
BEGIN:DAYLIGHT
TZOFFSETFROM:+0100
TZOFFSETTO:+0200
TZNAME:CEST
DTSTART:20240331T010000
END:DAYLIGHT
BEGIN:STANDARD
TZOFFSETFROM:+0200
TZOFFSETTO:+0100
TZNAME:CET
DTSTART:20241027T010000
END:STANDARD
END:VTIMEZONE
BEGIN:VEVENT
DTSTART;TZID=Europe/Berlin:20230507T093000
DTEND;TZID=Europe/Berlin:20230507T103000
DTSTAMP:20260422T165142
CREATED:20240104T090903Z
LAST-MODIFIED:20240104T090903Z
UID:27808-1683451800-1683455400@stuttgarti-katolikusok.de
SUMMARY:Schwäbisch-Gmünd  -  búcsú
DESCRIPTION:
URL:https://stuttgarti-katolikusok.de/index.php/esemeny/schwabisch-gmund-bucsu-2/
LOCATION:Baden-Württemberg
CATEGORIES:Szentmisék helye és ideje
END:VEVENT
BEGIN:VEVENT
DTSTART;TZID=Europe/Berlin:20230507T093000
DTEND;TZID=Europe/Berlin:20230507T120000
DTSTAMP:20260422T165142
CREATED:20230501T193048Z
LAST-MODIFIED:20230502T082722Z
UID:26737-1683451800-1683460800@stuttgarti-katolikusok.de
SUMMARY:Búcsús szentmise Schwäbisch-Gmündben
DESCRIPTION:Május 7-én\, Húsvét 5. vasárnapja\, Schwäbisch-Gmündben 9.30 órakor búcsús-szentmise\, Boldog Bajor Gizellát köszöntjük. Természetesen nem feledkezünk el az édesanyákról sem. Szentmise végeztével agapé. \n \nMindenkit szeretettel vár a közösség és Tibor atya! \n* \n \n* \nKegyelemteljes húsvéti napokat\, tartalmas beszélgetéseket és örömteli találkozásokat kívánunk minden Kedves Hívünknek! \n* \n„Isten azért teremtett minket és a világot\, mert szeret minket. \nMilyen szép és milyen nagyszerű\, hogy Istent megismerhetjük\, szerethetjük és őt szolgálhatjuk. \nEz a feladatunk ebben a világban. \nMinden más ezen kívül\, eltékozolt idő.” (Vianney Szent János\, 1786 – 1859) \n(Kép forrása: Pixabay)
URL:https://stuttgarti-katolikusok.de/index.php/esemeny/bucsus-szentmise-schwabisch-gmundben/
LOCATION:Sankt Franziskus Kirche\, Franziskaner Str. 3\, Schwäbisch-Gmünd\, Baden-Württemberg\, 73525\, Németország
CATEGORIES:Szentmise
ATTACH;FMTTYPE=image/jpeg:https://stuttgarti-katolikusok.de/wp-content/uploads/2018/03/st-franziskus-schw-gmund.jpg
END:VEVENT
BEGIN:VEVENT
DTSTART;TZID=Europe/Berlin:20230507T150000
DTEND;TZID=Europe/Berlin:20230507T160000
DTSTAMP:20260422T165142
CREATED:20240104T090903Z
LAST-MODIFIED:20240104T090903Z
UID:27809-1683471600-1683475200@stuttgarti-katolikusok.de
SUMMARY:Stuttgart
DESCRIPTION:
URL:https://stuttgarti-katolikusok.de/index.php/esemeny/stuttgart-50/
LOCATION:Baden-Württemberg
CATEGORIES:Szentmisék helye és ideje
END:VEVENT
BEGIN:VEVENT
DTSTART;TZID=Europe/Berlin:20230507T150000
DTEND;TZID=Europe/Berlin:20230507T180000
DTSTAMP:20260422T165142
CREATED:20230501T193359Z
LAST-MODIFIED:20230501T193359Z
UID:26740-1683471600-1683482400@stuttgarti-katolikusok.de
SUMMARY:Szentmise Stuttgartban
DESCRIPTION:Május 7-én\, Húsvét 5. vasárnapja\, Stuttgartban 15.00 órakor gyermek-szentmise\, utána agapé. Keretében az édesanyákat köszöntjük. \n * \nMinden helyen mindenkit szeretettel vár a közösség és Tibor atya! \n* \n \n* \nKegyelemteljes húsvéti napokat\, tartalmas beszélgetéseket és örömteli találkozásokat kívánunk minden Kedves Hívünknek! \n* \n„Isten azért teremtett minket és a világot\, mert szeret minket. \nMilyen szép és milyen nagyszerű\, hogy Istent megismerhetjük\, szerethetjük és őt szolgálhatjuk. \nEz a feladatunk ebben a világban. \nMinden más ezen kívül\, eltékozolt idő.” (Vianney Szent János\, 1786 – 1859) \n(Kép forrása: Pixabay)
URL:https://stuttgarti-katolikusok.de/index.php/esemeny/szentmise-stuttgartban-5/
LOCATION:Bruder Klaus Kirche\, Albert-Schäffle-Straße 30\, Stuttgart\, Baden-Württemberg\, 70186\, Németország
CATEGORIES:Szentmise
ATTACH;FMTTYPE=image/jpeg:https://stuttgarti-katolikusok.de/wp-content/uploads/2015/12/013__2_klaus.jpg
END:VEVENT
END:VCALENDAR