BEGIN:VCALENDAR
VERSION:2.0
PRODID:-//Stuttgarti Katolikusok - ECPv6.15.20//NONSGML v1.0//EN
CALSCALE:GREGORIAN
METHOD:PUBLISH
X-WR-CALNAME:Stuttgarti Katolikusok
X-ORIGINAL-URL:https://stuttgarti-katolikusok.de
X-WR-CALDESC:Események Stuttgarti Katolikusok
REFRESH-INTERVAL;VALUE=DURATION:PT1H
X-Robots-Tag:noindex
X-PUBLISHED-TTL:PT1H
BEGIN:VTIMEZONE
TZID:Europe/Berlin
BEGIN:DAYLIGHT
TZOFFSETFROM:+0100
TZOFFSETTO:+0200
TZNAME:CEST
DTSTART:20220327T010000
END:DAYLIGHT
BEGIN:STANDARD
TZOFFSETFROM:+0200
TZOFFSETTO:+0100
TZNAME:CET
DTSTART:20221030T010000
END:STANDARD
BEGIN:DAYLIGHT
TZOFFSETFROM:+0100
TZOFFSETTO:+0200
TZNAME:CEST
DTSTART:20230326T010000
END:DAYLIGHT
BEGIN:STANDARD
TZOFFSETFROM:+0200
TZOFFSETTO:+0100
TZNAME:CET
DTSTART:20231029T010000
END:STANDARD
BEGIN:DAYLIGHT
TZOFFSETFROM:+0100
TZOFFSETTO:+0200
TZNAME:CEST
DTSTART:20240331T010000
END:DAYLIGHT
BEGIN:STANDARD
TZOFFSETFROM:+0200
TZOFFSETTO:+0100
TZNAME:CET
DTSTART:20241027T010000
END:STANDARD
END:VTIMEZONE
BEGIN:VEVENT
DTSTART;TZID=Europe/Berlin:20230410T093000
DTEND;TZID=Europe/Berlin:20230410T103000
DTSTAMP:20260422T150641
CREATED:20230402T232517Z
LAST-MODIFIED:20230402T232517Z
UID:26583-1681119000-1681122600@stuttgarti-katolikusok.de
SUMMARY:Húsvéthétfő Stuttgartban
DESCRIPTION: * \n \nÁprilis 10-én\, Húsvéthétfő\, Stuttgartban 9.30 órakor szentmise. \n * \nMindenkit szeretettel vár a közösség és Tibor atya! \n* \n \n* \nKegyelemteljes Húsvétot kívánunk minden Kedves Hívünknek! \n* \n„A Húsvét a legnagyobb mélységeket és legnagyobb magasságokat megélő ünnepünk.” (Jókai Anna – költőnő – 1932-2017) \n(Képek forrása: Pixabay.com)
URL:https://stuttgarti-katolikusok.de/index.php/esemeny/husvethetfo-stuttgartban/
LOCATION:Bruder Klaus Kirche\, Albert-Schäffle-Straße 30\, Stuttgart\, Baden-Württemberg\, 70186\, Németország
CATEGORIES:Szentmise
ATTACH;FMTTYPE=image/jpeg:https://stuttgarti-katolikusok.de/wp-content/uploads/2015/12/013__2_klaus.jpg
END:VEVENT
BEGIN:VEVENT
DTSTART;TZID=Europe/Berlin:20230410T093000
DTEND;TZID=Europe/Berlin:20230410T103000
DTSTAMP:20260422T150641
CREATED:20240104T090900Z
LAST-MODIFIED:20240104T090900Z
UID:27798-1681119000-1681122600@stuttgarti-katolikusok.de
SUMMARY:Stuttgart - Húsvéthétfő
DESCRIPTION:
URL:https://stuttgarti-katolikusok.de/index.php/esemeny/stuttgart-husvethetfo-2/
LOCATION:Baden-Württemberg
CATEGORIES:Szentmisék helye és ideje
END:VEVENT
END:VCALENDAR