BEGIN:VCALENDAR
VERSION:2.0
PRODID:-//Stuttgarti Katolikusok - ECPv6.15.20//NONSGML v1.0//EN
CALSCALE:GREGORIAN
METHOD:PUBLISH
X-ORIGINAL-URL:https://stuttgarti-katolikusok.de
X-WR-CALDESC:Események Stuttgarti Katolikusok
REFRESH-INTERVAL;VALUE=DURATION:PT1H
X-Robots-Tag:noindex
X-PUBLISHED-TTL:PT1H
BEGIN:VTIMEZONE
TZID:Europe/Berlin
BEGIN:DAYLIGHT
TZOFFSETFROM:+0100
TZOFFSETTO:+0200
TZNAME:CEST
DTSTART:20220327T010000
END:DAYLIGHT
BEGIN:STANDARD
TZOFFSETFROM:+0200
TZOFFSETTO:+0100
TZNAME:CET
DTSTART:20221030T010000
END:STANDARD
BEGIN:DAYLIGHT
TZOFFSETFROM:+0100
TZOFFSETTO:+0200
TZNAME:CEST
DTSTART:20230326T010000
END:DAYLIGHT
BEGIN:STANDARD
TZOFFSETFROM:+0200
TZOFFSETTO:+0100
TZNAME:CET
DTSTART:20231029T010000
END:STANDARD
BEGIN:DAYLIGHT
TZOFFSETFROM:+0100
TZOFFSETTO:+0200
TZNAME:CEST
DTSTART:20240331T010000
END:DAYLIGHT
BEGIN:STANDARD
TZOFFSETFROM:+0200
TZOFFSETTO:+0100
TZNAME:CET
DTSTART:20241027T010000
END:STANDARD
END:VTIMEZONE
BEGIN:VEVENT
DTSTART;TZID=Europe/Berlin:20230407T150000
DTEND;TZID=Europe/Berlin:20230407T160000
DTSTAMP:20260422T150638
CREATED:20230208T072037Z
LAST-MODIFIED:20230210T112428Z
UID:25789-1680879600-1680883200@stuttgarti-katolikusok.de
SUMMARY:Weingarten - Nagypéntek
DESCRIPTION:
URL:https://stuttgarti-katolikusok.de/index.php/esemeny/weingarten-nagypentek-2/
LOCATION:Baden-Württemberg
CATEGORIES:Szentmisék helye és ideje
END:VEVENT
BEGIN:VEVENT
DTSTART;TZID=Europe/Berlin:20230407T150000
DTEND;TZID=Europe/Berlin:20230407T160000
DTSTAMP:20260422T150638
CREATED:20230402T224932Z
LAST-MODIFIED:20230402T225011Z
UID:26569-1680879600-1680883200@stuttgarti-katolikusok.de
SUMMARY:Nagypéntek Weingartenben
DESCRIPTION: * \n \nÁprilis 7-én\, Nagypéntek\, Weingartenben 15.00 órakor Urunk szenvedésének ünneplése a 14 Nothelfer Kapelle-ben. \n * \nMindenkit szeretettel vár a közösség és Tibor atya! \n* \n \n* \nKegyelemteljes Húsvétot kívánunk minden Kedves Hívünknek! \n* \n„A Húsvét a legnagyobb mélységeket és legnagyobb magasságokat megélő ünnepünk.” (Jókai Anna – költőnő – 1932-2017) \n(Képek forrása: Pixabay.com)
URL:https://stuttgarti-katolikusok.de/index.php/esemeny/nagypentek-weingartenben/
LOCATION:14 Nothelfer  Kapelle\, Ravensburger Str. 39\, Weingarten\, Baden-Württemberg\, 88250\, Németország
CATEGORIES:Szent Három Nap
ATTACH;FMTTYPE=image/jpeg:https://stuttgarti-katolikusok.de/wp-content/uploads/2015/12/Weingarten_Kapelle_14_Nothelfer.jpg
END:VEVENT
BEGIN:VEVENT
DTSTART;TZID=Europe/Berlin:20230407T180000
DTEND;TZID=Europe/Berlin:20230407T190000
DTSTAMP:20260422T150638
CREATED:20230402T225455Z
LAST-MODIFIED:20230402T225455Z
UID:26572-1680890400-1680894000@stuttgarti-katolikusok.de
SUMMARY:Nagypéntek Stuttgartban
DESCRIPTION: * \n \nÁprilis 7-én\, Nagypéntek\, Stuttgartban 18.00 órakor Urunk szenvedésének ünneplése. \n * \nMindenkit szeretettel vár a közösség és Tibor atya! \n* \n \n* \nKegyelemteljes Húsvétot kívánunk minden Kedves Hívünknek! \n* \n„A Húsvét a legnagyobb mélységeket és legnagyobb magasságokat megélő ünnepünk.” (Jókai Anna – költőnő – 1932-2017) \n(Képek forrása: Pixabay.com)
URL:https://stuttgarti-katolikusok.de/index.php/esemeny/nagypentek-stuttgartban/
LOCATION:Bruder Klaus Kirche\, Albert-Schäffle-Straße 30\, Stuttgart\, Baden-Württemberg\, 70186\, Németország
CATEGORIES:Szent Három Nap
ATTACH;FMTTYPE=image/jpeg:https://stuttgarti-katolikusok.de/wp-content/uploads/2015/12/013__2_klaus.jpg
END:VEVENT
BEGIN:VEVENT
DTSTART;TZID=Europe/Berlin:20230407T180000
DTEND;TZID=Europe/Berlin:20230407T190000
DTSTAMP:20260422T150638
CREATED:20240104T090858Z
LAST-MODIFIED:20240104T090858Z
UID:27793-1680890400-1680894000@stuttgarti-katolikusok.de
SUMMARY:Stuttgart - Nagypéntek
DESCRIPTION:
URL:https://stuttgarti-katolikusok.de/index.php/esemeny/stuttgart-nagypentek-4/
LOCATION:Baden-Württemberg
CATEGORIES:Szentmisék helye és ideje
END:VEVENT
END:VCALENDAR