BEGIN:VCALENDAR
VERSION:2.0
PRODID:-//Stuttgarti Katolikusok - ECPv6.15.20//NONSGML v1.0//EN
CALSCALE:GREGORIAN
METHOD:PUBLISH
X-WR-CALNAME:Stuttgarti Katolikusok
X-ORIGINAL-URL:https://stuttgarti-katolikusok.de
X-WR-CALDESC:Események Stuttgarti Katolikusok
REFRESH-INTERVAL;VALUE=DURATION:PT1H
X-Robots-Tag:noindex
X-PUBLISHED-TTL:PT1H
BEGIN:VTIMEZONE
TZID:Europe/Berlin
BEGIN:DAYLIGHT
TZOFFSETFROM:+0100
TZOFFSETTO:+0200
TZNAME:CEST
DTSTART:20220327T010000
END:DAYLIGHT
BEGIN:STANDARD
TZOFFSETFROM:+0200
TZOFFSETTO:+0100
TZNAME:CET
DTSTART:20221030T010000
END:STANDARD
BEGIN:DAYLIGHT
TZOFFSETFROM:+0100
TZOFFSETTO:+0200
TZNAME:CEST
DTSTART:20230326T010000
END:DAYLIGHT
BEGIN:STANDARD
TZOFFSETFROM:+0200
TZOFFSETTO:+0100
TZNAME:CET
DTSTART:20231029T010000
END:STANDARD
BEGIN:DAYLIGHT
TZOFFSETFROM:+0100
TZOFFSETTO:+0200
TZNAME:CEST
DTSTART:20240331T010000
END:DAYLIGHT
BEGIN:STANDARD
TZOFFSETFROM:+0200
TZOFFSETTO:+0100
TZNAME:CET
DTSTART:20241027T010000
END:STANDARD
END:VTIMEZONE
BEGIN:VEVENT
DTSTART;TZID=Europe/Berlin:20230401T160000
DTEND;TZID=Europe/Berlin:20230401T170000
DTSTAMP:20260422T113719
CREATED:20230208T072034Z
LAST-MODIFIED:20230210T112426Z
UID:25785-1680364800-1680368400@stuttgarti-katolikusok.de
SUMMARY:Balingen
DESCRIPTION:
URL:https://stuttgarti-katolikusok.de/index.php/esemeny/balingen-30/
LOCATION:Baden-Württemberg
CATEGORIES:Szentmisék helye és ideje
END:VEVENT
BEGIN:VEVENT
DTSTART;TZID=Europe/Berlin:20230401T160000
DTEND;TZID=Europe/Berlin:20230401T180000
DTSTAMP:20260422T113719
CREATED:20230327T205900Z
LAST-MODIFIED:20230327T205900Z
UID:26543-1680364800-1680372000@stuttgarti-katolikusok.de
SUMMARY:Szentmise Balingenben
DESCRIPTION:Április 1-jén\, szombaton\, Balingenben 16.00 órakor szentmise\, utána agapé. \nMindenkit szeretettel vár a közösség és Tibor atya! \n * \n \n* \nBensőséges nagyböjti napokat\, jó munkát\, tartalmas beszélgetéseket és örömteli találkozásokat kívánunk minden Kedves Hívünknek! \n* \n„Legyen elég neked Krisztus\, a Megfeszített. – Vele szenvedj\, vele pihenj\, nála nélkül se ne szenvedj\, se ne pihenj. Ha arra vágyódsz\, hogy Krisztust valóban elnyerd\, sohase keres őt keresztje nélkül. Aki nem keresi Krisztus keresztjét\, az nem keresi dicsőségét sem.” \n(Keresztes Szent János – keresztény misztikus teológus – 1542 – 1591) \n(Kép forrása: Pixabay) \n 
URL:https://stuttgarti-katolikusok.de/index.php/esemeny/szentmise-balingenben-2/
LOCATION:Sankt Paulus Kirche\, St. Paulus Str. 2\, Balingen-Frommern\, Baden-Württemberg\, 72336\, Németország
CATEGORIES:Szentmise
ATTACH;FMTTYPE=image/jpeg:https://stuttgarti-katolikusok.de/wp-content/uploads/2018/04/20180505_163840-e1764632638620.jpg
END:VEVENT
END:VCALENDAR