BEGIN:VCALENDAR
VERSION:2.0
PRODID:-//Stuttgarti Katolikusok - ECPv6.15.20//NONSGML v1.0//EN
CALSCALE:GREGORIAN
METHOD:PUBLISH
X-WR-CALNAME:Stuttgarti Katolikusok
X-ORIGINAL-URL:https://stuttgarti-katolikusok.de
X-WR-CALDESC:Események Stuttgarti Katolikusok
REFRESH-INTERVAL;VALUE=DURATION:PT1H
X-Robots-Tag:noindex
X-PUBLISHED-TTL:PT1H
BEGIN:VTIMEZONE
TZID:Europe/Berlin
BEGIN:DAYLIGHT
TZOFFSETFROM:+0100
TZOFFSETTO:+0200
TZNAME:CEST
DTSTART:20220327T010000
END:DAYLIGHT
BEGIN:STANDARD
TZOFFSETFROM:+0200
TZOFFSETTO:+0100
TZNAME:CET
DTSTART:20221030T010000
END:STANDARD
BEGIN:DAYLIGHT
TZOFFSETFROM:+0100
TZOFFSETTO:+0200
TZNAME:CEST
DTSTART:20230326T010000
END:DAYLIGHT
BEGIN:STANDARD
TZOFFSETFROM:+0200
TZOFFSETTO:+0100
TZNAME:CET
DTSTART:20231029T010000
END:STANDARD
BEGIN:DAYLIGHT
TZOFFSETFROM:+0100
TZOFFSETTO:+0200
TZNAME:CEST
DTSTART:20240331T010000
END:DAYLIGHT
BEGIN:STANDARD
TZOFFSETFROM:+0200
TZOFFSETTO:+0100
TZNAME:CET
DTSTART:20241027T010000
END:STANDARD
END:VTIMEZONE
BEGIN:VEVENT
DTSTART;TZID=Europe/Berlin:20230326T093000
DTEND;TZID=Europe/Berlin:20230326T103000
DTSTAMP:20260422T113717
CREATED:20230208T072033Z
LAST-MODIFIED:20230210T112424Z
UID:25783-1679823000-1679826600@stuttgarti-katolikusok.de
SUMMARY:Böblingen
DESCRIPTION:
URL:https://stuttgarti-katolikusok.de/index.php/esemeny/boblingen-13/
LOCATION:Baden-Württemberg
CATEGORIES:Szentmisék helye és ideje
END:VEVENT
BEGIN:VEVENT
DTSTART;TZID=Europe/Berlin:20230326T093000
DTEND;TZID=Europe/Berlin:20230326T113000
DTSTAMP:20260422T113717
CREATED:20230320T234454Z
LAST-MODIFIED:20230320T234454Z
UID:26497-1679823000-1679830200@stuttgarti-katolikusok.de
SUMMARY:Szentmise Böblingenben
DESCRIPTION:Március 26-án\, Nagyböjt 5. vasárnapja\, Böblingenben 9.30 órakor szentmise\, keretében kiszolgáltatom a szentkenet szentségét. Utána agapé. \nMindenkit szeretettel vár a közösség és Tibor atya! \n * \n \n* \nBensőséges nagyböjti napokat\, jó munkát\, tartalmas beszélgetéseket és örömteli találkozásokat kívánunk minden Kedves Hívünknek! \n* \n„Szent Pál arra figyelmeztet\, hogy amikor Jézus testét magunkhoz vesszük – az Úr halálát hirdetjük. A mi keresztény életünk tápláléka tehát Jézus Krisztus halálából fakad. De nekünk is meg kell halnunk Krisztussal\, hogy isteni életünk legyen” (Mindszenty József – bíboros-hercegprímás – 1892 – 1975) \n(Kép forrása: Pixabay)
URL:https://stuttgarti-katolikusok.de/index.php/esemeny/szentmise-boblingenben-2/
LOCATION:St. Bonifatius Kirche\, Sindelfinger Str. 14\, Böblingen\, Baden-Württemberg\, 71032\, Németország
CATEGORIES:Szentmise
ATTACH;FMTTYPE=image/jpeg:https://stuttgarti-katolikusok.de/wp-content/uploads/2021/11/boblingen.jpeg
END:VEVENT
BEGIN:VEVENT
DTSTART;TZID=Europe/Berlin:20230326T153000
DTEND;TZID=Europe/Berlin:20230326T163000
DTSTAMP:20260422T113717
CREATED:20230208T072034Z
LAST-MODIFIED:20230210T112425Z
UID:25784-1679844600-1679848200@stuttgarti-katolikusok.de
SUMMARY:Heilbronn
DESCRIPTION:
URL:https://stuttgarti-katolikusok.de/index.php/esemeny/heilbronn-14/
LOCATION:Baden-Württemberg
CATEGORIES:Szentmisék helye és ideje
END:VEVENT
BEGIN:VEVENT
DTSTART;TZID=Europe/Berlin:20230326T153000
DTEND;TZID=Europe/Berlin:20230326T173000
DTSTAMP:20260422T113717
CREATED:20230320T234936Z
LAST-MODIFIED:20230320T234936Z
UID:26499-1679844600-1679851800@stuttgarti-katolikusok.de
SUMMARY:Szentmise Heilbronnban
DESCRIPTION:Március 26-án\, Nagyböjt 5. vasárnapja\, Heilbronnban 15.30 órakor szentmise\, keretében a szentkenet szentségének kiszolgáltatása\, utána agapé. \nMindenkit szeretettel vár a közösség és Tibor atya! \n * \n \n* \nBensőséges nagyböjti napokat\, jó munkát\, tartalmas beszélgetéseket és örömteli találkozásokat kívánunk minden Kedves Hívünknek! \n* \n„Szent Pál arra figyelmeztet\, hogy amikor Jézus testét magunkhoz vesszük – az Úr halálát hirdetjük. A mi keresztény életünk tápláléka tehát Jézus Krisztus halálából fakad. De nekünk is meg kell halnunk Krisztussal\, hogy isteni életünk legyen” (Mindszenty József – bíboros-hercegprímás – 1892 – 1975) \n(Kép forrása: Pixabay)
URL:https://stuttgarti-katolikusok.de/index.php/esemeny/szentmise-heilbronnban-2/
LOCATION:Heilig Geist Kirche\, Heilbronner-Weg 17\, Heilbronn-Horkheim\, Baden-Württemberg\, 74081\, Németország
CATEGORIES:Szentmise
ATTACH;FMTTYPE=image/jpeg:https://stuttgarti-katolikusok.de/wp-content/uploads/2021/05/heiliggeist-aussenansicht.jpg
END:VEVENT
END:VCALENDAR