BEGIN:VCALENDAR
VERSION:2.0
PRODID:-//Stuttgarti Katolikusok - ECPv6.15.20//NONSGML v1.0//EN
CALSCALE:GREGORIAN
METHOD:PUBLISH
X-ORIGINAL-URL:https://stuttgarti-katolikusok.de
X-WR-CALDESC:Események Stuttgarti Katolikusok
REFRESH-INTERVAL;VALUE=DURATION:PT1H
X-Robots-Tag:noindex
X-PUBLISHED-TTL:PT1H
BEGIN:VTIMEZONE
TZID:Europe/Berlin
BEGIN:DAYLIGHT
TZOFFSETFROM:+0100
TZOFFSETTO:+0200
TZNAME:CEST
DTSTART:20220327T010000
END:DAYLIGHT
BEGIN:STANDARD
TZOFFSETFROM:+0200
TZOFFSETTO:+0100
TZNAME:CET
DTSTART:20221030T010000
END:STANDARD
BEGIN:DAYLIGHT
TZOFFSETFROM:+0100
TZOFFSETTO:+0200
TZNAME:CEST
DTSTART:20230326T010000
END:DAYLIGHT
BEGIN:STANDARD
TZOFFSETFROM:+0200
TZOFFSETTO:+0100
TZNAME:CET
DTSTART:20231029T010000
END:STANDARD
BEGIN:DAYLIGHT
TZOFFSETFROM:+0100
TZOFFSETTO:+0200
TZNAME:CEST
DTSTART:20240331T010000
END:DAYLIGHT
BEGIN:STANDARD
TZOFFSETFROM:+0200
TZOFFSETTO:+0100
TZNAME:CET
DTSTART:20241027T010000
END:STANDARD
END:VTIMEZONE
BEGIN:VEVENT
DTSTART;TZID=Europe/Berlin:20230226T093000
DTEND;TZID=Europe/Berlin:20230226T103000
DTSTAMP:20260422T100319
CREATED:20230208T072025Z
LAST-MODIFIED:20230210T112416Z
UID:25770-1677403800-1677407400@stuttgarti-katolikusok.de
SUMMARY:Böblingen
DESCRIPTION:
URL:https://stuttgarti-katolikusok.de/index.php/esemeny/boblingen-12/
LOCATION:Baden-Württemberg
CATEGORIES:Szentmisék helye és ideje
END:VEVENT
BEGIN:VEVENT
DTSTART;TZID=Europe/Berlin:20230226T093000
DTEND;TZID=Europe/Berlin:20230226T113000
DTSTAMP:20260422T100319
CREATED:20230221T070927Z
LAST-MODIFIED:20230221T070927Z
UID:26343-1677403800-1677411000@stuttgarti-katolikusok.de
SUMMARY:Szentmise Böblingenben
DESCRIPTION:Február 26-án\, Nagyböjt 1. vasárnapja\, Böblingenben 9.30 órakor szentmise\, keretében hamvazás\, utána agapé. \nMindenkit szeretettel vár a közösség és Tibor atya! \n* \n \n* \nBensőséges nagyböjti napokat\, jó munkát\, tartalmas beszélgetéseket és örömteli találkozásokat kívánunk minden Kedves Hívünknek! \n* \n„Gyáva a szívem. Az imák az Égben összeérnek. Uram. Valahogy már késő. Nem tudom rád bízni magam. Noha nem akarom csüggedten tudomásul venni – se magamat\, se a bűnösségemet\, se téged. De be se akarok csapni senkit. Legföljebb téged. Az ima a szív emlékezetének gyakori ébresztgetése. Gyakrabban kell emlékezni Istenre\, mint ahogyan lélegzetet veszünk. Irgalom Atyja\, ne hagyj el. Hogyan tovább? Erre várok tőled választ\, mert ez az én kérdésem. Úgy szoktál válaszolni\, hogy nem válaszolsz. Szépen tudsz hallgatni\, Uram. Ha kérdezlek\, hallgatsz\, és ha már nincs több kérdés\, az lesz az igazi válasz. Mégis most azt kérdem\, mi végre. Ki vagy Te\, Uram\, és ki vagyok én? Tudom\, rossz kérdés. Engedj látnom. Árva szívem holt erét töltsd meg\, égi Jóság.” (Esterházy Péter\, író – 1950-2016) \n(Kép forrása: Pixabay)
URL:https://stuttgarti-katolikusok.de/index.php/esemeny/szentmise-boblingenben/
LOCATION:St. Bonifatius Kirche\, Sindelfinger Str. 14\, Böblingen\, Baden-Württemberg\, 71032\, Németország
CATEGORIES:Szentmise
ATTACH;FMTTYPE=image/jpeg:https://stuttgarti-katolikusok.de/wp-content/uploads/2021/11/boblingen.jpeg
END:VEVENT
BEGIN:VEVENT
DTSTART;TZID=Europe/Berlin:20230226T153000
DTEND;TZID=Europe/Berlin:20230226T163000
DTSTAMP:20260422T100319
CREATED:20230208T072026Z
LAST-MODIFIED:20230210T112416Z
UID:25771-1677425400-1677429000@stuttgarti-katolikusok.de
SUMMARY:Heilbronn
DESCRIPTION:
URL:https://stuttgarti-katolikusok.de/index.php/esemeny/heilbronn-13/
LOCATION:Baden-Württemberg
CATEGORIES:Szentmisék helye és ideje
END:VEVENT
BEGIN:VEVENT
DTSTART;TZID=Europe/Berlin:20230226T153000
DTEND;TZID=Europe/Berlin:20230226T173000
DTSTAMP:20260422T100319
CREATED:20230221T071249Z
LAST-MODIFIED:20230221T071249Z
UID:26345-1677425400-1677432600@stuttgarti-katolikusok.de
SUMMARY:Szentmise Heilbronnban
DESCRIPTION:Február 26-án\, Nagyböjt 1. vasárnapja\, Heilbronnban 15.30 órakor szentmise\, keretében hamvazás\, utána agapé. \nMindenkit szeretettel vár a közösség és Tibor atya! \n* \n \n* \nBensőséges nagyböjti napokat\, jó munkát\, tartalmas beszélgetéseket és örömteli találkozásokat kívánunk minden Kedves Hívünknek! \n* \n„Gyáva a szívem. Az imák az Égben összeérnek. Uram. Valahogy már késő. Nem tudom rád bízni magam. Noha nem akarom csüggedten tudomásul venni – se magamat\, se a bűnösségemet\, se téged. De be se akarok csapni senkit. Legföljebb téged. Az ima a szív emlékezetének gyakori ébresztgetése. Gyakrabban kell emlékezni Istenre\, mint ahogyan lélegzetet veszünk. Irgalom Atyja\, ne hagyj el. Hogyan tovább? Erre várok tőled választ\, mert ez az én kérdésem. Úgy szoktál válaszolni\, hogy nem válaszolsz. Szépen tudsz hallgatni\, Uram. Ha kérdezlek\, hallgatsz\, és ha már nincs több kérdés\, az lesz az igazi válasz. Mégis most azt kérdem\, mi végre. Ki vagy Te\, Uram\, és ki vagyok én? Tudom\, rossz kérdés. Engedj látnom. Árva szívem holt erét töltsd meg\, égi Jóság.” (Esterházy Péter\, író – 1950-2016) \n(Kép forrása: Pixabay)
URL:https://stuttgarti-katolikusok.de/index.php/esemeny/szentmise-heilbronnban/
LOCATION:Heilig Geist Kirche\, Heilbronner-Weg 17\, Heilbronn-Horkheim\, Baden-Württemberg\, 74081\, Németország
CATEGORIES:Szentmise
ATTACH;FMTTYPE=image/jpeg:https://stuttgarti-katolikusok.de/wp-content/uploads/2021/05/heiliggeist-aussenansicht.jpg
END:VEVENT
END:VCALENDAR