BEGIN:VCALENDAR
VERSION:2.0
PRODID:-//Stuttgarti Katolikusok - ECPv6.15.20//NONSGML v1.0//EN
CALSCALE:GREGORIAN
METHOD:PUBLISH
X-ORIGINAL-URL:https://stuttgarti-katolikusok.de
X-WR-CALDESC:Események Stuttgarti Katolikusok
REFRESH-INTERVAL;VALUE=DURATION:PT1H
X-Robots-Tag:noindex
X-PUBLISHED-TTL:PT1H
BEGIN:VTIMEZONE
TZID:Europe/Berlin
BEGIN:DAYLIGHT
TZOFFSETFROM:+0100
TZOFFSETTO:+0200
TZNAME:CEST
DTSTART:20220327T010000
END:DAYLIGHT
BEGIN:STANDARD
TZOFFSETFROM:+0200
TZOFFSETTO:+0100
TZNAME:CET
DTSTART:20221030T010000
END:STANDARD
BEGIN:DAYLIGHT
TZOFFSETFROM:+0100
TZOFFSETTO:+0200
TZNAME:CEST
DTSTART:20230326T010000
END:DAYLIGHT
BEGIN:STANDARD
TZOFFSETFROM:+0200
TZOFFSETTO:+0100
TZNAME:CET
DTSTART:20231029T010000
END:STANDARD
BEGIN:DAYLIGHT
TZOFFSETFROM:+0100
TZOFFSETTO:+0200
TZNAME:CEST
DTSTART:20240331T010000
END:DAYLIGHT
BEGIN:STANDARD
TZOFFSETFROM:+0200
TZOFFSETTO:+0100
TZNAME:CET
DTSTART:20241027T010000
END:STANDARD
END:VTIMEZONE
BEGIN:VEVENT
DTSTART;TZID=Europe/Berlin:20230122T093000
DTEND;TZID=Europe/Berlin:20230122T103000
DTSTAMP:20260422T080904
CREATED:20230208T072017Z
LAST-MODIFIED:20230208T073220Z
UID:25755-1674379800-1674383400@stuttgarti-katolikusok.de
SUMMARY:B0blingen
DESCRIPTION:
URL:https://stuttgarti-katolikusok.de/index.php/esemeny/b0blingen-2/
LOCATION:Baden-Württemberg
CATEGORIES:Szentmisék helye és ideje
END:VEVENT
BEGIN:VEVENT
DTSTART;TZID=Europe/Berlin:20230122T093000
DTEND;TZID=Europe/Berlin:20230122T113000
DTSTAMP:20260422T080904
CREATED:20230116T003103Z
LAST-MODIFIED:20230116T003103Z
UID:24314-1674379800-1674387000@stuttgarti-katolikusok.de
SUMMARY:Szentmise Böblingenben
DESCRIPTION:Január 22-án\, Évközi 3. vasárnap\, Böblingenben 9.30 órakor szentmise\, utána agapé. \nMindenkit szeretettel vár a közösség és Tibor atya! \n* \n \nBensőséges és kellemes újévi napokat\, jó találkozásokat és sok örömet kívánok minden kedves Hívemnek. \n* \nSZABADULJ MEG ÖNMAGADTÓL \nMinden oldalról önmagaddal \nveszed körül magad. \nS hogy megszabadulj önmagadtól\, \nhidat kell építened egyedülléted \npilléreire\, melyeket önzésed alkotott. \nPróbáld meg\, tekints ki önmagadból\, \nkeress valakit\, hallgasd meg őt\, \nés mindenekelőtt szeress valakit\, \nahelyett\, hogy önmagaddal foglalkoznál. \n  \nS ha létezni akarsz\, \nbocsáss meg nekem\, \nmeg kell szabadulnod legelőször is \na birtoklás vágyától\, \nmely betölti testedet-lelkedet\, \negész valódat annyira\, \nhogy miatta nem jut hely szívedben \nmagad számára is\, \ns még kevésbé az Istennek. \n(Helder Camara – 1909-1999 – érsek) \n(Képek forrása: pixabay.com)
URL:https://stuttgarti-katolikusok.de/index.php/esemeny/szentmise-boblingenben-49/
LOCATION:St. Bonifatius Kirche\, Sindelfinger Str. 14\, Böblingen\, Baden-Württemberg\, 71032\, Németország
CATEGORIES:Szentmise
ATTACH;FMTTYPE=image/jpeg:https://stuttgarti-katolikusok.de/wp-content/uploads/2021/11/boblingen.jpeg
END:VEVENT
BEGIN:VEVENT
DTSTART;TZID=Europe/Berlin:20230122T153000
DTEND;TZID=Europe/Berlin:20230122T163000
DTSTAMP:20260422T080904
CREATED:20230208T072017Z
LAST-MODIFIED:20230208T073221Z
UID:25756-1674401400-1674405000@stuttgarti-katolikusok.de
SUMMARY:Heilbronn
DESCRIPTION:
URL:https://stuttgarti-katolikusok.de/index.php/esemeny/heilbronn-12/
LOCATION:Baden-Württemberg
CATEGORIES:Szentmisék helye és ideje
END:VEVENT
BEGIN:VEVENT
DTSTART;TZID=Europe/Berlin:20230122T153000
DTEND;TZID=Europe/Berlin:20230122T173000
DTSTAMP:20260422T080904
CREATED:20230116T003416Z
LAST-MODIFIED:20230116T003416Z
UID:24316-1674401400-1674408600@stuttgarti-katolikusok.de
SUMMARY:Szentmise Heilbronnban
DESCRIPTION:Január 22-án\, Évközi 3. vasárnap\, Heilbronnban 15.30 órakor szentmise\, utána agapé. \nMindenkit szeretettel vár a közösség és Tibor atya! \n* \n \nBensőséges és kellemes újévi napokat\, jó találkozásokat és sok örömet kívánok minden kedves Hívemnek. \n* \nSZABADULJ MEG ÖNMAGADTÓL \nMinden oldalról önmagaddal \nveszed körül magad. \nS hogy megszabadulj önmagadtól\, \nhidat kell építened egyedülléted \npilléreire\, melyeket önzésed alkotott. \nPróbáld meg\, tekints ki önmagadból\, \nkeress valakit\, hallgasd meg őt\, \nés mindenekelőtt szeress valakit\, \nahelyett\, hogy önmagaddal foglalkoznál. \n  \nS ha létezni akarsz\, \nbocsáss meg nekem\, \nmeg kell szabadulnod legelőször is \na birtoklás vágyától\, \nmely betölti testedet-lelkedet\, \negész valódat annyira\, \nhogy miatta nem jut hely szívedben \nmagad számára is\, \ns még kevésbé az Istennek. \n(Helder Camara – 1909-1999 – érsek) \n(Képek forrása: pixabay.com)
URL:https://stuttgarti-katolikusok.de/index.php/esemeny/szentmise-heilbronnban-51/
LOCATION:Heilig Geist Kirche\, Heilbronner-Weg 17\, Heilbronn-Horkheim\, Baden-Württemberg\, 74081\, Németország
CATEGORIES:Szentmise
ATTACH;FMTTYPE=image/jpeg:https://stuttgarti-katolikusok.de/wp-content/uploads/2021/05/heiliggeist-aussenansicht.jpg
END:VEVENT
END:VCALENDAR