BEGIN:VCALENDAR
VERSION:2.0
PRODID:-//Stuttgarti Katolikusok - ECPv6.15.20//NONSGML v1.0//EN
CALSCALE:GREGORIAN
METHOD:PUBLISH
X-ORIGINAL-URL:https://stuttgarti-katolikusok.de
X-WR-CALDESC:Események Stuttgarti Katolikusok
REFRESH-INTERVAL;VALUE=DURATION:PT1H
X-Robots-Tag:noindex
X-PUBLISHED-TTL:PT1H
BEGIN:VTIMEZONE
TZID:Europe/Berlin
BEGIN:DAYLIGHT
TZOFFSETFROM:+0100
TZOFFSETTO:+0200
TZNAME:CEST
DTSTART:20220327T010000
END:DAYLIGHT
BEGIN:STANDARD
TZOFFSETFROM:+0200
TZOFFSETTO:+0100
TZNAME:CET
DTSTART:20221030T010000
END:STANDARD
BEGIN:DAYLIGHT
TZOFFSETFROM:+0100
TZOFFSETTO:+0200
TZNAME:CEST
DTSTART:20230326T010000
END:DAYLIGHT
BEGIN:STANDARD
TZOFFSETFROM:+0200
TZOFFSETTO:+0100
TZNAME:CET
DTSTART:20231029T010000
END:STANDARD
BEGIN:DAYLIGHT
TZOFFSETFROM:+0100
TZOFFSETTO:+0200
TZNAME:CEST
DTSTART:20240331T010000
END:DAYLIGHT
BEGIN:STANDARD
TZOFFSETFROM:+0200
TZOFFSETTO:+0100
TZNAME:CET
DTSTART:20241027T010000
END:STANDARD
END:VTIMEZONE
BEGIN:VEVENT
DTSTART;TZID=Europe/Berlin:20230119T173000
DTEND;TZID=Europe/Berlin:20230119T190000
DTSTAMP:20260422T080903
CREATED:20230116T002135Z
LAST-MODIFIED:20230116T002546Z
UID:24307-1674149400-1674154800@stuttgarti-katolikusok.de
SUMMARY:Weingarteni délután
DESCRIPTION:Január 19-én\, csütörtökön\, Weingarteni délután. 18 órakor szentmise a 14 Nothelfer Kapelle-ben\, előtte rózsafüzért imádkozunk. \nMindenkit szeretettel vár a közösség és Tibor atya! \n* \n \nBensőséges és kellemes újévi napokat\, jó találkozásokat és sok örömet kívánok minden kedves Hívemnek. \n* \nSZABADULJ MEG ÖNMAGADTÓL \nMinden oldalról önmagaddal \nveszed körül magad. \nS hogy megszabadulj önmagadtól\, \nhidat kell építened egyedülléted \npilléreire\, melyeket önzésed alkotott. \nPróbáld meg\, tekints ki önmagadból\, \nkeress valakit\, hallgasd meg őt\, \nés mindenekelőtt szeress valakit\, \nahelyett\, hogy önmagaddal foglalkoznál. \n  \nS ha létezni akarsz\, \nbocsáss meg nekem\, \nmeg kell szabadulnod legelőször is \na birtoklás vágyától\, \nmely betölti testedet-lelkedet\, \negész valódat annyira\, \nhogy miatta nem jut hely szívedben \nmagad számára is\, \ns még kevésbé az Istennek. \n(Helder Camara – 1909-1999 – érsek) \n(Képek forrása: pixabay.com)
URL:https://stuttgarti-katolikusok.de/index.php/esemeny/weingarteni-delutan-177/
LOCATION:14 Nothelfer  Kapelle\, Ravensburger Str. 39\, Weingarten\, Baden-Württemberg\, 88250\, Németország
CATEGORIES:Weingarteni délután
ATTACH;FMTTYPE=image/jpeg:https://stuttgarti-katolikusok.de/wp-content/uploads/2015/12/Weingarten_Kapelle_14_Nothelfer.jpg
END:VEVENT
END:VCALENDAR