BEGIN:VCALENDAR
VERSION:2.0
PRODID:-//Stuttgarti Katolikusok - ECPv6.15.20//NONSGML v1.0//EN
CALSCALE:GREGORIAN
METHOD:PUBLISH
X-ORIGINAL-URL:https://stuttgarti-katolikusok.de
X-WR-CALDESC:Események Stuttgarti Katolikusok
REFRESH-INTERVAL;VALUE=DURATION:PT1H
X-Robots-Tag:noindex
X-PUBLISHED-TTL:PT1H
BEGIN:VTIMEZONE
TZID:Europe/Berlin
BEGIN:DAYLIGHT
TZOFFSETFROM:+0100
TZOFFSETTO:+0200
TZNAME:CEST
DTSTART:20220327T010000
END:DAYLIGHT
BEGIN:STANDARD
TZOFFSETFROM:+0200
TZOFFSETTO:+0100
TZNAME:CET
DTSTART:20221030T010000
END:STANDARD
BEGIN:DAYLIGHT
TZOFFSETFROM:+0100
TZOFFSETTO:+0200
TZNAME:CEST
DTSTART:20230326T010000
END:DAYLIGHT
BEGIN:STANDARD
TZOFFSETFROM:+0200
TZOFFSETTO:+0100
TZNAME:CET
DTSTART:20231029T010000
END:STANDARD
BEGIN:DAYLIGHT
TZOFFSETFROM:+0100
TZOFFSETTO:+0200
TZNAME:CEST
DTSTART:20240331T010000
END:DAYLIGHT
BEGIN:STANDARD
TZOFFSETFROM:+0200
TZOFFSETTO:+0100
TZNAME:CET
DTSTART:20241027T010000
END:STANDARD
END:VTIMEZONE
BEGIN:VEVENT
DTSTART;TZID=Europe/Berlin:20230115T113000
DTEND;TZID=Europe/Berlin:20230115T123000
DTSTAMP:20260422T080958
CREATED:20230208T072015Z
LAST-MODIFIED:20230208T073219Z
UID:25752-1673782200-1673785800@stuttgarti-katolikusok.de
SUMMARY:Stuttgart
DESCRIPTION:
URL:https://stuttgarti-katolikusok.de/index.php/esemeny/stuttgart-44/
LOCATION:Baden-Württemberg
CATEGORIES:Szentmisék helye és ideje
END:VEVENT
BEGIN:VEVENT
DTSTART;TZID=Europe/Berlin:20230115T113000
DTEND;TZID=Europe/Berlin:20230115T140000
DTSTAMP:20260422T080958
CREATED:20230109T104346Z
LAST-MODIFIED:20230109T104346Z
UID:24291-1673782200-1673791200@stuttgarti-katolikusok.de
SUMMARY:Szentmise Stuttgartban
DESCRIPTION:Január 15-én\, Évközi 2. vasárnap\, Stuttgartban 11.30 órakor gyermek-szentmise\, utána agapé. \nMindenkit szeretettel vár a közösség és Tibor atya! \n \n(Kép forrása: Németi Gergely) \nBensőséges és kellemes újévi napokat\, jó találkozásokat és sok örömet kívánok minden kedves Hívemnek. \n* \n„Az ismeretlen idővel\, eseményekkel\, feladatokkal\, sorssal állunk szemben. Nem tudjuk\, hogy a jövő̋ ködében elrejtett napok mit hoznak magukkal. (…) A földi dolgok arculatát a mulandóság úgy emészti\, mint moly a ruhát és rozsda a vasat. Az emberi vállalkozások is azt igazolják napról-napra\, amit már a királyi zsoltáros megtapasztalt: „Ha az Úr nem építi a házat\, hiába fáradnak\, akik építik azt.” (Zsolt 126\,1) Ezért mi vessük bizalmunkat az Istenbe\, és a jelenvaló́ gondokat az ő mindenható́ segítségében bízva vegyük magunkra hittel és jó reménységgel.” (Márton Áron – Újévi körlevél 1948)
URL:https://stuttgarti-katolikusok.de/index.php/esemeny/szentmise-stuttgartban-110/
LOCATION:Bruder Klaus Kirche\, Albert-Schäffle-Straße 30\, Stuttgart\, Baden-Württemberg\, 70186\, Németország
CATEGORIES:Szentmise
ATTACH;FMTTYPE=image/jpeg:https://stuttgarti-katolikusok.de/wp-content/uploads/2015/12/013__2_klaus.jpg
END:VEVENT
BEGIN:VEVENT
DTSTART;TZID=Europe/Berlin:20230115T153000
DTEND;TZID=Europe/Berlin:20230115T163000
DTSTAMP:20260422T080958
CREATED:20230208T072016Z
LAST-MODIFIED:20230208T073219Z
UID:25753-1673796600-1673800200@stuttgarti-katolikusok.de
SUMMARY:Eislingen
DESCRIPTION:
URL:https://stuttgarti-katolikusok.de/index.php/esemeny/eislingen-9/
LOCATION:Baden-Württemberg
CATEGORIES:Szentmisék helye és ideje
END:VEVENT
BEGIN:VEVENT
DTSTART;TZID=Europe/Berlin:20230115T153000
DTEND;TZID=Europe/Berlin:20230115T180000
DTSTAMP:20260422T080958
CREATED:20230109T104558Z
LAST-MODIFIED:20230109T104558Z
UID:24293-1673796600-1673805600@stuttgarti-katolikusok.de
SUMMARY:Szentmise Eislingenben
DESCRIPTION:Január 15-én\, Évközi 2. vasárnap\, Eislingenben 15.30 órakor szentmise\, utána agapé. \nMindenkit szeretettel vár a közösség és Tibor atya! \n \n(Kép forrása: Németi Gergely) \nBensőséges és kellemes újévi napokat\, jó találkozásokat és sok örömet kívánok minden kedves Hívemnek. \n* \n„Az ismeretlen idővel\, eseményekkel\, feladatokkal\, sorssal állunk szemben. Nem tudjuk\, hogy a jövő̋ ködében elrejtett napok mit hoznak magukkal. (…) A földi dolgok arculatát a mulandóság úgy emészti\, mint moly a ruhát és rozsda a vasat. Az emberi vállalkozások is azt igazolják napról-napra\, amit már a királyi zsoltáros megtapasztalt: „Ha az Úr nem építi a házat\, hiába fáradnak\, akik építik azt.” (Zsolt 126\,1) Ezért mi vessük bizalmunkat az Istenbe\, és a jelenvaló́ gondokat az ő mindenható́ segítségében bízva vegyük magunkra hittel és jó reménységgel.” (Márton Áron – Újévi körlevél 1948)
URL:https://stuttgarti-katolikusok.de/index.php/esemeny/szentmise-eislingenben-53/
LOCATION:Liebfrauen-Kirche\, Eberhardt Str. 30\, Eislingen/Fils\, Baden-Württemberg\, 73054\, Németország
CATEGORIES:Szentmise
END:VEVENT
END:VCALENDAR