BEGIN:VCALENDAR
VERSION:2.0
PRODID:-//Stuttgarti Katolikusok - ECPv6.15.20//NONSGML v1.0//EN
CALSCALE:GREGORIAN
METHOD:PUBLISH
X-ORIGINAL-URL:https://stuttgarti-katolikusok.de
X-WR-CALDESC:Események Stuttgarti Katolikusok
REFRESH-INTERVAL;VALUE=DURATION:PT1H
X-Robots-Tag:noindex
X-PUBLISHED-TTL:PT1H
BEGIN:VTIMEZONE
TZID:Europe/Berlin
BEGIN:DAYLIGHT
TZOFFSETFROM:+0100
TZOFFSETTO:+0200
TZNAME:CEST
DTSTART:20220327T010000
END:DAYLIGHT
BEGIN:STANDARD
TZOFFSETFROM:+0200
TZOFFSETTO:+0100
TZNAME:CET
DTSTART:20221030T010000
END:STANDARD
BEGIN:DAYLIGHT
TZOFFSETFROM:+0100
TZOFFSETTO:+0200
TZNAME:CEST
DTSTART:20230326T010000
END:DAYLIGHT
BEGIN:STANDARD
TZOFFSETFROM:+0200
TZOFFSETTO:+0100
TZNAME:CET
DTSTART:20231029T010000
END:STANDARD
BEGIN:DAYLIGHT
TZOFFSETFROM:+0100
TZOFFSETTO:+0200
TZNAME:CEST
DTSTART:20240331T010000
END:DAYLIGHT
BEGIN:STANDARD
TZOFFSETFROM:+0200
TZOFFSETTO:+0100
TZNAME:CET
DTSTART:20241027T010000
END:STANDARD
END:VTIMEZONE
BEGIN:VEVENT
DTSTART;TZID=Europe/Berlin:20230114T164500
DTEND;TZID=Europe/Berlin:20230114T174500
DTSTAMP:20260422T080903
CREATED:20230208T072014Z
LAST-MODIFIED:20230208T073218Z
UID:25751-1673714700-1673718300@stuttgarti-katolikusok.de
SUMMARY:Biberach
DESCRIPTION:
URL:https://stuttgarti-katolikusok.de/index.php/esemeny/biberach-23/
LOCATION:Baden-Württemberg
CATEGORIES:Szentmisék helye és ideje
END:VEVENT
BEGIN:VEVENT
DTSTART;TZID=Europe/Berlin:20230114T164500
DTEND;TZID=Europe/Berlin:20230114T190000
DTSTAMP:20260422T080903
CREATED:20230109T104127Z
LAST-MODIFIED:20230109T104127Z
UID:24289-1673714700-1673722800@stuttgarti-katolikusok.de
SUMMARY:Szentmise Biberachban
DESCRIPTION:Január 14-én\, szombaton\, Biberachban 16.45 órakor szentmise\, utána agapé. \nMindenkit szeretettel vár a közösség és Tibor atya! \n \n(Kép forrása: Németi Gergely) \nBensőséges és kellemes újévi napokat\, jó találkozásokat és sok örömet kívánok minden kedves Hívemnek. \n* \n„Az ismeretlen idővel\, eseményekkel\, feladatokkal\, sorssal állunk szemben. Nem tudjuk\, hogy a jövő̋ ködében elrejtett napok mit hoznak magukkal. (…) A földi dolgok arculatát a mulandóság úgy emészti\, mint moly a ruhát és rozsda a vasat. Az emberi vállalkozások is azt igazolják napról-napra\, amit már a királyi zsoltáros megtapasztalt: „Ha az Úr nem építi a házat\, hiába fáradnak\, akik építik azt.” (Zsolt 126\,1) Ezért mi vessük bizalmunkat az Istenbe\, és a jelenvaló́ gondokat az ő mindenható́ segítségében bízva vegyük magunkra hittel és jó reménységgel.” (Márton Áron – Újévi körlevél 1948)
URL:https://stuttgarti-katolikusok.de/index.php/esemeny/szentmise-biberachban-55/
LOCATION:Dreifaltigkeitskirche Biberach\, Mittelbergstr. 29\, Biberach an der Riß\, Baden Württemberg\, 88400\, Németország
CATEGORIES:Szentmise
ATTACH;FMTTYPE=image/jpeg:https://stuttgarti-katolikusok.de/wp-content/uploads/2020/05/dreifeltigskeit-bc.jpg
END:VEVENT
END:VCALENDAR