BEGIN:VCALENDAR
VERSION:2.0
PRODID:-//Stuttgarti Katolikusok - ECPv6.15.20//NONSGML v1.0//EN
CALSCALE:GREGORIAN
METHOD:PUBLISH
X-WR-CALNAME:Stuttgarti Katolikusok
X-ORIGINAL-URL:https://stuttgarti-katolikusok.de
X-WR-CALDESC:Események Stuttgarti Katolikusok
REFRESH-INTERVAL;VALUE=DURATION:PT1H
X-Robots-Tag:noindex
X-PUBLISHED-TTL:PT1H
BEGIN:VTIMEZONE
TZID:Europe/Berlin
BEGIN:DAYLIGHT
TZOFFSETFROM:+0100
TZOFFSETTO:+0200
TZNAME:CEST
DTSTART:20220327T010000
END:DAYLIGHT
BEGIN:STANDARD
TZOFFSETFROM:+0200
TZOFFSETTO:+0100
TZNAME:CET
DTSTART:20221030T010000
END:STANDARD
BEGIN:DAYLIGHT
TZOFFSETFROM:+0100
TZOFFSETTO:+0200
TZNAME:CEST
DTSTART:20230326T010000
END:DAYLIGHT
BEGIN:STANDARD
TZOFFSETFROM:+0200
TZOFFSETTO:+0100
TZNAME:CET
DTSTART:20231029T010000
END:STANDARD
BEGIN:DAYLIGHT
TZOFFSETFROM:+0100
TZOFFSETTO:+0200
TZNAME:CEST
DTSTART:20240331T010000
END:DAYLIGHT
BEGIN:STANDARD
TZOFFSETFROM:+0200
TZOFFSETTO:+0100
TZNAME:CET
DTSTART:20241027T010000
END:STANDARD
END:VTIMEZONE
BEGIN:VEVENT
DTSTART;TZID=Europe/Berlin:20230113T180000
DTEND;TZID=Europe/Berlin:20230113T190000
DTSTAMP:20260422T080813
CREATED:20230109T103844Z
LAST-MODIFIED:20230109T103844Z
UID:24287-1673632800-1673636400@stuttgarti-katolikusok.de
SUMMARY:Stuttgarti délután
DESCRIPTION:Január 13-án\, pénteken\, Stuttgarti délután\, 18 órakor szentmise\, előtte rózsafüzért imádkozunk.  \n Mindenkit szeretettel vár a közösség és Tibor atya! \n \n(Kép forrása: Németi Gergely) \nBensőséges és kellemes újévi napokat\, jó találkozásokat és sok örömet kívánok minden kedves Hívemnek. \n* \n„Az ismeretlen idővel\, eseményekkel\, feladatokkal\, sorssal állunk szemben. Nem tudjuk\, hogy a jövő̋ ködében elrejtett napok mit hoznak magukkal. (…) A földi dolgok arculatát a mulandóság úgy emészti\, mint moly a ruhát és rozsda a vasat. Az emberi vállalkozások is azt igazolják napról-napra\, amit már a királyi zsoltáros megtapasztalt: „Ha az Úr nem építi a házat\, hiába fáradnak\, akik építik azt.” (Zsolt 126\,1) Ezért mi vessük bizalmunkat az Istenbe\, és a jelenvaló́ gondokat az ő mindenható́ segítségében bízva vegyük magunkra hittel és jó reménységgel.” (Márton Áron – Újévi körlevél 1948)
URL:https://stuttgarti-katolikusok.de/index.php/esemeny/stuttgarti-delutan-226/
LOCATION:Bruder Klaus Kirche\, Albert-Schäffle-Straße 30\, Stuttgart\, Baden-Württemberg\, 70186\, Németország
ATTACH;FMTTYPE=image/jpeg:https://stuttgarti-katolikusok.de/wp-content/uploads/2015/12/013__2_klaus.jpg
END:VEVENT
END:VCALENDAR