BEGIN:VCALENDAR
VERSION:2.0
PRODID:-//Stuttgarti Katolikusok - ECPv6.15.20//NONSGML v1.0//EN
CALSCALE:GREGORIAN
METHOD:PUBLISH
X-WR-CALNAME:Stuttgarti Katolikusok
X-ORIGINAL-URL:https://stuttgarti-katolikusok.de
X-WR-CALDESC:Események Stuttgarti Katolikusok
REFRESH-INTERVAL;VALUE=DURATION:PT1H
X-Robots-Tag:noindex
X-PUBLISHED-TTL:PT1H
BEGIN:VTIMEZONE
TZID:Europe/Berlin
BEGIN:DAYLIGHT
TZOFFSETFROM:+0100
TZOFFSETTO:+0200
TZNAME:CEST
DTSTART:20220327T010000
END:DAYLIGHT
BEGIN:STANDARD
TZOFFSETFROM:+0200
TZOFFSETTO:+0100
TZNAME:CET
DTSTART:20221030T010000
END:STANDARD
BEGIN:DAYLIGHT
TZOFFSETFROM:+0100
TZOFFSETTO:+0200
TZNAME:CEST
DTSTART:20230326T010000
END:DAYLIGHT
BEGIN:STANDARD
TZOFFSETFROM:+0200
TZOFFSETTO:+0100
TZNAME:CET
DTSTART:20231029T010000
END:STANDARD
BEGIN:DAYLIGHT
TZOFFSETFROM:+0100
TZOFFSETTO:+0200
TZNAME:CEST
DTSTART:20240331T010000
END:DAYLIGHT
BEGIN:STANDARD
TZOFFSETFROM:+0200
TZOFFSETTO:+0100
TZNAME:CET
DTSTART:20241027T010000
END:STANDARD
END:VTIMEZONE
BEGIN:VEVENT
DTSTART;TZID=Europe/Berlin:20230106T110000
DTEND;TZID=Europe/Berlin:20230106T120000
DTSTAMP:20260422T080816
CREATED:20230101T231130Z
LAST-MODIFIED:20230101T231130Z
UID:24230-1673002800-1673006400@stuttgarti-katolikusok.de
SUMMARY:Vízkereszt ünnepe Weingartenben
DESCRIPTION:Január 6-án\, pénteken\, Vízkereszt ünnepe\, Weingartenben 11.00 órakor szentmise a 14 Nothelfer Kapelle-ben. \nMindenkit szeretettel vár a közösség és Tibor atya! \n* \n \n* \nBensőséges és kellemes újévi napokat\, jó találkozásokat és sok örömet kívánok minden kedves Hívemnek. \n* \n„A növény virágot bont\, hogy a méhek rászálljanak és megtermékenyítsék. A gyümölcs elszórja magvait\, hogy új növények bújjanak elő a földből\, amelyek aztán újra virágba borulnak\, hogy odacsalják a méheket\, amelyek megtermékenyítik\, hogy újra gyümölcsöt hozzanak\, és így tovább\, a végtelenségig.” (Paulo Coelho – író – 1947-)
URL:https://stuttgarti-katolikusok.de/index.php/esemeny/vizkereszt-unnepe-weingartenben-4/
LOCATION:14 Nothelfer  Kapelle\, Ravensburger Str. 39\, Weingarten\, Baden-Württemberg\, 88250\, Németország
CATEGORIES:Szentmise
ATTACH;FMTTYPE=image/jpeg:https://stuttgarti-katolikusok.de/wp-content/uploads/2015/12/Weingarten_Kapelle_14_Nothelfer.jpg
END:VEVENT
BEGIN:VEVENT
DTSTART;TZID=Europe/Berlin:20230106T110000
DTEND;TZID=Europe/Berlin:20230106T120000
DTSTAMP:20260422T080816
CREATED:20230208T072225Z
LAST-MODIFIED:20230208T073334Z
UID:25897-1673002800-1673006400@stuttgarti-katolikusok.de
SUMMARY:Weingarten - 14 Nothelfer Kapelle
DESCRIPTION:
URL:https://stuttgarti-katolikusok.de/index.php/esemeny/weingarten-14-nothelfer-kapelle-3/
LOCATION:Baden-Württemberg
CATEGORIES:Szentmisék helye és ideje
END:VEVENT
BEGIN:VEVENT
DTSTART;TZID=Europe/Berlin:20230106T150000
DTEND;TZID=Europe/Berlin:20230106T160000
DTSTAMP:20260422T080816
CREATED:20230101T231431Z
LAST-MODIFIED:20230101T231431Z
UID:24232-1673017200-1673020800@stuttgarti-katolikusok.de
SUMMARY:Vízkereszt ünnepe Ulmban
DESCRIPTION:Január 6-án\, pénteken\, Vízkereszt ünnepe\, Ulmban 15.00 órakor szentmise. \nMindenkit szeretettel vár a közösség és Tibor atya! \n* \n \n* \nBensőséges és kellemes újévi napokat\, jó találkozásokat és sok örömet kívánok minden kedves Hívemnek. \n* \n„A növény virágot bont\, hogy a méhek rászálljanak és megtermékenyítsék. A gyümölcs elszórja magvait\, hogy új növények bújjanak elő a földből\, amelyek aztán újra virágba borulnak\, hogy odacsalják a méheket\, amelyek megtermékenyítik\, hogy újra gyümölcsöt hozzanak\, és így tovább\, a végtelenségig.” (Paulo Coelho – író – 1947-)
URL:https://stuttgarti-katolikusok.de/index.php/esemeny/vizkereszt-unnepe-ulmban-3/
LOCATION:St. Michael zu den Wengen\, Wengengasse 6\, Ulm\, Baden-Württemberg\, 89073\, Németország
CATEGORIES:Szentmise
ATTACH;FMTTYPE=image/jpeg:https://stuttgarti-katolikusok.de/wp-content/uploads/2015/12/Wengenkirche1-e1483916551260.jpg
END:VEVENT
BEGIN:VEVENT
DTSTART;TZID=Europe/Berlin:20230106T150000
DTEND;TZID=Europe/Berlin:20230106T160000
DTSTAMP:20260422T080816
CREATED:20230208T072010Z
LAST-MODIFIED:20230208T073216Z
UID:25747-1673017200-1673020800@stuttgarti-katolikusok.de
SUMMARY:Ulm
DESCRIPTION:
URL:https://stuttgarti-katolikusok.de/index.php/esemeny/ulm-22/
LOCATION:Baden-Württemberg
CATEGORIES:Szentmisék helye és ideje
END:VEVENT
BEGIN:VEVENT
DTSTART;TZID=Europe/Berlin:20230106T160000
DTEND;TZID=Europe/Berlin:20230106T190000
DTSTAMP:20260422T080816
CREATED:20230101T232450Z
LAST-MODIFIED:20230101T232659Z
UID:24234-1673020800-1673031600@stuttgarti-katolikusok.de
SUMMARY:Vízkereszt ünnepe Stuttgartban
DESCRIPTION:Január 6-án\, pénteken\, Vízkereszt ünnepe\, Stuttgartban\, \n16.00 órakor Barátságklub\, \n* \nMeghívó23.01.06\n* \n18.00 órakor szentmise. \nMindenkit szeretettel vár a közösség és Tibor atya! \n* \n \n* \nBensőséges és kellemes újévi napokat\, jó találkozásokat és sok örömet kívánok minden kedves Hívemnek. \n* \n„A növény virágot bont\, hogy a méhek rászálljanak és megtermékenyítsék. A gyümölcs elszórja magvait\, hogy új növények bújjanak elő a földből\, amelyek aztán újra virágba borulnak\, hogy odacsalják a méheket\, amelyek megtermékenyítik\, hogy újra gyümölcsöt hozzanak\, és így tovább\, a végtelenségig.” (Paulo Coelho – író – 1947-)
URL:https://stuttgarti-katolikusok.de/index.php/esemeny/vizkereszt-unnepe-stuttgartban-4/
LOCATION:Bruder Klaus Kirche\, Albert-Schäffle-Straße 30\, Stuttgart\, Baden-Württemberg\, 70186\, Németország
CATEGORIES:Szentmise
ATTACH;FMTTYPE=image/jpeg:https://stuttgarti-katolikusok.de/wp-content/uploads/2015/12/013__2_klaus.jpg
END:VEVENT
BEGIN:VEVENT
DTSTART;TZID=Europe/Berlin:20230106T180000
DTEND;TZID=Europe/Berlin:20230106T190000
DTSTAMP:20260422T080816
CREATED:20230208T072011Z
LAST-MODIFIED:20230208T073216Z
UID:25748-1673028000-1673031600@stuttgarti-katolikusok.de
SUMMARY:Stuttgart
DESCRIPTION:
URL:https://stuttgarti-katolikusok.de/index.php/esemeny/stuttgart-43/
LOCATION:Baden-Württemberg
CATEGORIES:Szentmisék helye és ideje
END:VEVENT
END:VCALENDAR