BEGIN:VCALENDAR
VERSION:2.0
PRODID:-//Stuttgarti Katolikusok - ECPv6.15.20//NONSGML v1.0//EN
CALSCALE:GREGORIAN
METHOD:PUBLISH
X-ORIGINAL-URL:https://stuttgarti-katolikusok.de
X-WR-CALDESC:Események Stuttgarti Katolikusok
REFRESH-INTERVAL;VALUE=DURATION:PT1H
X-Robots-Tag:noindex
X-PUBLISHED-TTL:PT1H
BEGIN:VTIMEZONE
TZID:Europe/Berlin
BEGIN:DAYLIGHT
TZOFFSETFROM:+0100
TZOFFSETTO:+0200
TZNAME:CEST
DTSTART:20210328T010000
END:DAYLIGHT
BEGIN:STANDARD
TZOFFSETFROM:+0200
TZOFFSETTO:+0100
TZNAME:CET
DTSTART:20211031T010000
END:STANDARD
BEGIN:DAYLIGHT
TZOFFSETFROM:+0100
TZOFFSETTO:+0200
TZNAME:CEST
DTSTART:20220327T010000
END:DAYLIGHT
BEGIN:STANDARD
TZOFFSETFROM:+0200
TZOFFSETTO:+0100
TZNAME:CET
DTSTART:20221030T010000
END:STANDARD
BEGIN:DAYLIGHT
TZOFFSETFROM:+0100
TZOFFSETTO:+0200
TZNAME:CEST
DTSTART:20230326T010000
END:DAYLIGHT
BEGIN:STANDARD
TZOFFSETFROM:+0200
TZOFFSETTO:+0100
TZNAME:CET
DTSTART:20231029T010000
END:STANDARD
END:VTIMEZONE
BEGIN:VEVENT
DTSTART;TZID=Europe/Berlin:20221231T150000
DTEND;TZID=Europe/Berlin:20221231T160000
DTSTAMP:20260422T061616
CREATED:20221219T213401Z
LAST-MODIFIED:20221219T213925Z
UID:24167-1672498800-1672502400@stuttgarti-katolikusok.de
SUMMARY:Óévi hálaadó szentmise Weingartenben
DESCRIPTION:December 31-én\, szombaton\, Karácsony ünnepének 7. napja\, Szilveszter napja\, Weingartenben 15.00 órakor óévi hálaadó szentmise a Heilig Geist Kirche-ben. \nMindenkit szeretettel vár a közösség és Tibor atya! \n * \n \n *  \nJuhász Gyula: Karácsony felé \nSzép Tündérország támad föl szívemben\nIlyenkor decemberben.\nA szeretetnek csillagára nézek\,\nMegszáll egy titkos\, gyönyörű igézet\,\nIlyenkor decemberben. \n…Bizalmas szívvel járom a világot\,\nS amit az élet vágott\,\nBehegesztem a sebet a szívemben\,\nÉs hiszek újra égi szeretetben\,\nIlyenkor decemberben. \n…És valahol csak kétkedő beszédet\nHallok\, szomorún nézek\,\nA kis Jézuska itt van a közelben\,\nLegyünk hát jobbak\, s higgyünk rendületlen\,\nS ne csak így decemberben. \n \n* \n„Egész életünk a szeretet isteni „túlkapásainak” a drámája. Ennek a drámának áll mintegy centrumában a megtestesülés titka az isteni ártatlanság makulátlan tiszta jegyeivel. Így – a teremtő lemondás jegyében – a karácsony egyszerre az egész teremtés elfogadásának és szeretetben való fölülmúlásának az ünnepe. Isten szeretete és szabadsága a valóságos helye: innét univerzitása…Isten is csak szinte észrevétlenül léphetett közénk. Igaz\, kicsiny\, mérhetetlenül kicsiny fény ez – de reális. Ugyanaz a szelídség\, mely engedelmességre bírta a teremtett univerzumot\, és gyengédségének erejével a kereszt verésén túl meggyőzte a világot.” (Pilinszky János – költő – 1921 – 1981) \n* \nSzeretetteljes Karácsonyt\, és áldott\, békés\, boldog\, reményteli új évet kívánok minden kedves Hívemnek! \nLelkipásztori szeretettel\, \nTibor atya \nStuttgart\, 2022 Karácsonyán
URL:https://stuttgarti-katolikusok.de/index.php/esemeny/oevi-halaadas-weingartenben/
LOCATION:Hl. Geist Weingarten\, Keplerstrasse 2\, Weingarten\, Baden-Württemberg\, 88250\, Németország
CATEGORIES:Szentmise
END:VEVENT
BEGIN:VEVENT
DTSTART;TZID=Europe/Berlin:20221231T150000
DTEND;TZID=Europe/Berlin:20221231T160000
DTSTAMP:20260422T061616
CREATED:20230208T071923Z
LAST-MODIFIED:20230208T072643Z
UID:25668-1672498800-1672502400@stuttgarti-katolikusok.de
SUMMARY:Weingarten
DESCRIPTION:
URL:https://stuttgarti-katolikusok.de/index.php/esemeny/weingarten-12/
LOCATION:Baden-Württemberg
CATEGORIES:Szentmisék helye és ideje
END:VEVENT
BEGIN:VEVENT
DTSTART;TZID=Europe/Berlin:20221231T180000
DTEND;TZID=Europe/Berlin:20221231T190000
DTSTAMP:20260422T061616
CREATED:20221219T213825Z
LAST-MODIFIED:20221219T213825Z
UID:24173-1672509600-1672513200@stuttgarti-katolikusok.de
SUMMARY:Óévi hálaadó szentmise Stuttgartban
DESCRIPTION:December 31-én\, szombaton\, Karácsony ünnepének 7. napja\, Szilveszter napja\, Stuttgartban 18.00 órakor évvégi hálaadó szentmise és rövid szentségimádás. \nMindenkit szeretettel vár a közösség és Tibor atya! \n * \n \n *  \nJuhász Gyula: Karácsony felé \nSzép Tündérország támad föl szívemben\nIlyenkor decemberben.\nA szeretetnek csillagára nézek\,\nMegszáll egy titkos\, gyönyörű igézet\,\nIlyenkor decemberben. \n…Bizalmas szívvel járom a világot\,\nS amit az élet vágott\,\nBehegesztem a sebet a szívemben\,\nÉs hiszek újra égi szeretetben\,\nIlyenkor decemberben. \n…És valahol csak kétkedő beszédet\nHallok\, szomorún nézek\,\nA kis Jézuska itt van a közelben\,\nLegyünk hát jobbak\, s higgyünk rendületlen\,\nS ne csak így decemberben. \n \n* \n„Egész életünk a szeretet isteni „túlkapásainak” a drámája. Ennek a drámának áll mintegy centrumában a megtestesülés titka az isteni ártatlanság makulátlan tiszta jegyeivel. Így – a teremtő lemondás jegyében – a karácsony egyszerre az egész teremtés elfogadásának és szeretetben való fölülmúlásának az ünnepe. Isten szeretete és szabadsága a valóságos helye: innét univerzitása…Isten is csak szinte észrevétlenül léphetett közénk. Igaz\, kicsiny\, mérhetetlenül kicsiny fény ez – de reális. Ugyanaz a szelídség\, mely engedelmességre bírta a teremtett univerzumot\, és gyengédségének erejével a kereszt verésén túl meggyőzte a világot.” (Pilinszky János – költő – 1921 – 1981) \n* \nSzeretetteljes Karácsonyt\, és áldott\, békés\, boldog\, reményteli új évet kívánok minden kedves Hívemnek! \nLelkipásztori szeretettel\, \nTibor atya \nStuttgart\, 2022 Karácsonyán
URL:https://stuttgarti-katolikusok.de/index.php/esemeny/oevi-halaado-szentmise-stuttgartban/
LOCATION:Bruder Klaus Kirche\, Albert-Schäffle-Straße 30\, Stuttgart\, Baden-Württemberg\, 70186\, Németország
CATEGORIES:Szentmise
ATTACH;FMTTYPE=image/jpeg:https://stuttgarti-katolikusok.de/wp-content/uploads/2015/12/013__2_klaus.jpg
END:VEVENT
BEGIN:VEVENT
DTSTART;TZID=Europe/Berlin:20221231T180000
DTEND;TZID=Europe/Berlin:20221231T190000
DTSTAMP:20260422T061616
CREATED:20230208T071923Z
LAST-MODIFIED:20230208T072652Z
UID:25669-1672509600-1672513200@stuttgarti-katolikusok.de
SUMMARY:Stuttgart
DESCRIPTION:
URL:https://stuttgarti-katolikusok.de/index.php/esemeny/stuttgart-34/
LOCATION:Baden-Württemberg
CATEGORIES:Szentmisék helye és ideje
END:VEVENT
END:VCALENDAR