BEGIN:VCALENDAR
VERSION:2.0
PRODID:-//Stuttgarti Katolikusok - ECPv6.15.20//NONSGML v1.0//EN
CALSCALE:GREGORIAN
METHOD:PUBLISH
X-WR-CALNAME:Stuttgarti Katolikusok
X-ORIGINAL-URL:https://stuttgarti-katolikusok.de
X-WR-CALDESC:Események Stuttgarti Katolikusok
REFRESH-INTERVAL;VALUE=DURATION:PT1H
X-Robots-Tag:noindex
X-PUBLISHED-TTL:PT1H
BEGIN:VTIMEZONE
TZID:Europe/Berlin
BEGIN:DAYLIGHT
TZOFFSETFROM:+0100
TZOFFSETTO:+0200
TZNAME:CEST
DTSTART:20210328T010000
END:DAYLIGHT
BEGIN:STANDARD
TZOFFSETFROM:+0200
TZOFFSETTO:+0100
TZNAME:CET
DTSTART:20211031T010000
END:STANDARD
BEGIN:DAYLIGHT
TZOFFSETFROM:+0100
TZOFFSETTO:+0200
TZNAME:CEST
DTSTART:20220327T010000
END:DAYLIGHT
BEGIN:STANDARD
TZOFFSETFROM:+0200
TZOFFSETTO:+0100
TZNAME:CET
DTSTART:20221030T010000
END:STANDARD
BEGIN:DAYLIGHT
TZOFFSETFROM:+0100
TZOFFSETTO:+0200
TZNAME:CEST
DTSTART:20230326T010000
END:DAYLIGHT
BEGIN:STANDARD
TZOFFSETFROM:+0200
TZOFFSETTO:+0100
TZNAME:CET
DTSTART:20231029T010000
END:STANDARD
END:VTIMEZONE
BEGIN:VEVENT
DTSTART;TZID=Europe/Berlin:20221227T093000
DTEND;TZID=Europe/Berlin:20221227T103000
DTSTAMP:20260422T061438
CREATED:20221219T151945Z
LAST-MODIFIED:20221219T152507Z
UID:24157-1672133400-1672137000@stuttgarti-katolikusok.de
SUMMARY:Karácsony ünnepe Schwäbisch-Gmündben
DESCRIPTION:December 27-án\, kedd\, Karácsony ünnepének 3. napja\, Szent János apostol és evangélista ünnepe\,  Schwäbisch-Gmündben 9.30. órakor ünnepi szentmise\, benne gyermekek karácsonyi műsora. \nMindenkit szeretettel vár a közösség és Tibor atya! \n * \n \n *  \nJuhász Gyula: Karácsony felé \nSzép Tündérország támad föl szívemben\nIlyenkor decemberben.\nA szeretetnek csillagára nézek\,\nMegszáll egy titkos\, gyönyörű igézet\,\nIlyenkor decemberben. \n…Bizalmas szívvel járom a világot\,\nS amit az élet vágott\,\nBehegesztem a sebet a szívemben\,\nÉs hiszek újra égi szeretetben\,\nIlyenkor decemberben. \n…És valahol csak kétkedő beszédet\nHallok\, szomorún nézek\,\nA kis Jézuska itt van a közelben\,\nLegyünk hát jobbak\, s higgyünk rendületlen\,\nS ne csak így decemberben. \n* \n„Egész életünk a szeretet isteni „túlkapásainak” a drámája. Ennek a drámának áll mintegy centrumában a megtestesülés titka az isteni ártatlanság makulátlan tiszta jegyeivel. Így – a teremtő lemondás jegyében – a karácsony egyszerre az egész teremtés elfogadásának és szeretetben való fölülmúlásának az ünnepe. Isten szeretete és szabadsága a valóságos helye: innét univerzitása…Isten is csak szinte észrevétlenül léphetett közénk. Igaz\, kicsiny\, mérhetetlenül kicsiny fény ez – de reális. Ugyanaz a szelídség\, mely engedelmességre bírta a teremtett univerzumot\, és gyengédségének erejével a kereszt verésén túl meggyőzte a világot.” (Pilinszky János – költő – 1921 – 1981) \n* \nSzeretetteljes Karácsonyt\, és áldott\, békés\, boldog\, reményteli új évet kívánok minden kedves Hívemnek! \nLelkipásztori szeretettel\, \nTibor atya \nStuttgart\, 2022 Karácsonyán
URL:https://stuttgarti-katolikusok.de/index.php/esemeny/karacsony-unnepe-schwabisch-gmundben-6/
LOCATION:Sankt Franziskus Kirche\, Franziskaner Str. 3\, Schwäbisch-Gmünd\, Baden-Württemberg\, 73525\, Németország
CATEGORIES:Szentmise
ATTACH;FMTTYPE=image/jpeg:https://stuttgarti-katolikusok.de/wp-content/uploads/2018/03/st-franziskus-schw-gmund.jpg
END:VEVENT
BEGIN:VEVENT
DTSTART;TZID=Europe/Berlin:20221227T093000
DTEND;TZID=Europe/Berlin:20221227T103000
DTSTAMP:20260422T061438
CREATED:20230208T071922Z
LAST-MODIFIED:20230208T072628Z
UID:25667-1672133400-1672137000@stuttgarti-katolikusok.de
SUMMARY:Schwäbisch Gmünd
DESCRIPTION:
URL:https://stuttgarti-katolikusok.de/index.php/esemeny/schwabisch-gmund-29/
LOCATION:Baden-Württemberg
CATEGORIES:Szentmisék helye és ideje
END:VEVENT
BEGIN:VEVENT
DTSTART;TZID=Europe/Berlin:20221227T160000
DTEND;TZID=Europe/Berlin:20221227T170000
DTSTAMP:20260422T061438
CREATED:20221219T152310Z
LAST-MODIFIED:20221219T152310Z
UID:24159-1672156800-1672160400@stuttgarti-katolikusok.de
SUMMARY:Karácsony ünnepe Tuttlingenben
DESCRIPTION:December 27-án\, kedd\, Karácsony ünnepének 3. napja\, Szent János apostol és evangélista ünnepe\, Tuttlingenben 16.00 órakor ünnepi szentmise. \nMindenkit szeretettel vár a közösség és Tibor atya! \n * \n \n *  \nJuhász Gyula: Karácsony felé \nSzép Tündérország támad föl szívemben\nIlyenkor decemberben.\nA szeretetnek csillagára nézek\,\nMegszáll egy titkos\, gyönyörű igézet\,\nIlyenkor decemberben. \n…Bizalmas szívvel járom a világot\,\nS amit az élet vágott\,\nBehegesztem a sebet a szívemben\,\nÉs hiszek újra égi szeretetben\,\nIlyenkor decemberben. \n…És valahol csak kétkedő beszédet\nHallok\, szomorún nézek\,\nA kis Jézuska itt van a közelben\,\nLegyünk hát jobbak\, s higgyünk rendületlen\,\nS ne csak így decemberben. \n* \n„Egész életünk a szeretet isteni „túlkapásainak” a drámája. Ennek a drámának áll mintegy centrumában a megtestesülés titka az isteni ártatlanság makulátlan tiszta jegyeivel. Így – a teremtő lemondás jegyében – a karácsony egyszerre az egész teremtés elfogadásának és szeretetben való fölülmúlásának az ünnepe. Isten szeretete és szabadsága a valóságos helye: innét univerzitása…Isten is csak szinte észrevétlenül léphetett közénk. Igaz\, kicsiny\, mérhetetlenül kicsiny fény ez – de reális. Ugyanaz a szelídség\, mely engedelmességre bírta a teremtett univerzumot\, és gyengédségének erejével a kereszt verésén túl meggyőzte a világot.” (Pilinszky János – költő – 1921 – 1981) \n* \nSzeretetteljes Karácsonyt\, és áldott\, békés\, boldog\, reményteli új évet kívánok minden kedves Hívemnek! \nLelkipásztori szeretettel\, \nTibor atya \nStuttgart\, 2022 Karácsonyán
URL:https://stuttgarti-katolikusok.de/index.php/esemeny/karacsony-unnepe-tuttlingenben/
LOCATION:gallus
CATEGORIES:Szentmise
ATTACH;FMTTYPE=image/jpeg:https://stuttgarti-katolikusok.de/wp-content/uploads/2021/05/sankt-gallus-tuttlingen-1.jpg
END:VEVENT
BEGIN:VEVENT
DTSTART;TZID=Europe/Berlin:20221227T160000
DTEND;TZID=Europe/Berlin:20221227T170000
DTSTAMP:20260422T061438
CREATED:20230208T072202Z
LAST-MODIFIED:20230208T072953Z
UID:25893-1672156800-1672160400@stuttgarti-katolikusok.de
SUMMARY:Tuttlingen
DESCRIPTION:
URL:https://stuttgarti-katolikusok.de/index.php/esemeny/tuttlingen-20/
LOCATION:Baden-Württemberg
CATEGORIES:Szentmisék helye és ideje
END:VEVENT
END:VCALENDAR