BEGIN:VCALENDAR
VERSION:2.0
PRODID:-//Stuttgarti Katolikusok - ECPv6.15.20//NONSGML v1.0//EN
CALSCALE:GREGORIAN
METHOD:PUBLISH
X-ORIGINAL-URL:https://stuttgarti-katolikusok.de
X-WR-CALDESC:Események Stuttgarti Katolikusok
REFRESH-INTERVAL;VALUE=DURATION:PT1H
X-Robots-Tag:noindex
X-PUBLISHED-TTL:PT1H
BEGIN:VTIMEZONE
TZID:Europe/Berlin
BEGIN:DAYLIGHT
TZOFFSETFROM:+0100
TZOFFSETTO:+0200
TZNAME:CEST
DTSTART:20210328T010000
END:DAYLIGHT
BEGIN:STANDARD
TZOFFSETFROM:+0200
TZOFFSETTO:+0100
TZNAME:CET
DTSTART:20211031T010000
END:STANDARD
BEGIN:DAYLIGHT
TZOFFSETFROM:+0100
TZOFFSETTO:+0200
TZNAME:CEST
DTSTART:20220327T010000
END:DAYLIGHT
BEGIN:STANDARD
TZOFFSETFROM:+0200
TZOFFSETTO:+0100
TZNAME:CET
DTSTART:20221030T010000
END:STANDARD
BEGIN:DAYLIGHT
TZOFFSETFROM:+0100
TZOFFSETTO:+0200
TZNAME:CEST
DTSTART:20230326T010000
END:DAYLIGHT
BEGIN:STANDARD
TZOFFSETFROM:+0200
TZOFFSETTO:+0100
TZNAME:CET
DTSTART:20231029T010000
END:STANDARD
END:VTIMEZONE
BEGIN:VEVENT
DTSTART;TZID=Europe/Berlin:20221226T080000
DTEND;TZID=Europe/Berlin:20221226T170000
DTSTAMP:20260422T061612
CREATED:20221219T150722Z
LAST-MODIFIED:20221219T150722Z
UID:24153-1672041600-1672074000@stuttgarti-katolikusok.de
SUMMARY:Karácsony ünnepe Weingartenben
DESCRIPTION:December 26-án\, hétfő\, Karácsony ünnepének 2. napja\, Weingartenben 11.00 órakor ünnepi szentmise a Heilig Geist Kirche-ben. \nMindenkit szeretettel vár a közösség és Tibor atya! \n * \n \n *  \nJuhász Gyula: Karácsony felé \nSzép Tündérország támad föl szívemben\nIlyenkor decemberben.\nA szeretetnek csillagára nézek\,\nMegszáll egy titkos\, gyönyörű igézet\,\nIlyenkor decemberben. \n…Bizalmas szívvel járom a világot\,\nS amit az élet vágott\,\nBehegesztem a sebet a szívemben\,\nÉs hiszek újra égi szeretetben\,\nIlyenkor decemberben. \n…És valahol csak kétkedő beszédet\nHallok\, szomorún nézek\,\nA kis Jézuska itt van a közelben\,\nLegyünk hát jobbak\, s higgyünk rendületlen\,\nS ne csak így decemberben. \n* \n„Egész életünk a szeretet isteni „túlkapásainak” a drámája. Ennek a drámának áll mintegy centrumában a megtestesülés titka az isteni ártatlanság makulátlan tiszta jegyeivel. Így – a teremtő lemondás jegyében – a karácsony egyszerre az egész teremtés elfogadásának és szeretetben való fölülmúlásának az ünnepe. Isten szeretete és szabadsága a valóságos helye: innét univerzitása…Isten is csak szinte észrevétlenül léphetett közénk. Igaz\, kicsiny\, mérhetetlenül kicsiny fény ez – de reális. Ugyanaz a szelídség\, mely engedelmességre bírta a teremtett univerzumot\, és gyengédségének erejével a kereszt verésén túl meggyőzte a világot.” (Pilinszky János – költő – 1921 – 1981) \n* \nSzeretetteljes Karácsonyt\, és áldott\, békés\, boldog\, reményteli új évet kívánok minden kedves Hívemnek! \nLelkipásztori szeretettel\, \nTibor atya \nStuttgart\, 2022 Karácsonyán
URL:https://stuttgarti-katolikusok.de/index.php/esemeny/karacsony-unnepe-weingartenben-5/
LOCATION:Hl. Geist Weingarten\, Keplerstrasse 2\, Weingarten\, Baden-Württemberg\, 88250\, Németország
CATEGORIES:Szentmise
END:VEVENT
BEGIN:VEVENT
DTSTART;TZID=Europe/Berlin:20221226T110000
DTEND;TZID=Europe/Berlin:20221226T120000
DTSTAMP:20260422T061612
CREATED:20230208T072213Z
LAST-MODIFIED:20230208T072954Z
UID:25896-1672052400-1672056000@stuttgarti-katolikusok.de
SUMMARY:Weingarten - Heilig Geist
DESCRIPTION:
URL:https://stuttgarti-katolikusok.de/index.php/esemeny/weingarten-heilig-geist-2/
LOCATION:Baden-Württemberg
CATEGORIES:Szentmisék helye és ideje
END:VEVENT
BEGIN:VEVENT
DTSTART;TZID=Europe/Berlin:20221226T150000
DTEND;TZID=Europe/Berlin:20221226T160000
DTSTAMP:20260422T061612
CREATED:20221219T151506Z
LAST-MODIFIED:20221219T151506Z
UID:24155-1672066800-1672070400@stuttgarti-katolikusok.de
SUMMARY:Karácsony ünnepe Ulmban
DESCRIPTION:December 26-án\, hétfő\, Karácsony ünnepének 2. napja\, Ulmban 15.00 órakor ünnepi szentmise.  \nMinden helyen mindenkit szeretettel vár a közösség és Tibor atya! \n * \n \n *  \nJuhász Gyula: Karácsony felé \nSzép Tündérország támad föl szívemben\nIlyenkor decemberben.\nA szeretetnek csillagára nézek\,\nMegszáll egy titkos\, gyönyörű igézet\,\nIlyenkor decemberben. \n…Bizalmas szívvel járom a világot\,\nS amit az élet vágott\,\nBehegesztem a sebet a szívemben\,\nÉs hiszek újra égi szeretetben\,\nIlyenkor decemberben. \n…És valahol csak kétkedő beszédet\nHallok\, szomorún nézek\,\nA kis Jézuska itt van a közelben\,\nLegyünk hát jobbak\, s higgyünk rendületlen\,\nS ne csak így decemberben. \n* \n„Egész életünk a szeretet isteni „túlkapásainak” a drámája. Ennek a drámának áll mintegy centrumában a megtestesülés titka az isteni ártatlanság makulátlan tiszta jegyeivel. Így – a teremtő lemondás jegyében – a karácsony egyszerre az egész teremtés elfogadásának és szeretetben való fölülmúlásának az ünnepe. Isten szeretete és szabadsága a valóságos helye: innét univerzitása…Isten is csak szinte észrevétlenül léphetett közénk. Igaz\, kicsiny\, mérhetetlenül kicsiny fény ez – de reális. Ugyanaz a szelídség\, mely engedelmességre bírta a teremtett univerzumot\, és gyengédségének erejével a kereszt verésén túl meggyőzte a világot.” (Pilinszky János – költő – 1921 – 1981) \n* \nSzeretetteljes Karácsonyt\, és áldott\, békés\, boldog\, reményteli új évet kívánok minden kedves Hívemnek! \nLelkipásztori szeretettel\, \nTibor atya \nStuttgart\, 2022 Karácsonyán
URL:https://stuttgarti-katolikusok.de/index.php/esemeny/karacsony-unnepe-ulmban-5/
LOCATION:St. Michael zu den Wengen\, Wengengasse 6\, Ulm\, Baden-Württemberg\, 89073\, Németország
CATEGORIES:Szentmise
ATTACH;FMTTYPE=image/jpeg:https://stuttgarti-katolikusok.de/wp-content/uploads/2015/12/Wengenkirche1-e1483916551260.jpg
END:VEVENT
BEGIN:VEVENT
DTSTART;TZID=Europe/Berlin:20221226T150000
DTEND;TZID=Europe/Berlin:20221226T160000
DTSTAMP:20260422T061612
CREATED:20230208T071921Z
LAST-MODIFIED:20230208T072627Z
UID:25666-1672066800-1672070400@stuttgarti-katolikusok.de
SUMMARY:Ulm
DESCRIPTION:
URL:https://stuttgarti-katolikusok.de/index.php/esemeny/ulm-18/
LOCATION:Baden-Württemberg
CATEGORIES:Szentmisék helye és ideje
END:VEVENT
END:VCALENDAR