BEGIN:VCALENDAR
VERSION:2.0
PRODID:-//Stuttgarti Katolikusok - ECPv6.15.20//NONSGML v1.0//EN
CALSCALE:GREGORIAN
METHOD:PUBLISH
X-ORIGINAL-URL:https://stuttgarti-katolikusok.de
X-WR-CALDESC:Események Stuttgarti Katolikusok
REFRESH-INTERVAL;VALUE=DURATION:PT1H
X-Robots-Tag:noindex
X-PUBLISHED-TTL:PT1H
BEGIN:VTIMEZONE
TZID:Europe/Berlin
BEGIN:DAYLIGHT
TZOFFSETFROM:+0100
TZOFFSETTO:+0200
TZNAME:CEST
DTSTART:20210328T010000
END:DAYLIGHT
BEGIN:STANDARD
TZOFFSETFROM:+0200
TZOFFSETTO:+0100
TZNAME:CET
DTSTART:20211031T010000
END:STANDARD
BEGIN:DAYLIGHT
TZOFFSETFROM:+0100
TZOFFSETTO:+0200
TZNAME:CEST
DTSTART:20220327T010000
END:DAYLIGHT
BEGIN:STANDARD
TZOFFSETFROM:+0200
TZOFFSETTO:+0100
TZNAME:CET
DTSTART:20221030T010000
END:STANDARD
BEGIN:DAYLIGHT
TZOFFSETFROM:+0100
TZOFFSETTO:+0200
TZNAME:CEST
DTSTART:20230326T010000
END:DAYLIGHT
BEGIN:STANDARD
TZOFFSETFROM:+0200
TZOFFSETTO:+0100
TZNAME:CET
DTSTART:20231029T010000
END:STANDARD
END:VTIMEZONE
BEGIN:VEVENT
DTSTART;TZID=Europe/Berlin:20221224T170000
DTEND;TZID=Europe/Berlin:20221224T180000
DTSTAMP:20260422T043409
CREATED:20230208T071947Z
LAST-MODIFIED:20230208T072807Z
UID:25708-1671901200-1671904800@stuttgarti-katolikusok.de
SUMMARY:Stuttgart - pásztorjáték + gyermek-szentmise
DESCRIPTION:
URL:https://stuttgarti-katolikusok.de/index.php/esemeny/stuttgart-pasztorjatek-gyermek-szentmise-2/
LOCATION:Baden-Württemberg
CATEGORIES:Szentmisék helye és ideje
END:VEVENT
BEGIN:VEVENT
DTSTART;TZID=Europe/Berlin:20221224T190000
DTEND;TZID=Europe/Berlin:20221224T200000
DTSTAMP:20260422T043409
CREATED:20230208T071920Z
LAST-MODIFIED:20230208T072625Z
UID:25663-1671908400-1671912000@stuttgarti-katolikusok.de
SUMMARY:Stuttgart Szenteste
DESCRIPTION:
URL:https://stuttgarti-katolikusok.de/index.php/esemeny/stuttgart-szenteste-3/
LOCATION:Baden-Württemberg
CATEGORIES:Szentmisék helye és ideje
END:VEVENT
BEGIN:VEVENT
DTSTART;TZID=Europe/Berlin:20221224T190000
DTEND;TZID=Europe/Berlin:20221224T213000
DTSTAMP:20260422T043409
CREATED:20221219T145029Z
LAST-MODIFIED:20221219T145029Z
UID:24145-1671908400-1671917400@stuttgarti-katolikusok.de
SUMMARY:Szenteste Stuttgartban
DESCRIPTION:December 24-én\, szombaton\, Szenteste\, Stuttgartban 19.00 órakor Éjféli szentmise\, előtte rövid karácsonyi zenés és verses műsor a közösség gyermekeinek és ifjainak közreműködésével. \nMindenkit szeretettel vár a közösség és Tibor atya! \n * \n \n *  \nJuhász Gyula: Karácsony felé \nSzép Tündérország támad föl szívemben\nIlyenkor decemberben.\nA szeretetnek csillagára nézek\,\nMegszáll egy titkos\, gyönyörű igézet\,\nIlyenkor decemberben. \n…Bizalmas szívvel járom a világot\,\nS amit az élet vágott\,\nBehegesztem a sebet a szívemben\,\nÉs hiszek újra égi szeretetben\,\nIlyenkor decemberben. \n…És valahol csak kétkedő beszédet\nHallok\, szomorún nézek\,\nA kis Jézuska itt van a közelben\,\nLegyünk hát jobbak\, s higgyünk rendületlen\,\nS ne csak így decemberben. \n* \n„Egész életünk a szeretet isteni „túlkapásainak” a drámája. Ennek a drámának áll mintegy centrumában a megtestesülés titka az isteni ártatlanság makulátlan tiszta jegyeivel. Így – a teremtő lemondás jegyében – a karácsony egyszerre az egész teremtés elfogadásának és szeretetben való fölülmúlásának az ünnepe. Isten szeretete és szabadsága a valóságos helye: innét univerzitása…Isten is csak szinte észrevétlenül léphetett közénk. Igaz\, kicsiny\, mérhetetlenül kicsiny fény ez – de reális. Ugyanaz a szelídség\, mely engedelmességre bírta a teremtett univerzumot\, és gyengédségének erejével a kereszt verésén túl meggyőzte a világot.” (Pilinszky János – költő – 1921 – 1981) \n* \nSzeretetteljes Karácsonyt\, és áldott\, békés\, boldog\, reményteli új évet kívánok minden kedves Hívemnek! \nLelkipásztori szeretettel\, \nTibor atya \nStuttgart\, 2022 Karácsonyán
URL:https://stuttgarti-katolikusok.de/index.php/esemeny/szenteste-stuttgartban-7/
LOCATION:Bruder Klaus Kirche\, Albert-Schäffle-Straße 30\, Stuttgart\, Baden-Württemberg\, 70186\, Németország
CATEGORIES:Szentmise
ATTACH;FMTTYPE=image/jpeg:https://stuttgarti-katolikusok.de/wp-content/uploads/2015/12/013__2_klaus.jpg
END:VEVENT
END:VCALENDAR