BEGIN:VCALENDAR
VERSION:2.0
PRODID:-//Stuttgarti Katolikusok - ECPv6.15.20//NONSGML v1.0//EN
CALSCALE:GREGORIAN
METHOD:PUBLISH
X-ORIGINAL-URL:https://stuttgarti-katolikusok.de
X-WR-CALDESC:Események Stuttgarti Katolikusok
REFRESH-INTERVAL;VALUE=DURATION:PT1H
X-Robots-Tag:noindex
X-PUBLISHED-TTL:PT1H
BEGIN:VTIMEZONE
TZID:Europe/Berlin
BEGIN:DAYLIGHT
TZOFFSETFROM:+0100
TZOFFSETTO:+0200
TZNAME:CEST
DTSTART:20210328T010000
END:DAYLIGHT
BEGIN:STANDARD
TZOFFSETFROM:+0200
TZOFFSETTO:+0100
TZNAME:CET
DTSTART:20211031T010000
END:STANDARD
BEGIN:DAYLIGHT
TZOFFSETFROM:+0100
TZOFFSETTO:+0200
TZNAME:CEST
DTSTART:20220327T010000
END:DAYLIGHT
BEGIN:STANDARD
TZOFFSETFROM:+0200
TZOFFSETTO:+0100
TZNAME:CET
DTSTART:20221030T010000
END:STANDARD
BEGIN:DAYLIGHT
TZOFFSETFROM:+0100
TZOFFSETTO:+0200
TZNAME:CEST
DTSTART:20230326T010000
END:DAYLIGHT
BEGIN:STANDARD
TZOFFSETFROM:+0200
TZOFFSETTO:+0100
TZNAME:CET
DTSTART:20231029T010000
END:STANDARD
END:VTIMEZONE
BEGIN:VEVENT
DTSTART;TZID=Europe/Berlin:20221218T090000
DTEND;TZID=Europe/Berlin:20221218T100000
DTSTAMP:20260422T061614
CREATED:20230208T071931Z
LAST-MODIFIED:20230208T072738Z
UID:25682-1671354000-1671357600@stuttgarti-katolikusok.de
SUMMARY:Ludwigsburg
DESCRIPTION:
URL:https://stuttgarti-katolikusok.de/index.php/esemeny/ludwigsburg-8/
LOCATION:Baden-Württemberg
CATEGORIES:Szentmisék helye és ideje
END:VEVENT
BEGIN:VEVENT
DTSTART;TZID=Europe/Berlin:20221218T090000
DTEND;TZID=Europe/Berlin:20221218T110000
DTSTAMP:20260422T061614
CREATED:20221212T070852Z
LAST-MODIFIED:20221212T070852Z
UID:24089-1671354000-1671361200@stuttgarti-katolikusok.de
SUMMARY:Szentmise Ludwigsburgban
DESCRIPTION:December 18-án\, Advent IV. vasárnapján\, Ludwigsburgban 9.00 órakor szentmise\, keretében a 4. adventi gyertya meggyújtása\, utána agapé. \n* \n  \n* \nMindenkit szeretettel vár a közösség és Tibor atya! \nBensőséges adventi napokat\, jó találkozásokat és sok örömet kívánunk minden Kedves Hívünknek! \n* \n„Ne a félelmeidtől kérj tanácsot\, hanem a reményeidtől és az álmaidtól. Ne a kudarcokon gondolkozz\, hanem a még meg nem valósított lehetőségeiden. Ne azzal foglalkozz\, amit megpróbáltál\, de nem sikerült\, hanem azzal\, amit még van lehetőséged megtenni. „ (Szent XXIII. János pápa – 1881-1963)
URL:https://stuttgarti-katolikusok.de/index.php/esemeny/szentmise-ludwigsburgban-53/
LOCATION:St. Josef Kirche\, Park Str. 30\, Ludwigsburg-Hoheneck\, Baden-Württemberg\, 71642
CATEGORIES:Szentmise
ATTACH;FMTTYPE=image/jpeg:https://stuttgarti-katolikusok.de/wp-content/uploads/2021/04/ludwigsburg.jpeg
END:VEVENT
BEGIN:VEVENT
DTSTART;TZID=Europe/Berlin:20221218T113000
DTEND;TZID=Europe/Berlin:20221218T123000
DTSTAMP:20260422T061614
CREATED:20230208T071942Z
LAST-MODIFIED:20230208T072802Z
UID:25699-1671363000-1671366600@stuttgarti-katolikusok.de
SUMMARY:Stuttgart Cserkész Advent
DESCRIPTION:
URL:https://stuttgarti-katolikusok.de/index.php/esemeny/stuttgart-cserkesz-advent-3/
LOCATION:Baden-Württemberg
CATEGORIES:Szentmisék helye és ideje
END:VEVENT
BEGIN:VEVENT
DTSTART;TZID=Europe/Berlin:20221218T113000
DTEND;TZID=Europe/Berlin:20221218T143000
DTSTAMP:20260422T061614
CREATED:20221212T071226Z
LAST-MODIFIED:20221212T071226Z
UID:24091-1671363000-1671373800@stuttgarti-katolikusok.de
SUMMARY:Cserkész-advent Stuttgartban
DESCRIPTION:December 18-án\, Advent IV. vasárnapján\, Stuttgartban 11.30 órakor szentmise\, keretében a 4. adventi gyertya meggyújtása\, szentmise után Cserkész-advent és a betlehemi békeláng átadása\, utána agapé. \n* \n  \n* \nMindenkit szeretettel vár a közösség és Tibor atya! \nBensőséges adventi napokat\, jó találkozásokat és sok örömet kívánunk minden Kedves Hívünknek! \n* \n„Ne a félelmeidtől kérj tanácsot\, hanem a reményeidtől és az álmaidtól. Ne a kudarcokon gondolkozz\, hanem a még meg nem valósított lehetőségeiden. Ne azzal foglalkozz\, amit megpróbáltál\, de nem sikerült\, hanem azzal\, amit még van lehetőséged megtenni. „ (Szent XXIII. János pápa – 1881-1963)
URL:https://stuttgarti-katolikusok.de/index.php/esemeny/cserkesz-advent-stuttgartban/
LOCATION:Bruder Klaus Kirche\, Albert-Schäffle-Straße 30\, Stuttgart\, Baden-Württemberg\, 70186\, Németország
CATEGORIES:Szentmise
ATTACH;FMTTYPE=image/jpeg:https://stuttgarti-katolikusok.de/wp-content/uploads/2015/12/013__2_klaus.jpg
END:VEVENT
BEGIN:VEVENT
DTSTART;TZID=Europe/Berlin:20221218T153000
DTEND;TZID=Europe/Berlin:20221218T163000
DTSTAMP:20260422T061614
CREATED:20230208T071919Z
LAST-MODIFIED:20230208T072625Z
UID:25662-1671377400-1671381000@stuttgarti-katolikusok.de
SUMMARY:Eislingen
DESCRIPTION:
URL:https://stuttgarti-katolikusok.de/index.php/esemeny/eislingen-8/
LOCATION:Baden-Württemberg
CATEGORIES:Szentmisék helye és ideje
END:VEVENT
BEGIN:VEVENT
DTSTART;TZID=Europe/Berlin:20221218T153000
DTEND;TZID=Europe/Berlin:20221218T173000
DTSTAMP:20260422T061614
CREATED:20221212T071636Z
LAST-MODIFIED:20221212T071756Z
UID:24093-1671377400-1671384600@stuttgarti-katolikusok.de
SUMMARY:Szentmise Eislingenben
DESCRIPTION:December 18-án\, Advent IV. vasárnapján\, Eislingenben 15.30 órakor szentmise\, keretében a 4. adventi gyertya meggyújtása és a szentkenet szentségének kiszolgáltatása\, utána agapé. \n* \n  \n* \nMindenkit szeretettel vár a közösség és Tibor atya! \nBensőséges adventi napokat\, jó találkozásokat és sok örömet kívánunk minden Kedves Hívünknek! \n* \n„Ne a félelmeidtől kérj tanácsot\, hanem a reményeidtől és az álmaidtól. Ne a kudarcokon gondolkozz\, hanem a még meg nem valósított lehetőségeiden. Ne azzal foglalkozz\, amit megpróbáltál\, de nem sikerült\, hanem azzal\, amit még van lehetőséged megtenni. „ (Szent XXIII. János pápa – 1881-1963)
URL:https://stuttgarti-katolikusok.de/index.php/esemeny/szentmise-eislingenben-52/
LOCATION:Liebfrauen-Kirche\, Eberhardt Str. 30\, Eislingen/Fils\, Baden-Württemberg\, 73054\, Németország
CATEGORIES:Szentmise
END:VEVENT
END:VCALENDAR