BEGIN:VCALENDAR
VERSION:2.0
PRODID:-//Stuttgarti Katolikusok - ECPv6.15.20//NONSGML v1.0//EN
CALSCALE:GREGORIAN
METHOD:PUBLISH
X-ORIGINAL-URL:https://stuttgarti-katolikusok.de
X-WR-CALDESC:Események Stuttgarti Katolikusok
REFRESH-INTERVAL;VALUE=DURATION:PT1H
X-Robots-Tag:noindex
X-PUBLISHED-TTL:PT1H
BEGIN:VTIMEZONE
TZID:Europe/Berlin
BEGIN:DAYLIGHT
TZOFFSETFROM:+0100
TZOFFSETTO:+0200
TZNAME:CEST
DTSTART:20210328T010000
END:DAYLIGHT
BEGIN:STANDARD
TZOFFSETFROM:+0200
TZOFFSETTO:+0100
TZNAME:CET
DTSTART:20211031T010000
END:STANDARD
BEGIN:DAYLIGHT
TZOFFSETFROM:+0100
TZOFFSETTO:+0200
TZNAME:CEST
DTSTART:20220327T010000
END:DAYLIGHT
BEGIN:STANDARD
TZOFFSETFROM:+0200
TZOFFSETTO:+0100
TZNAME:CET
DTSTART:20221030T010000
END:STANDARD
BEGIN:DAYLIGHT
TZOFFSETFROM:+0100
TZOFFSETTO:+0200
TZNAME:CEST
DTSTART:20230326T010000
END:DAYLIGHT
BEGIN:STANDARD
TZOFFSETFROM:+0200
TZOFFSETTO:+0100
TZNAME:CET
DTSTART:20231029T010000
END:STANDARD
END:VTIMEZONE
BEGIN:VEVENT
DTSTART;TZID=Europe/Berlin:20221211T110000
DTEND;TZID=Europe/Berlin:20221211T120000
DTSTAMP:20260422T080951
CREATED:20230208T071917Z
LAST-MODIFIED:20230208T072617Z
UID:25659-1670756400-1670760000@stuttgarti-katolikusok.de
SUMMARY:Weingarten
DESCRIPTION:
URL:https://stuttgarti-katolikusok.de/index.php/esemeny/weingarten-11/
LOCATION:Baden-Württemberg
CATEGORIES:Szentmisék helye és ideje
END:VEVENT
BEGIN:VEVENT
DTSTART;TZID=Europe/Berlin:20221211T110000
DTEND;TZID=Europe/Berlin:20221211T130000
DTSTAMP:20260422T080951
CREATED:20221205T213203Z
LAST-MODIFIED:20221205T213203Z
UID:24057-1670756400-1670763600@stuttgarti-katolikusok.de
SUMMARY:Szentmise Weingartenben
DESCRIPTION:December 11-én\, Advent III. vasárnapján\,Weingartenben 11.00 órakor szentmise a Marienkirche-ben\, keretében a 3. adventi gyertya meggyújtása\, ezt követően ágápé.  \n* \n * \nMinden helyen mindenkit szeretettel vár a közösség és Tibor atya! \nBensőséges adventi napokat\, jó találkozásokat és sok örömet kívánunk minden Kedves Hívünknek! \n* \n„Az ádventi várakozás lényege szerint: várakozás arra\, Aki van; ahogy a szeretet misztériuma sem egyéb\, mint vágyakozás az után\, aki van\, aki a miénk.” (Pilinszky János – költő – 1921-1981)
URL:https://stuttgarti-katolikusok.de/index.php/esemeny/szentmise-weingartenben-66/
LOCATION:Marienkirche\, St. Konrad Str. 28\, Weingarten\, Baden Württemberg\, 88250\, Németország
CATEGORIES:Szentmise
ATTACH;FMTTYPE=image/jpeg:https://stuttgarti-katolikusok.de/wp-content/uploads/2016/01/weingarten-marien-kirche.jpg
END:VEVENT
BEGIN:VEVENT
DTSTART;TZID=Europe/Berlin:20221211T150000
DTEND;TZID=Europe/Berlin:20221211T160000
DTSTAMP:20260422T080951
CREATED:20230208T071918Z
LAST-MODIFIED:20230208T072618Z
UID:25660-1670770800-1670774400@stuttgarti-katolikusok.de
SUMMARY:Ulm
DESCRIPTION:
URL:https://stuttgarti-katolikusok.de/index.php/esemeny/ulm-17/
LOCATION:Baden-Württemberg
CATEGORIES:Szentmisék helye és ideje
END:VEVENT
BEGIN:VEVENT
DTSTART;TZID=Europe/Berlin:20221211T150000
DTEND;TZID=Europe/Berlin:20221211T170000
DTSTAMP:20260422T080951
CREATED:20221205T213452Z
LAST-MODIFIED:20221205T213452Z
UID:24059-1670770800-1670778000@stuttgarti-katolikusok.de
SUMMARY:Szentmise Ulmban
DESCRIPTION:December 11-én\, Advent III. vasárnapján\, Ulmban 15.00 órakor szentmise\, keretében a 3. adventi gyertya meggyújtása\, utána ágápé. \n* \n * \nMindenkit szeretettel vár a közösség és Tibor atya! \nBensőséges adventi napokat\, jó találkozásokat és sok örömet kívánunk minden Kedves Hívünknek! \n* \n„Az ádventi várakozás lényege szerint: várakozás arra\, Aki van; ahogy a szeretet misztériuma sem egyéb\, mint vágyakozás az után\, aki van\, aki a miénk.” (Pilinszky János – költő – 1921-1981)
URL:https://stuttgarti-katolikusok.de/index.php/esemeny/szentmise-ulmban-82/
LOCATION:St. Michael zu den Wengen\, Wengengasse 6\, Ulm\, Baden-Württemberg\, 89073\, Németország
CATEGORIES:Szentmise
ATTACH;FMTTYPE=image/jpeg:https://stuttgarti-katolikusok.de/wp-content/uploads/2015/12/Wengenkirche1-e1483916551260.jpg
END:VEVENT
END:VCALENDAR