BEGIN:VCALENDAR
VERSION:2.0
PRODID:-//Stuttgarti Katolikusok - ECPv6.15.20//NONSGML v1.0//EN
CALSCALE:GREGORIAN
METHOD:PUBLISH
X-ORIGINAL-URL:https://stuttgarti-katolikusok.de
X-WR-CALDESC:Események Stuttgarti Katolikusok
REFRESH-INTERVAL;VALUE=DURATION:PT1H
X-Robots-Tag:noindex
X-PUBLISHED-TTL:PT1H
BEGIN:VTIMEZONE
TZID:Europe/Berlin
BEGIN:DAYLIGHT
TZOFFSETFROM:+0100
TZOFFSETTO:+0200
TZNAME:CEST
DTSTART:20210328T010000
END:DAYLIGHT
BEGIN:STANDARD
TZOFFSETFROM:+0200
TZOFFSETTO:+0100
TZNAME:CET
DTSTART:20211031T010000
END:STANDARD
BEGIN:DAYLIGHT
TZOFFSETFROM:+0100
TZOFFSETTO:+0200
TZNAME:CEST
DTSTART:20220327T010000
END:DAYLIGHT
BEGIN:STANDARD
TZOFFSETFROM:+0200
TZOFFSETTO:+0100
TZNAME:CET
DTSTART:20221030T010000
END:STANDARD
BEGIN:DAYLIGHT
TZOFFSETFROM:+0100
TZOFFSETTO:+0200
TZNAME:CEST
DTSTART:20230326T010000
END:DAYLIGHT
BEGIN:STANDARD
TZOFFSETFROM:+0200
TZOFFSETTO:+0100
TZNAME:CET
DTSTART:20231029T010000
END:STANDARD
END:VTIMEZONE
BEGIN:VEVENT
DTSTART;TZID=Europe/Berlin:20221210T070000
DTEND;TZID=Europe/Berlin:20221210T090000
DTSTAMP:20260422T061616
CREATED:20221205T212158Z
LAST-MODIFIED:20221205T212158Z
UID:24053-1670655600-1670662800@stuttgarti-katolikusok.de
SUMMARY:Roraté-szentmise Weingartenben
DESCRIPTION:December 10-én\, szombaton\, Weingartenben a 14 Nothelfer Kapelle-ben 7.00 órakor roráté–szentmise\, keretében Szűz Mária szeplőtelen fogantatásának ünnepe. Utána közös reggeli. \n* \n * \nMindenkit szeretettel vár a közösség és Tibor atya! \nBensőséges adventi napokat\, jó találkozásokat és sok örömet kívánunk minden Kedves Hívünknek! \n* \n„Az ádventi várakozás lényege szerint: várakozás arra\, Aki van; ahogy a szeretet misztériuma sem egyéb\, mint vágyakozás az után\, aki van\, aki a miénk.” (Pilinszky János – költő – 1921-1981)
URL:https://stuttgarti-katolikusok.de/index.php/esemeny/rorate-szentmise-weingartenben-21/
LOCATION:14 Nothelfer  Kapelle\, Ravensburger Str. 39\, Weingarten\, Baden-Württemberg\, 88250\, Németország
CATEGORIES:Róráté
ATTACH;FMTTYPE=image/jpeg:https://stuttgarti-katolikusok.de/wp-content/uploads/2015/12/Weingarten_Kapelle_14_Nothelfer.jpg
END:VEVENT
BEGIN:VEVENT
DTSTART;TZID=Europe/Berlin:20221210T163000
DTEND;TZID=Europe/Berlin:20221210T173000
DTSTAMP:20260422T061616
CREATED:20230208T071917Z
LAST-MODIFIED:20230208T072617Z
UID:25658-1670689800-1670693400@stuttgarti-katolikusok.de
SUMMARY:Biberach
DESCRIPTION:
URL:https://stuttgarti-katolikusok.de/index.php/esemeny/biberach-19/
LOCATION:Baden-Württemberg
CATEGORIES:Szentmisék helye és ideje
END:VEVENT
BEGIN:VEVENT
DTSTART;TZID=Europe/Berlin:20221210T164500
DTEND;TZID=Europe/Berlin:20221210T190000
DTSTAMP:20260422T061616
CREATED:20221205T212848Z
LAST-MODIFIED:20221205T212848Z
UID:24055-1670690700-1670698800@stuttgarti-katolikusok.de
SUMMARY:Szentmise Biberachban
DESCRIPTION:December 10-én\, szombaton\, Biberachban Dreifaltigkeitskirche-ben 16.45 órakor szentmise\, keretében a 3. adventi gyertya meggyújtása\, utána ágápé. \n* \n * \nMindenkit szeretettel vár a közösség és Tibor atya! \nBensőséges adventi napokat\, jó találkozásokat és sok örömet kívánunk minden Kedves Hívünknek! \n* \n„Az ádventi várakozás lényege szerint: várakozás arra\, Aki van; ahogy a szeretet misztériuma sem egyéb\, mint vágyakozás az után\, aki van\, aki a miénk.” (Pilinszky János – költő – 1921-1981)
URL:https://stuttgarti-katolikusok.de/index.php/esemeny/szentmise-biberachban-54/
LOCATION:Dreifaltigkeitskirche Biberach\, Mittelbergstr. 29\, Biberach an der Riß\, Baden Württemberg\, 88400\, Németország
CATEGORIES:Szentmise
ATTACH;FMTTYPE=image/jpeg:https://stuttgarti-katolikusok.de/wp-content/uploads/2020/05/dreifeltigskeit-bc.jpg
END:VEVENT
END:VCALENDAR