BEGIN:VCALENDAR
VERSION:2.0
PRODID:-//Stuttgarti Katolikusok - ECPv6.15.20//NONSGML v1.0//EN
CALSCALE:GREGORIAN
METHOD:PUBLISH
X-ORIGINAL-URL:https://stuttgarti-katolikusok.de
X-WR-CALDESC:Események Stuttgarti Katolikusok
REFRESH-INTERVAL;VALUE=DURATION:PT1H
X-Robots-Tag:noindex
X-PUBLISHED-TTL:PT1H
BEGIN:VTIMEZONE
TZID:Europe/Berlin
BEGIN:DAYLIGHT
TZOFFSETFROM:+0100
TZOFFSETTO:+0200
TZNAME:CEST
DTSTART:20210328T010000
END:DAYLIGHT
BEGIN:STANDARD
TZOFFSETFROM:+0200
TZOFFSETTO:+0100
TZNAME:CET
DTSTART:20211031T010000
END:STANDARD
BEGIN:DAYLIGHT
TZOFFSETFROM:+0100
TZOFFSETTO:+0200
TZNAME:CEST
DTSTART:20220327T010000
END:DAYLIGHT
BEGIN:STANDARD
TZOFFSETFROM:+0200
TZOFFSETTO:+0100
TZNAME:CET
DTSTART:20221030T010000
END:STANDARD
BEGIN:DAYLIGHT
TZOFFSETFROM:+0100
TZOFFSETTO:+0200
TZNAME:CEST
DTSTART:20230326T010000
END:DAYLIGHT
BEGIN:STANDARD
TZOFFSETFROM:+0200
TZOFFSETTO:+0100
TZNAME:CET
DTSTART:20231029T010000
END:STANDARD
END:VTIMEZONE
BEGIN:VEVENT
DTSTART;TZID=Europe/Berlin:20221209T080000
DTEND;TZID=Europe/Berlin:20221209T100000
DTSTAMP:20260422T080935
CREATED:20221205T211750Z
LAST-MODIFIED:20221205T211750Z
UID:24051-1670572800-1670580000@stuttgarti-katolikusok.de
SUMMARY:Roráté-szentmise Stuttgartban
DESCRIPTION:December 9-én\, pénteken\, Stuttgartban 8.00 órakor roráté-szentmise\, keretében Szűz Mária Szeplőtelen fogantatásának ünnepe. Utána közös reggeli. \n* \n * \nMindenkit szeretettel vár a közösség és Tibor atya! \nBensőséges adventi napokat\, jó találkozásokat és sok örömet kívánunk minden Kedves Hívünknek! \n* \n„Az ádventi várakozás lényege szerint: várakozás arra\, Aki van; ahogy a szeretet misztériuma sem egyéb\, mint vágyakozás az után\, aki van\, aki a miénk.” (Pilinszky János – költő – 1921-1981)
URL:https://stuttgarti-katolikusok.de/index.php/esemeny/rorate-szentmise-stuttgartban-19/
LOCATION:Bruder Klaus Kirche\, Albert-Schäffle-Straße 30\, Stuttgart\, Baden-Württemberg\, 70186\, Németország
CATEGORIES:Róráté
ATTACH;FMTTYPE=image/jpeg:https://stuttgarti-katolikusok.de/wp-content/uploads/2015/12/013__2_klaus.jpg
END:VEVENT
END:VCALENDAR