BEGIN:VCALENDAR
VERSION:2.0
PRODID:-//Stuttgarti Katolikusok - ECPv6.15.20//NONSGML v1.0//EN
CALSCALE:GREGORIAN
METHOD:PUBLISH
X-ORIGINAL-URL:https://stuttgarti-katolikusok.de
X-WR-CALDESC:Események Stuttgarti Katolikusok
REFRESH-INTERVAL;VALUE=DURATION:PT1H
X-Robots-Tag:noindex
X-PUBLISHED-TTL:PT1H
BEGIN:VTIMEZONE
TZID:Europe/Berlin
BEGIN:DAYLIGHT
TZOFFSETFROM:+0100
TZOFFSETTO:+0200
TZNAME:CEST
DTSTART:20210328T010000
END:DAYLIGHT
BEGIN:STANDARD
TZOFFSETFROM:+0200
TZOFFSETTO:+0100
TZNAME:CET
DTSTART:20211031T010000
END:STANDARD
BEGIN:DAYLIGHT
TZOFFSETFROM:+0100
TZOFFSETTO:+0200
TZNAME:CEST
DTSTART:20220327T010000
END:DAYLIGHT
BEGIN:STANDARD
TZOFFSETFROM:+0200
TZOFFSETTO:+0100
TZNAME:CET
DTSTART:20221030T010000
END:STANDARD
BEGIN:DAYLIGHT
TZOFFSETFROM:+0100
TZOFFSETTO:+0200
TZNAME:CEST
DTSTART:20230326T010000
END:DAYLIGHT
BEGIN:STANDARD
TZOFFSETFROM:+0200
TZOFFSETTO:+0100
TZNAME:CET
DTSTART:20231029T010000
END:STANDARD
END:VTIMEZONE
BEGIN:VEVENT
DTSTART;TZID=Europe/Berlin:20221127T093000
DTEND;TZID=Europe/Berlin:20221127T103000
DTSTAMP:20260422T043408
CREATED:20230208T071913Z
LAST-MODIFIED:20230208T072558Z
UID:25653-1669541400-1669545000@stuttgarti-katolikusok.de
SUMMARY:Böblingen
DESCRIPTION:
URL:https://stuttgarti-katolikusok.de/index.php/esemeny/boblingen-8/
LOCATION:Baden-Württemberg
CATEGORIES:Szentmisék helye és ideje
END:VEVENT
BEGIN:VEVENT
DTSTART;TZID=Europe/Berlin:20221127T093000
DTEND;TZID=Europe/Berlin:20221127T113000
DTSTAMP:20260422T043408
CREATED:20221121T131450Z
LAST-MODIFIED:20221121T131450Z
UID:23970-1669541400-1669548600@stuttgarti-katolikusok.de
SUMMARY:Szentmise Böblingenben
DESCRIPTION:November 27-én\, Advent I. vasárnapján\, Böblingenben 9.30 órakor\, adventi gyertyagyújtás\, szentmise\, utána ágápé. \nMindenkit szeretettel vár a közösség és Tibor atya. \n* \n  \n* \nBensőséges őszi napokat\, jó munkát\, tartalmas beszélgetéseket\, örömteli találkozásokat és áldott adventi készületet kívánunk minden Kedves Hívünknek! \n* \nVan-e érzés\, mely forróban és sejtelmesebben megdobogtatja az emberi szívet\, mint az ünnep és a várakozás izgalma? (Márai Sándor – 1900-1989)
URL:https://stuttgarti-katolikusok.de/index.php/esemeny/szentmise-boblingenben-48/
LOCATION:St. Bonifatius Kirche\, Sindelfinger Str. 14\, Böblingen\, Baden-Württemberg\, 71032\, Németország
CATEGORIES:Szentmise
ATTACH;FMTTYPE=image/jpeg:https://stuttgarti-katolikusok.de/wp-content/uploads/2021/11/boblingen.jpeg
END:VEVENT
BEGIN:VEVENT
DTSTART;TZID=Europe/Berlin:20221127T153000
DTEND;TZID=Europe/Berlin:20221127T163000
DTSTAMP:20260422T043408
CREATED:20230208T071914Z
LAST-MODIFIED:20230208T072559Z
UID:25654-1669563000-1669566600@stuttgarti-katolikusok.de
SUMMARY:Heilbronn
DESCRIPTION:
URL:https://stuttgarti-katolikusok.de/index.php/esemeny/heilbronn-10/
LOCATION:Baden-Württemberg
CATEGORIES:Szentmisék helye és ideje
END:VEVENT
BEGIN:VEVENT
DTSTART;TZID=Europe/Berlin:20221127T153000
DTEND;TZID=Europe/Berlin:20221127T173000
DTSTAMP:20260422T043408
CREATED:20221121T131845Z
LAST-MODIFIED:20221121T131845Z
UID:23972-1669563000-1669570200@stuttgarti-katolikusok.de
SUMMARY:Szentmise Heilbronnban
DESCRIPTION:November 27-én\, Advent I. vasárnapján\, Heilbronnban 15.30 órakor adventi gyertyagyújtás\, szentmise\, utána ágápé. \nMindenkit szeretettel vár a közösség és Tibor atya! \n* \n  \n* \nBensőséges őszi napokat\, jó munkát\, tartalmas beszélgetéseket\, örömteli találkozásokat és áldott adventi készületet kívánunk minden Kedves Hívünknek! \n* \nVan-e érzés\, mely forróban és sejtelmesebben megdobogtatja az emberi szívet\, mint az ünnep és a várakozás izgalma? (Márai Sándor – 1900-1989)
URL:https://stuttgarti-katolikusok.de/index.php/esemeny/szentmise-heilbronnban-50/
LOCATION:Heilig Geist Kirche\, Heilbronner-Weg 17\, Heilbronn-Horkheim\, Baden-Württemberg\, 74081\, Németország
CATEGORIES:Szentmise
ATTACH;FMTTYPE=image/jpeg:https://stuttgarti-katolikusok.de/wp-content/uploads/2021/05/heiliggeist-aussenansicht.jpg
END:VEVENT
END:VCALENDAR