BEGIN:VCALENDAR
VERSION:2.0
PRODID:-//Stuttgarti Katolikusok - ECPv6.15.20//NONSGML v1.0//EN
CALSCALE:GREGORIAN
METHOD:PUBLISH
X-ORIGINAL-URL:https://stuttgarti-katolikusok.de
X-WR-CALDESC:Események Stuttgarti Katolikusok
REFRESH-INTERVAL;VALUE=DURATION:PT1H
X-Robots-Tag:noindex
X-PUBLISHED-TTL:PT1H
BEGIN:VTIMEZONE
TZID:Europe/Berlin
BEGIN:DAYLIGHT
TZOFFSETFROM:+0100
TZOFFSETTO:+0200
TZNAME:CEST
DTSTART:20210328T010000
END:DAYLIGHT
BEGIN:STANDARD
TZOFFSETFROM:+0200
TZOFFSETTO:+0100
TZNAME:CET
DTSTART:20211031T010000
END:STANDARD
BEGIN:DAYLIGHT
TZOFFSETFROM:+0100
TZOFFSETTO:+0200
TZNAME:CEST
DTSTART:20220327T010000
END:DAYLIGHT
BEGIN:STANDARD
TZOFFSETFROM:+0200
TZOFFSETTO:+0100
TZNAME:CET
DTSTART:20221030T010000
END:STANDARD
BEGIN:DAYLIGHT
TZOFFSETFROM:+0100
TZOFFSETTO:+0200
TZNAME:CEST
DTSTART:20230326T010000
END:DAYLIGHT
BEGIN:STANDARD
TZOFFSETFROM:+0200
TZOFFSETTO:+0100
TZNAME:CET
DTSTART:20231029T010000
END:STANDARD
END:VTIMEZONE
BEGIN:VEVENT
DTSTART;TZID=Europe/Berlin:20221118T173000
DTEND;TZID=Europe/Berlin:20221118T190000
DTSTAMP:20260422T043409
CREATED:20221114T133525Z
LAST-MODIFIED:20221115T101844Z
UID:23933-1668792600-1668798000@stuttgarti-katolikusok.de
SUMMARY:Stuttgarti délután
DESCRIPTION:November 18-án\, pénteken\, Stuttgarti délután\, Árpád-házi Szent Erzsébet ünnepe\, \n16.30 órakor Barátságklub ELMARAD! \n18.00 órakor szentmise\, előtte rózsafüzért imádkozunk. Szentmise keretében Beszélgetések a Katekizmusról.  \nMindenkit szeretettel vár a közösség és Tibor atya! \n \n* \nBensőséges őszi napokat\, jó munkát\, tartalmas beszélgetéseket és örömteli találkozásokat kívánunk minden Kedves Hívünknek! \n* \n„ATYÁM\, \nRád hagyatkozom\, tedd velem azt\, ami neked tetszik. \nBármit teszel is velem\, megköszönöm. \nKész vagyok mindenre\, elfogadok mindent\, \ncsak akaratod teljesedjék\, bennem és minden teremtményedben. \nSemmi mást nem óhajtok\, Istenem! \nKezedbe ajánlom lelkemet\, neked adom\, Istenem\, \nszívem egész szeretetével\, \nmert szeretlek téged\, és a szeretet sürget\, \nhogy egészen neked adjam magam\, \nhogy fenntartás nélkül kezedbe helyezzem életemet \nhatártalan bizalommal\, \nmert te vagy az én Atyám!” \n(Boldog Charles de Foucauld – 1858-1916 – trappista szerzetes\, katolikus pap)
URL:https://stuttgarti-katolikusok.de/index.php/esemeny/stuttgarti-delutan-224/
LOCATION:Bruder Klaus Kirche\, Albert-Schäffle-Straße 30\, Stuttgart\, Baden-Württemberg\, 70186\, Németország
CATEGORIES:Stuttgarti délután
ATTACH;FMTTYPE=image/jpeg:https://stuttgarti-katolikusok.de/wp-content/uploads/2015/12/013__2_klaus.jpg
END:VEVENT
END:VCALENDAR