BEGIN:VCALENDAR
VERSION:2.0
PRODID:-//Stuttgarti Katolikusok - ECPv6.15.20//NONSGML v1.0//EN
CALSCALE:GREGORIAN
METHOD:PUBLISH
X-WR-CALNAME:Stuttgarti Katolikusok
X-ORIGINAL-URL:https://stuttgarti-katolikusok.de
X-WR-CALDESC:Események Stuttgarti Katolikusok
REFRESH-INTERVAL;VALUE=DURATION:PT1H
X-Robots-Tag:noindex
X-PUBLISHED-TTL:PT1H
BEGIN:VTIMEZONE
TZID:Europe/Berlin
BEGIN:DAYLIGHT
TZOFFSETFROM:+0100
TZOFFSETTO:+0200
TZNAME:CEST
DTSTART:20210328T010000
END:DAYLIGHT
BEGIN:STANDARD
TZOFFSETFROM:+0200
TZOFFSETTO:+0100
TZNAME:CET
DTSTART:20211031T010000
END:STANDARD
BEGIN:DAYLIGHT
TZOFFSETFROM:+0100
TZOFFSETTO:+0200
TZNAME:CEST
DTSTART:20220327T010000
END:DAYLIGHT
BEGIN:STANDARD
TZOFFSETFROM:+0200
TZOFFSETTO:+0100
TZNAME:CET
DTSTART:20221030T010000
END:STANDARD
BEGIN:DAYLIGHT
TZOFFSETFROM:+0100
TZOFFSETTO:+0200
TZNAME:CEST
DTSTART:20230326T010000
END:DAYLIGHT
BEGIN:STANDARD
TZOFFSETFROM:+0200
TZOFFSETTO:+0100
TZNAME:CET
DTSTART:20231029T010000
END:STANDARD
END:VTIMEZONE
BEGIN:VEVENT
DTSTART;TZID=Europe/Berlin:20221023T083000
DTEND;TZID=Europe/Berlin:20221023T093000
DTSTAMP:20260421T231313
CREATED:20230208T071902Z
LAST-MODIFIED:20230208T072554Z
UID:25644-1666513800-1666517400@stuttgarti-katolikusok.de
SUMMARY:Böblingen
DESCRIPTION:
URL:https://stuttgarti-katolikusok.de/index.php/esemeny/boblingen-7/
LOCATION:Baden-Württemberg
CATEGORIES:Szentmisék helye és ideje
END:VEVENT
BEGIN:VEVENT
DTSTART;TZID=Europe/Berlin:20221023T093000
DTEND;TZID=Europe/Berlin:20221023T113000
DTSTAMP:20260421T231313
CREATED:20221018T082303Z
LAST-MODIFIED:20221018T082303Z
UID:23816-1666517400-1666524600@stuttgarti-katolikusok.de
SUMMARY:Szentmise Böblingenben
DESCRIPTION:Október 23-án\, évközi 30. vasárnap\, Böblingenben 9.30 órakor szentmise\, utána ágápé. \nMindenkit szeretettel vár a közösség és Tibor atya! \n* \n \n* \nBensőséges őszi napokat\, jó munkát\, tartalmas beszélgetéseket és örömteli találkozásokat kívánunk minden Kedves Hívünknek! \n* \n„Csak az képes a mások életéért önmagát mélyen és állandóan odaadni\, aki a saját életakaratáért való odaadásban az eseményektől való belső szabadságot megtapasztalta.” \n(Albert Schweitzer – 1875-1965)
URL:https://stuttgarti-katolikusok.de/index.php/esemeny/szentmise-boblingenben-47/
LOCATION:St. Bonifatius Kirche\, Sindelfinger Str. 14\, Böblingen\, Baden-Württemberg\, 71032\, Németország
CATEGORIES:Szentmise
ATTACH;FMTTYPE=image/jpeg:https://stuttgarti-katolikusok.de/wp-content/uploads/2021/11/boblingen.jpeg
END:VEVENT
BEGIN:VEVENT
DTSTART;TZID=Europe/Berlin:20221023T143000
DTEND;TZID=Europe/Berlin:20221023T153000
DTSTAMP:20260421T231313
CREATED:20230208T071909Z
LAST-MODIFIED:20230208T072554Z
UID:25645-1666535400-1666539000@stuttgarti-katolikusok.de
SUMMARY:Heilbronn
DESCRIPTION:
URL:https://stuttgarti-katolikusok.de/index.php/esemeny/heilbronn-9/
LOCATION:Baden-Württemberg
CATEGORIES:Szentmisék helye és ideje
END:VEVENT
BEGIN:VEVENT
DTSTART;TZID=Europe/Berlin:20221023T153000
DTEND;TZID=Europe/Berlin:20221023T173000
DTSTAMP:20260421T231313
CREATED:20221018T082630Z
LAST-MODIFIED:20221018T082630Z
UID:23818-1666539000-1666546200@stuttgarti-katolikusok.de
SUMMARY:Szentmise Heilbronnban
DESCRIPTION:Október 23-án\, évközi 30. vasárnap\, Heilbronnban 15.30 órakor szentmise\, utána ágápé. \nMindenkit szeretettel vár a közösség és Tibor atya! \n* \n \n* \nBensőséges őszi napokat\, jó munkát\, tartalmas beszélgetéseket és örömteli találkozásokat kívánunk minden Kedves Hívünknek! \n* \n„Csak az képes a mások életéért önmagát mélyen és állandóan odaadni\, aki a saját életakaratáért való odaadásban az eseményektől való belső szabadságot megtapasztalta.” \n(Albert Schweitzer – 1875-1965)
URL:https://stuttgarti-katolikusok.de/index.php/esemeny/szentmise-heilbronnban-49/
LOCATION:Baden-Württemberg
CATEGORIES:Szentmise
ATTACH;FMTTYPE=image/jpeg:https://stuttgarti-katolikusok.de/wp-content/uploads/2021/05/heiliggeist-aussenansicht.jpg
END:VEVENT
END:VCALENDAR