BEGIN:VCALENDAR
VERSION:2.0
PRODID:-//Stuttgarti Katolikusok - ECPv6.15.20//NONSGML v1.0//EN
CALSCALE:GREGORIAN
METHOD:PUBLISH
X-WR-CALNAME:Stuttgarti Katolikusok
X-ORIGINAL-URL:https://stuttgarti-katolikusok.de
X-WR-CALDESC:Események Stuttgarti Katolikusok
REFRESH-INTERVAL;VALUE=DURATION:PT1H
X-Robots-Tag:noindex
X-PUBLISHED-TTL:PT1H
BEGIN:VTIMEZONE
TZID:Europe/Berlin
BEGIN:DAYLIGHT
TZOFFSETFROM:+0100
TZOFFSETTO:+0200
TZNAME:CEST
DTSTART:20210328T010000
END:DAYLIGHT
BEGIN:STANDARD
TZOFFSETFROM:+0200
TZOFFSETTO:+0100
TZNAME:CET
DTSTART:20211031T010000
END:STANDARD
BEGIN:DAYLIGHT
TZOFFSETFROM:+0100
TZOFFSETTO:+0200
TZNAME:CEST
DTSTART:20220327T010000
END:DAYLIGHT
BEGIN:STANDARD
TZOFFSETFROM:+0200
TZOFFSETTO:+0100
TZNAME:CET
DTSTART:20221030T010000
END:STANDARD
BEGIN:DAYLIGHT
TZOFFSETFROM:+0100
TZOFFSETTO:+0200
TZNAME:CEST
DTSTART:20230326T010000
END:DAYLIGHT
BEGIN:STANDARD
TZOFFSETFROM:+0200
TZOFFSETTO:+0100
TZNAME:CET
DTSTART:20231029T010000
END:STANDARD
END:VTIMEZONE
BEGIN:VEVENT
DTSTART;TZID=Europe/Berlin:20220917T143000
DTEND;TZID=Europe/Berlin:20220917T153000
DTSTAMP:20260421T212508
CREATED:20230208T071846Z
LAST-MODIFIED:20230208T072547Z
UID:25631-1663425000-1663428600@stuttgarti-katolikusok.de
SUMMARY:Heidenheim
DESCRIPTION:
URL:https://stuttgarti-katolikusok.de/index.php/esemeny/heidenheim-7/
LOCATION:Baden-Württemberg
CATEGORIES:Szentmisék helye és ideje
END:VEVENT
BEGIN:VEVENT
DTSTART;TZID=Europe/Berlin:20220917T153000
DTEND;TZID=Europe/Berlin:20220917T173000
DTSTAMP:20260421T212508
CREATED:20220912T223656Z
LAST-MODIFIED:20220912T223656Z
UID:23622-1663428600-1663435800@stuttgarti-katolikusok.de
SUMMARY:Szent István búcsú Heidenheimban
DESCRIPTION:Szeptember 17-én\, szombaton\, Heidenheimban 15.30 órakor búcsús-szentmise\, Szent István királyra emlékezünk. Szentmisét követően ágápé és rövid kulturális műsor\, melyet a helyi közösség készít elő. \n \n\nMindenkit szeretettel vár a közösség és Tibor atya! \n* \nSzép Velence\, ősi város\, \nzengj az Úrnak éneket. \nErényekben kiváltságos\, \nGondviselés van veled\, \nmert Gellértet a jóságos \nIsten adta teneked. \n  \nS ő\, az Isten választottja\, \nnéki adja önmagát. \nLelke üdve lesz a gondja\, \nvállalván a Regulát\, \nföldi pálya nem marasztja\, \nKrisztus útján megy tovább. \n  \nŐt e honban tiszteletben \nrészesítik\, mint atyát. \nHitet plántál\, és a mennyben \nsokszorozza jók hadát\, \ntemplomot rak\, s mindenekben \ncsodálják alázatát. \n  \nLegyen áldás és imádat \nHáromság-egy Istennek\, \naz Atyának és Fiúnak \ns velük a Szentléleknek\, \nki a küzdőknek erőt ad\, \nhogy győzelmet nyerjenek. Ámen. \n(Himnusz Szent Gellért ünnepére) \n* \nBensőséges őszi napokat\, jó munkát\, tartalmas beszélgetéseket és örömteli találkozásokat kívánunk minden Kedves Hívünknek!
URL:https://stuttgarti-katolikusok.de/index.php/esemeny/szent-istvan-bucsu-heidenheimban-2/
LOCATION:Dreifaltigkeitskirche\, Verdi Str. 13\, Heidenheim an der Brenz\, Baden-Würtenberg\, 89518\, Németország
CATEGORIES:Szentmise
ATTACH;FMTTYPE=image/jpeg:https://stuttgarti-katolikusok.de/wp-content/uploads/2015/12/Heidenheim.jpg
END:VEVENT
BEGIN:VEVENT
DTSTART;TZID=Europe/Berlin:20220917T190000
DTEND;TZID=Europe/Berlin:20220917T200000
DTSTAMP:20260421T212508
CREATED:20220912T224035Z
LAST-MODIFIED:20220912T224035Z
UID:23624-1663441200-1663444800@stuttgarti-katolikusok.de
SUMMARY:Lénárt Linda orgonaművész koncertje
DESCRIPTION:Szeptember 17-én\, szombaton\, Stuttgartban 19.00 órakor a Nyitott templomok éjszakája rendezvény keretében Lénárt Linda orgonaművész koncertjére kerül sor a Bruder Klaus Kirche-ben. A belépés ingyenes! \n \n* \nMindenkit szeretettel vár a közösség és Tibor atya! \n* \nSzép Velence\, ősi város\, \nzengj az Úrnak éneket. \nErényekben kiváltságos\, \nGondviselés van veled\, \nmert Gellértet a jóságos \nIsten adta teneked. \n  \nS ő\, az Isten választottja\, \nnéki adja önmagát. \nLelke üdve lesz a gondja\, \nvállalván a Regulát\, \nföldi pálya nem marasztja\, \nKrisztus útján megy tovább. \n  \nŐt e honban tiszteletben \nrészesítik\, mint atyát. \nHitet plántál\, és a mennyben \nsokszorozza jók hadát\, \ntemplomot rak\, s mindenekben \ncsodálják alázatát. \n  \nLegyen áldás és imádat \nHáromság-egy Istennek\, \naz Atyának és Fiúnak \ns velük a Szentléleknek\, \nki a küzdőknek erőt ad\, \nhogy győzelmet nyerjenek. Ámen. \n(Himnusz Szent Gellért ünnepére) \n* \nBensőséges őszi napokat\, jó munkát\, tartalmas beszélgetéseket és örömteli találkozásokat kívánunk minden Kedves Hívünknek!
URL:https://stuttgarti-katolikusok.de/index.php/esemeny/lenart-linda-orgonamuvesz-koncertje/
LOCATION:Bruder Klaus Kirche\, Albert-Schäffle-Straße 30\, Stuttgart\, Baden-Württemberg\, 70186\, Németország
CATEGORIES:Kiemelt esemény
ATTACH;FMTTYPE=image/jpeg:https://stuttgarti-katolikusok.de/wp-content/uploads/2015/12/013__2_klaus.jpg
END:VEVENT
END:VCALENDAR