BEGIN:VCALENDAR
VERSION:2.0
PRODID:-//Stuttgarti Katolikusok - ECPv6.15.20//NONSGML v1.0//EN
CALSCALE:GREGORIAN
METHOD:PUBLISH
X-ORIGINAL-URL:https://stuttgarti-katolikusok.de
X-WR-CALDESC:Események Stuttgarti Katolikusok
REFRESH-INTERVAL;VALUE=DURATION:PT1H
X-Robots-Tag:noindex
X-PUBLISHED-TTL:PT1H
BEGIN:VTIMEZONE
TZID:Europe/Berlin
BEGIN:DAYLIGHT
TZOFFSETFROM:+0100
TZOFFSETTO:+0200
TZNAME:CEST
DTSTART:20210328T010000
END:DAYLIGHT
BEGIN:STANDARD
TZOFFSETFROM:+0200
TZOFFSETTO:+0100
TZNAME:CET
DTSTART:20211031T010000
END:STANDARD
BEGIN:DAYLIGHT
TZOFFSETFROM:+0100
TZOFFSETTO:+0200
TZNAME:CEST
DTSTART:20220327T010000
END:DAYLIGHT
BEGIN:STANDARD
TZOFFSETFROM:+0200
TZOFFSETTO:+0100
TZNAME:CET
DTSTART:20221030T010000
END:STANDARD
BEGIN:DAYLIGHT
TZOFFSETFROM:+0100
TZOFFSETTO:+0200
TZNAME:CEST
DTSTART:20230326T010000
END:DAYLIGHT
BEGIN:STANDARD
TZOFFSETFROM:+0200
TZOFFSETTO:+0100
TZNAME:CET
DTSTART:20231029T010000
END:STANDARD
END:VTIMEZONE
BEGIN:VEVENT
DTSTART;TZID=Europe/Berlin:20220910T153000
DTEND;TZID=Europe/Berlin:20220910T163000
DTSTAMP:20260421T212530
CREATED:20230208T071844Z
LAST-MODIFIED:20230208T072545Z
UID:25628-1662823800-1662827400@stuttgarti-katolikusok.de
SUMMARY:Biberach
DESCRIPTION:
URL:https://stuttgarti-katolikusok.de/index.php/esemeny/biberach-17/
LOCATION:Baden-Württemberg
CATEGORIES:Szentmisék helye és ideje
END:VEVENT
BEGIN:VEVENT
DTSTART;TZID=Europe/Berlin:20220910T164500
DTEND;TZID=Europe/Berlin:20220910T190000
DTSTAMP:20260421T212530
CREATED:20220905T231901Z
LAST-MODIFIED:20220905T232308Z
UID:23599-1662828300-1662836400@stuttgarti-katolikusok.de
SUMMARY:Szentmise Biberachban
DESCRIPTION: Szeptember 10-én\, szombaton\, Biberachban 16.45 órakor szentmise\, utána ágápé. \nHelyszín: Dreifaltigkeitskirche továbbra is!!! \nIdőpont megváltozott: 16.45 óra!!! \nMindenkit szeretettel vár a közösség és Tibor atya! \n* \n„Arra figyelmeztet az Úr\, hogy kölcsönösen ne hanyagoljuk el egymás bűneit\, de nem úgy\, hogy arra figyelünk\, mit mi is kárhoztatunk\, hanem úgy\, hogy arra ügyelünk\, amit javítani tudunk.” (Szent Ágoston) \n* \nBensőséges őszi napokat\, jó munkát\, tartalmas beszélgetéseket és örömteli találkozásokat kívánunk minden Kedves Hívünknek!
URL:https://stuttgarti-katolikusok.de/index.php/esemeny/szentmise-biberachban-51/
LOCATION:Dreifaltigkeitskirche Biberach\, Mittelbergstr. 29\, Biberach an der Riß\, Baden Württemberg\, 88400\, Németország
CATEGORIES:Szentmise
ATTACH;FMTTYPE=image/jpeg:https://stuttgarti-katolikusok.de/wp-content/uploads/2020/05/dreifeltigskeit-bc.jpg
END:VEVENT
END:VCALENDAR