BEGIN:VCALENDAR
VERSION:2.0
PRODID:-//Stuttgarti Katolikusok - ECPv6.15.20//NONSGML v1.0//EN
CALSCALE:GREGORIAN
METHOD:PUBLISH
X-ORIGINAL-URL:https://stuttgarti-katolikusok.de
X-WR-CALDESC:Események Stuttgarti Katolikusok
REFRESH-INTERVAL;VALUE=DURATION:PT1H
X-Robots-Tag:noindex
X-PUBLISHED-TTL:PT1H
BEGIN:VTIMEZONE
TZID:Europe/Berlin
BEGIN:DAYLIGHT
TZOFFSETFROM:+0100
TZOFFSETTO:+0200
TZNAME:CEST
DTSTART:20210328T010000
END:DAYLIGHT
BEGIN:STANDARD
TZOFFSETFROM:+0200
TZOFFSETTO:+0100
TZNAME:CET
DTSTART:20211031T010000
END:STANDARD
BEGIN:DAYLIGHT
TZOFFSETFROM:+0100
TZOFFSETTO:+0200
TZNAME:CEST
DTSTART:20220327T010000
END:DAYLIGHT
BEGIN:STANDARD
TZOFFSETFROM:+0200
TZOFFSETTO:+0100
TZNAME:CET
DTSTART:20221030T010000
END:STANDARD
BEGIN:DAYLIGHT
TZOFFSETFROM:+0100
TZOFFSETTO:+0200
TZNAME:CEST
DTSTART:20230326T010000
END:DAYLIGHT
BEGIN:STANDARD
TZOFFSETFROM:+0200
TZOFFSETTO:+0100
TZNAME:CET
DTSTART:20231029T010000
END:STANDARD
END:VTIMEZONE
BEGIN:VEVENT
DTSTART;TZID=Europe/Berlin:20220907T173000
DTEND;TZID=Europe/Berlin:20220907T190000
DTSTAMP:20260421T212530
CREATED:20220905T230045Z
LAST-MODIFIED:20220905T230045Z
UID:23593-1662571800-1662577200@stuttgarti-katolikusok.de
SUMMARY:Weingarteni délután
DESCRIPTION:Szeptember 7-én\, szerdán\, Weingarteni délután\, Kisboldogasszony ünnepe. A 14 Nothelfer Kapelle-ben 18.00 órakor szentmise\, előtte rózsafüzért imádkozunk. Ezt követően pedig a jelenlévőkkel együtt visszatekintünk az elmúlt hónapok történéseire. \nMindenkit szeretettel vár a közösség és Tibor atya! \n* \n„Arra figyelmeztet az Úr\, hogy kölcsönösen ne hanyagoljuk el egymás bűneit\, de nem úgy\, hogy arra figyelünk\, mit mi is kárhoztatunk\, hanem úgy\, hogy arra ügyelünk\, amit javítani tudunk.” (Szent Ágoston) \n* \nBensőséges őszi napokat\, jó munkát\, tartalmas beszélgetéseket és örömteli találkozásokat kívánunk minden Kedves Hívünknek!
URL:https://stuttgarti-katolikusok.de/index.php/esemeny/weingarteni-delutan-172/
LOCATION:14 Nothelfer  Kapelle\, Ravensburger Str. 39\, Weingarten\, Baden-Württemberg\, 88250\, Németország
CATEGORIES:Weingarteni délután
ATTACH;FMTTYPE=image/jpeg:https://stuttgarti-katolikusok.de/wp-content/uploads/2015/12/Weingarten_Kapelle_14_Nothelfer.jpg
END:VEVENT
END:VCALENDAR