BEGIN:VCALENDAR
VERSION:2.0
PRODID:-//Stuttgarti Katolikusok - ECPv6.15.20//NONSGML v1.0//EN
CALSCALE:GREGORIAN
METHOD:PUBLISH
X-WR-CALNAME:Stuttgarti Katolikusok
X-ORIGINAL-URL:https://stuttgarti-katolikusok.de
X-WR-CALDESC:Események Stuttgarti Katolikusok
REFRESH-INTERVAL;VALUE=DURATION:PT1H
X-Robots-Tag:noindex
X-PUBLISHED-TTL:PT1H
BEGIN:VTIMEZONE
TZID:Europe/Berlin
BEGIN:DAYLIGHT
TZOFFSETFROM:+0100
TZOFFSETTO:+0200
TZNAME:CEST
DTSTART:20210328T010000
END:DAYLIGHT
BEGIN:STANDARD
TZOFFSETFROM:+0200
TZOFFSETTO:+0100
TZNAME:CET
DTSTART:20211031T010000
END:STANDARD
BEGIN:DAYLIGHT
TZOFFSETFROM:+0100
TZOFFSETTO:+0200
TZNAME:CEST
DTSTART:20220327T010000
END:DAYLIGHT
BEGIN:STANDARD
TZOFFSETFROM:+0200
TZOFFSETTO:+0100
TZNAME:CET
DTSTART:20221030T010000
END:STANDARD
BEGIN:DAYLIGHT
TZOFFSETFROM:+0100
TZOFFSETTO:+0200
TZNAME:CEST
DTSTART:20230326T010000
END:DAYLIGHT
BEGIN:STANDARD
TZOFFSETFROM:+0200
TZOFFSETTO:+0100
TZNAME:CET
DTSTART:20231029T010000
END:STANDARD
END:VTIMEZONE
BEGIN:VEVENT
DTSTART;TZID=Europe/Berlin:20220904T083000
DTEND;TZID=Europe/Berlin:20220904T093000
DTSTAMP:20260421T192451
CREATED:20230208T071835Z
LAST-MODIFIED:20230208T072544Z
UID:25626-1662280200-1662283800@stuttgarti-katolikusok.de
SUMMARY:Schwäbisch Gmünd
DESCRIPTION:
URL:https://stuttgarti-katolikusok.de/index.php/esemeny/schwabisch-gmund-25/
LOCATION:Baden-Württemberg
CATEGORIES:Szentmisék helye és ideje
END:VEVENT
BEGIN:VEVENT
DTSTART;TZID=Europe/Berlin:20220904T093000
DTEND;TZID=Europe/Berlin:20220904T113000
DTSTAMP:20260421T192451
CREATED:20220830T211624Z
LAST-MODIFIED:20220830T211624Z
UID:23576-1662283800-1662291000@stuttgarti-katolikusok.de
SUMMARY:Szentmise Schwäbisch-Gmündben
DESCRIPTION:Szeptember 4-én\, évközi 23. vasárnap\, Schwäbisch-Gmündben 9.30 órakor szentmise\, utána ágápé. \nMindenkit szeretettel vár a közösség és Tibor atya! \n* \nMennyei Atyánk\,\nminden élet forrása!\nKüldd el Szentlelkedet\,\nhogy az önmagát értünk feláldozó\nés az Oltáriszentségben\nvelünk levő Krisztust felismerjük\nés egyre jobban szeressük!\nŐ Urunk és Mesterünk\,\nbarátunk és táplálékunk\,\norvosunk és békességünk.\nAdj bátorságot\, hogy az Ő erejét és örömét\nelvigyük minden emberhez!\nAdd\, hogy a készület ideje\nés az Eucharisztikus Kongresszus ünneplése\negész hívő közösségünk\,\nfővárosunk\, népünk\,\nEurópa és a világ\nlelki megújulására szolgáljon!\nÁmen.
URL:https://stuttgarti-katolikusok.de/index.php/esemeny/szentmise-schwabisch-gmundben-57/
LOCATION:Sankt Franziskus Kirche\, Franziskaner Str. 3\, Schwäbisch-Gmünd\, Baden-Württemberg\, 73525\, Németország
CATEGORIES:Szentmise
ATTACH;FMTTYPE=image/jpeg:https://stuttgarti-katolikusok.de/wp-content/uploads/2018/03/st-franziskus-schw-gmund.jpg
END:VEVENT
BEGIN:VEVENT
DTSTART;TZID=Europe/Berlin:20220904T140000
DTEND;TZID=Europe/Berlin:20220904T150000
DTSTAMP:20260421T192451
CREATED:20230208T071838Z
LAST-MODIFIED:20230208T072545Z
UID:25627-1662300000-1662303600@stuttgarti-katolikusok.de
SUMMARY:Stuttgart
DESCRIPTION:
URL:https://stuttgarti-katolikusok.de/index.php/esemeny/stuttgart-29/
LOCATION:Baden-Württemberg
CATEGORIES:Szentmisék helye és ideje
END:VEVENT
BEGIN:VEVENT
DTSTART;TZID=Europe/Berlin:20220904T150000
DTEND;TZID=Europe/Berlin:20220904T170000
DTSTAMP:20260421T192451
CREATED:20220830T211835Z
LAST-MODIFIED:20220830T211835Z
UID:23578-1662303600-1662310800@stuttgarti-katolikusok.de
SUMMARY:Szentmise Stuttgartban
DESCRIPTION:  \nSzeptember 4-én\, évközi 23. vasárnap\, Stuttgartban 15.00 órakor szentmise. Szentmise végén bár nincs ágápé\, ellenben a közösségi teremben beszélgetésre várlak benneteket. \nMindenkit szeretettel vár a közösség és Tibor atya! \n* \nMennyei Atyánk\,\nminden élet forrása!\nKüldd el Szentlelkedet\,\nhogy az önmagát értünk feláldozó\nés az Oltáriszentségben\nvelünk levő Krisztust felismerjük\nés egyre jobban szeressük!\nŐ Urunk és Mesterünk\,\nbarátunk és táplálékunk\,\norvosunk és békességünk.\nAdj bátorságot\, hogy az Ő erejét és örömét\nelvigyük minden emberhez!\nAdd\, hogy a készület ideje\nés az Eucharisztikus Kongresszus ünneplése\negész hívő közösségünk\,\nfővárosunk\, népünk\,\nEurópa és a világ\nlelki megújulására szolgáljon!\nÁmen.
URL:https://stuttgarti-katolikusok.de/index.php/esemeny/szentmise-stuttgartban-104/
LOCATION:Bruder Klaus Kirche\, Albert-Schäffle-Straße 30\, Stuttgart\, Baden-Württemberg\, 70186\, Németország
CATEGORIES:Szentmise
ATTACH;FMTTYPE=image/jpeg:https://stuttgarti-katolikusok.de/wp-content/uploads/2015/12/013__2_klaus.jpg
END:VEVENT
END:VCALENDAR