BEGIN:VCALENDAR
VERSION:2.0
PRODID:-//Stuttgarti Katolikusok - ECPv6.15.20//NONSGML v1.0//EN
CALSCALE:GREGORIAN
METHOD:PUBLISH
X-WR-CALNAME:Stuttgarti Katolikusok
X-ORIGINAL-URL:https://stuttgarti-katolikusok.de
X-WR-CALDESC:Események Stuttgarti Katolikusok
REFRESH-INTERVAL;VALUE=DURATION:PT1H
X-Robots-Tag:noindex
X-PUBLISHED-TTL:PT1H
BEGIN:VTIMEZONE
TZID:Europe/Berlin
BEGIN:DAYLIGHT
TZOFFSETFROM:+0100
TZOFFSETTO:+0200
TZNAME:CEST
DTSTART:20210328T010000
END:DAYLIGHT
BEGIN:STANDARD
TZOFFSETFROM:+0200
TZOFFSETTO:+0100
TZNAME:CET
DTSTART:20211031T010000
END:STANDARD
BEGIN:DAYLIGHT
TZOFFSETFROM:+0100
TZOFFSETTO:+0200
TZNAME:CEST
DTSTART:20220327T010000
END:DAYLIGHT
BEGIN:STANDARD
TZOFFSETFROM:+0200
TZOFFSETTO:+0100
TZNAME:CET
DTSTART:20221030T010000
END:STANDARD
BEGIN:DAYLIGHT
TZOFFSETFROM:+0100
TZOFFSETTO:+0200
TZNAME:CEST
DTSTART:20230326T010000
END:DAYLIGHT
BEGIN:STANDARD
TZOFFSETFROM:+0200
TZOFFSETTO:+0100
TZNAME:CET
DTSTART:20231029T010000
END:STANDARD
END:VTIMEZONE
BEGIN:VEVENT
DTSTART;TZID=Europe/Berlin:20220619T080000
DTEND;TZID=Europe/Berlin:20220619T090000
DTSTAMP:20260421T153638
CREATED:20230208T071930Z
LAST-MODIFIED:20230208T072722Z
UID:25679-1655625600-1655629200@stuttgarti-katolikusok.de
SUMMARY:Ludwigsburg
DESCRIPTION:
URL:https://stuttgarti-katolikusok.de/index.php/esemeny/ludwigsburg-5/
LOCATION:Baden-Württemberg
CATEGORIES:Szentmisék helye és ideje
END:VEVENT
BEGIN:VEVENT
DTSTART;TZID=Europe/Berlin:20220619T090000
DTEND;TZID=Europe/Berlin:20220619T110000
DTSTAMP:20260421T153638
CREATED:20220613T233050Z
LAST-MODIFIED:20220613T233050Z
UID:23480-1655629200-1655636400@stuttgarti-katolikusok.de
SUMMARY:Szent László egyházközségi búcsú Ludwigsburgban
DESCRIPTION:Június 19-én\, Évközi 12. vasárnap\, Ludwigsburgban  9.00 órakor búcsús szentmise\, Szent László királyt köszöntjük\, végeztével ágápé. \n \n* \nMindenkit szeretettel vár a közösség és Tibor atya! \n \n* \nKegyelemteljes napokat\, tartalmas beszélgetéseket és örömteli találkozásokat kívánunk minden Kedves Hívünknek! \n* \n„Győzelemről énekeljen Napkelet és Napnyugat\,\nMillió szív összecsengjen\, magasztalja az Urat!\nKrisztus újra földre szállott\, vándorlásunk társa lett\,\nMert szerette a világot\, kenyérszínbe rejtezett.\nKrisztus kenyér s bor színében Úr s Király a föld felett\,\nForrassz eggyé békességben minden népet s nemzetet! \nEgykor értünk testet öltött\, kisgyermekként jött közénk\,\nA keresztfán vére ömlött váltságunknak béreként.\nMost az oltár Golgotáján újra itt a drága vér\,\nÁldozat az Isten-Bárány\, Krisztus teste a kenyér.\nKrisztus kenyér s bor színében Úr s Király a föld felett\,\nForrassz eggyé békességben minden népet s nemzetet! \nZúgjon hát a hálaének\, szálljon völgyön\, tengeren\,\nA szeretet Istenének dicsőség és üdv legyen.\nAz egész föld legyen oltár\, virág rajta a szívünk\,\nMinden dalunk zengő zsoltár\, tömjénillat a hitünk.\nKrisztus kenyér s bor színében Úr s Király a föld felett\,\nForrassz eggyé békességben minden népet s nemzetet! \n  \nIstván király árva népe\, te is hajtsd meg homlokod\,\nBorulj térdre\, szórd elébe minden gondod\, bánatod!\nA kereszt volt ezer éven reménységed oszlopa\,\nMost is Krisztus jele légyen jobb jövődnek záloga.\nKrisztus kenyér s bor színében Úr s Király a föld felett\,\nForrassz eggyé békességben minden népet s nemzetet!” \n(A 34. és 52. Nemzetközi Eucharisztikus Kongresszus himnusza)
URL:https://stuttgarti-katolikusok.de/index.php/esemeny/szent-laszlo-egyhazkozsegi-bucsu-ludwigsburgban/
LOCATION:St. Josef Kirche\, Park Str. 30\, Ludwigsburg-Hoheneck\, Baden-Württemberg\, 71642
CATEGORIES:Szentmise
ATTACH;FMTTYPE=image/jpeg:https://stuttgarti-katolikusok.de/wp-content/uploads/2021/04/ludwigsburg.jpeg
END:VEVENT
BEGIN:VEVENT
DTSTART;TZID=Europe/Berlin:20220619T103000
DTEND;TZID=Europe/Berlin:20220619T113000
DTSTAMP:20260421T153638
CREATED:20230208T071939Z
LAST-MODIFIED:20230208T072800Z
UID:25694-1655634600-1655638200@stuttgarti-katolikusok.de
SUMMARY:Stuttgart elsőáldozás
DESCRIPTION:
URL:https://stuttgarti-katolikusok.de/index.php/esemeny/stuttgart-elsoaldozas-2/
LOCATION:Baden-Württemberg
CATEGORIES:Szentmisék helye és ideje
END:VEVENT
BEGIN:VEVENT
DTSTART;TZID=Europe/Berlin:20220619T113000
DTEND;TZID=Europe/Berlin:20220619T123000
DTSTAMP:20260421T153638
CREATED:20220613T233324Z
LAST-MODIFIED:20220613T233324Z
UID:23482-1655638200-1655641800@stuttgarti-katolikusok.de
SUMMARY:Szentmise Stuttgartban
DESCRIPTION:Június 19-én\, Évközi 12. vasárnap\, Stuttgartban 11.30 órakor szentmise. \nMindenkit szeretettel vár a közösség és Tibor atya! \n \n* \nKegyelemteljes napokat\, tartalmas beszélgetéseket és örömteli találkozásokat kívánunk minden Kedves Hívünknek! \n* \n„Győzelemről énekeljen Napkelet és Napnyugat\,\nMillió szív összecsengjen\, magasztalja az Urat!\nKrisztus újra földre szállott\, vándorlásunk társa lett\,\nMert szerette a világot\, kenyérszínbe rejtezett.\nKrisztus kenyér s bor színében Úr s Király a föld felett\,\nForrassz eggyé békességben minden népet s nemzetet! \nEgykor értünk testet öltött\, kisgyermekként jött közénk\,\nA keresztfán vére ömlött váltságunknak béreként.\nMost az oltár Golgotáján újra itt a drága vér\,\nÁldozat az Isten-Bárány\, Krisztus teste a kenyér.\nKrisztus kenyér s bor színében Úr s Király a föld felett\,\nForrassz eggyé békességben minden népet s nemzetet! \nZúgjon hát a hálaének\, szálljon völgyön\, tengeren\,\nA szeretet Istenének dicsőség és üdv legyen.\nAz egész föld legyen oltár\, virág rajta a szívünk\,\nMinden dalunk zengő zsoltár\, tömjénillat a hitünk.\nKrisztus kenyér s bor színében Úr s Király a föld felett\,\nForrassz eggyé békességben minden népet s nemzetet! \n  \nIstván király árva népe\, te is hajtsd meg homlokod\,\nBorulj térdre\, szórd elébe minden gondod\, bánatod!\nA kereszt volt ezer éven reménységed oszlopa\,\nMost is Krisztus jele légyen jobb jövődnek záloga.\nKrisztus kenyér s bor színében Úr s Király a föld felett\,\nForrassz eggyé békességben minden népet s nemzetet!” \n(A 34. és 52. Nemzetközi Eucharisztikus Kongresszus himnusza)
URL:https://stuttgarti-katolikusok.de/index.php/esemeny/szentmise-stuttgartban-103/
LOCATION:Bruder Klaus Kirche\, Albert-Schäffle-Straße 30\, Stuttgart\, Baden-Württemberg\, 70186\, Németország
CATEGORIES:Szentmise
ATTACH;FMTTYPE=image/jpeg:https://stuttgarti-katolikusok.de/wp-content/uploads/2015/12/013__2_klaus.jpg
END:VEVENT
BEGIN:VEVENT
DTSTART;TZID=Europe/Berlin:20220619T143000
DTEND;TZID=Europe/Berlin:20220619T153000
DTSTAMP:20260421T153638
CREATED:20230208T071827Z
LAST-MODIFIED:20230208T072540Z
UID:25619-1655649000-1655652600@stuttgarti-katolikusok.de
SUMMARY:Eislingen
DESCRIPTION:
URL:https://stuttgarti-katolikusok.de/index.php/esemeny/eislingen-5/
LOCATION:Baden-Württemberg
CATEGORIES:Szentmisék helye és ideje
END:VEVENT
BEGIN:VEVENT
DTSTART;TZID=Europe/Berlin:20220619T153000
DTEND;TZID=Europe/Berlin:20220619T173000
DTSTAMP:20260421T153638
CREATED:20220613T233616Z
LAST-MODIFIED:20220613T233714Z
UID:23484-1655652600-1655659800@stuttgarti-katolikusok.de
SUMMARY:Szentmise Eislingenben
DESCRIPTION:Június 19-én\, Évközi 12. vasárnap\, Eislingenben 15.30 órakor szentmise\, amelyet ágápé követ. Ennek keretében sor kerül a hagyományos lángos sütésre! \nMindenkit szeretettel vár a közösség és Tibor atya! \n \n* \nKegyelemteljes napokat\, tartalmas beszélgetéseket és örömteli találkozásokat kívánunk minden Kedves Hívünknek! \n* \n„Győzelemről énekeljen Napkelet és Napnyugat\,\nMillió szív összecsengjen\, magasztalja az Urat!\nKrisztus újra földre szállott\, vándorlásunk társa lett\,\nMert szerette a világot\, kenyérszínbe rejtezett.\nKrisztus kenyér s bor színében Úr s Király a föld felett\,\nForrassz eggyé békességben minden népet s nemzetet! \nEgykor értünk testet öltött\, kisgyermekként jött közénk\,\nA keresztfán vére ömlött váltságunknak béreként.\nMost az oltár Golgotáján újra itt a drága vér\,\nÁldozat az Isten-Bárány\, Krisztus teste a kenyér.\nKrisztus kenyér s bor színében Úr s Király a föld felett\,\nForrassz eggyé békességben minden népet s nemzetet! \nZúgjon hát a hálaének\, szálljon völgyön\, tengeren\,\nA szeretet Istenének dicsőség és üdv legyen.\nAz egész föld legyen oltár\, virág rajta a szívünk\,\nMinden dalunk zengő zsoltár\, tömjénillat a hitünk.\nKrisztus kenyér s bor színében Úr s Király a föld felett\,\nForrassz eggyé békességben minden népet s nemzetet! \n  \nIstván király árva népe\, te is hajtsd meg homlokod\,\nBorulj térdre\, szórd elébe minden gondod\, bánatod!\nA kereszt volt ezer éven reménységed oszlopa\,\nMost is Krisztus jele légyen jobb jövődnek záloga.\nKrisztus kenyér s bor színében Úr s Király a föld felett\,\nForrassz eggyé békességben minden népet s nemzetet!” \n(A 34. és 52. Nemzetközi Eucharisztikus Kongresszus himnusza)
URL:https://stuttgarti-katolikusok.de/index.php/esemeny/szentmise-eislingenben-49/
LOCATION:Liebfrauen-Kirche\, Eberhardt Str. 30\, Eislingen/Fils\, Baden-Württemberg\, 73054\, Németország
CATEGORIES:Szentmise
END:VEVENT
END:VCALENDAR