BEGIN:VCALENDAR
VERSION:2.0
PRODID:-//Stuttgarti Katolikusok - ECPv6.15.20//NONSGML v1.0//EN
CALSCALE:GREGORIAN
METHOD:PUBLISH
X-WR-CALNAME:Stuttgarti Katolikusok
X-ORIGINAL-URL:https://stuttgarti-katolikusok.de
X-WR-CALDESC:Események Stuttgarti Katolikusok
REFRESH-INTERVAL;VALUE=DURATION:PT1H
X-Robots-Tag:noindex
X-PUBLISHED-TTL:PT1H
BEGIN:VTIMEZONE
TZID:Europe/Berlin
BEGIN:DAYLIGHT
TZOFFSETFROM:+0100
TZOFFSETTO:+0200
TZNAME:CEST
DTSTART:20210328T010000
END:DAYLIGHT
BEGIN:STANDARD
TZOFFSETFROM:+0200
TZOFFSETTO:+0100
TZNAME:CET
DTSTART:20211031T010000
END:STANDARD
BEGIN:DAYLIGHT
TZOFFSETFROM:+0100
TZOFFSETTO:+0200
TZNAME:CEST
DTSTART:20220327T010000
END:DAYLIGHT
BEGIN:STANDARD
TZOFFSETFROM:+0200
TZOFFSETTO:+0100
TZNAME:CET
DTSTART:20221030T010000
END:STANDARD
BEGIN:DAYLIGHT
TZOFFSETFROM:+0100
TZOFFSETTO:+0200
TZNAME:CEST
DTSTART:20230326T010000
END:DAYLIGHT
BEGIN:STANDARD
TZOFFSETFROM:+0200
TZOFFSETTO:+0100
TZNAME:CET
DTSTART:20231029T010000
END:STANDARD
END:VTIMEZONE
BEGIN:VEVENT
DTSTART;TZID=Europe/Berlin:20220611T153000
DTEND;TZID=Europe/Berlin:20220611T163000
DTSTAMP:20260421T153636
CREATED:20230208T071825Z
LAST-MODIFIED:20230208T072539Z
UID:25616-1654961400-1654965000@stuttgarti-katolikusok.de
SUMMARY:Biberach
DESCRIPTION:
URL:https://stuttgarti-katolikusok.de/index.php/esemeny/biberach-16/
LOCATION:Baden-Württemberg
CATEGORIES:Szentmisék helye és ideje
END:VEVENT
BEGIN:VEVENT
DTSTART;TZID=Europe/Berlin:20220611T163000
DTEND;TZID=Europe/Berlin:20220611T183000
DTSTAMP:20260421T153636
CREATED:20220607T120145Z
LAST-MODIFIED:20220607T120145Z
UID:23440-1654965000-1654972200@stuttgarti-katolikusok.de
SUMMARY:Árpád-házi Szent Kinga búcsú Biberachban
DESCRIPTION:Örömmel jelezzük\, hogy újra szabadon\, minden korlátozás nélkül látogathatjuk templomainkat.  \n * \nJúnius 11-én\, szombaton\, Biberachban 16.30 órakor búcsús-szentmise\, utána ágápé. Árpád-házi Szent Kingát köszöntjük. Helyszín: Dreifaltigkeitskirche  – 88400 Biberach an der Riss\, Mittelbergstraße 29.. \nMindenkit szeretettel vár a közösség és Tibor atya! \n* \n \n* \nKegyelemteljes napokat\, tartalmas beszélgetéseket és örömteli találkozásokat kívánunk minden Kedves Hívünknek! \n* \n„A hamisság mindenképp önzésből fakad\, sorsa is szükségszerűen véges. Vele szemben az igazság csak ideiglenesen veszíthet\, sorsa viszont szükségszerűen torkollik a végtelenbe. Az igazság ezért sose lehet türelmetlen vagy támadó\, és sose irányulhat senki ellen. Tartalmára hogyan is cáfolhatna rá természete? Győzelme a szelídekre vár\, és a türelmesekre.” (Pilinszky János\, költő – 1921 – 1981) \n(Képek forrása: pixabay.com)
URL:https://stuttgarti-katolikusok.de/index.php/esemeny/arpad-hazi-szent-kinga-bucsu-biberachban/
LOCATION:Baden-Württemberg
CATEGORIES:Szentmise
ATTACH;FMTTYPE=image/jpeg:https://stuttgarti-katolikusok.de/wp-content/uploads/2020/05/dreifeltigskeit-bc.jpg
END:VEVENT
END:VCALENDAR