BEGIN:VCALENDAR
VERSION:2.0
PRODID:-//Stuttgarti Katolikusok - ECPv6.15.20//NONSGML v1.0//EN
CALSCALE:GREGORIAN
METHOD:PUBLISH
X-ORIGINAL-URL:https://stuttgarti-katolikusok.de
X-WR-CALDESC:Események Stuttgarti Katolikusok
REFRESH-INTERVAL;VALUE=DURATION:PT1H
X-Robots-Tag:noindex
X-PUBLISHED-TTL:PT1H
BEGIN:VTIMEZONE
TZID:Europe/Berlin
BEGIN:DAYLIGHT
TZOFFSETFROM:+0100
TZOFFSETTO:+0200
TZNAME:CEST
DTSTART:20210328T010000
END:DAYLIGHT
BEGIN:STANDARD
TZOFFSETFROM:+0200
TZOFFSETTO:+0100
TZNAME:CET
DTSTART:20211031T010000
END:STANDARD
BEGIN:DAYLIGHT
TZOFFSETFROM:+0100
TZOFFSETTO:+0200
TZNAME:CEST
DTSTART:20220327T010000
END:DAYLIGHT
BEGIN:STANDARD
TZOFFSETFROM:+0200
TZOFFSETTO:+0100
TZNAME:CET
DTSTART:20221030T010000
END:STANDARD
BEGIN:DAYLIGHT
TZOFFSETFROM:+0100
TZOFFSETTO:+0200
TZNAME:CEST
DTSTART:20230326T010000
END:DAYLIGHT
BEGIN:STANDARD
TZOFFSETFROM:+0200
TZOFFSETTO:+0100
TZNAME:CET
DTSTART:20231029T010000
END:STANDARD
END:VTIMEZONE
BEGIN:VEVENT
DTSTART;TZID=Europe/Berlin:20220604T100000
DTEND;TZID=Europe/Berlin:20220604T140000
DTSTAMP:20260421T140004
CREATED:20220531T142645Z
LAST-MODIFIED:20220531T142645Z
UID:23400-1654336800-1654351200@stuttgarti-katolikusok.de
SUMMARY:Nemzeti Összetartozás Napja Stuttgartban
DESCRIPTION:Örömmel jelezzük\, hogy újra szabadon\, minden korlátozás nélkül látogathatjuk templomainkat.  \nNincs szükség távolság megtartására és a maszk használatára. \n * \nJúnius 4-én\, szombaton\, Stuttgartban 10.00 órakor szentmise\, koszorúzás\, ünnepi program és baráti együttlét a Nemzeti Összetartozás Napja emlékére. \n \nMindenkit szeretettel vár a közösség és Tibor atya! \n* \n \n* \nKegyelemteljes húsvéti napokat\, tartalmas beszélgetéseket és örömteli találkozásokat kívánunk minden Kedves Hívünknek! \n* \nHrabanus Maurus: PÜNKÖSD HIMNUSZA \n(Babits Mihály fordítása)  \nTeremtő Lélek\, légy velünk!\nLátogasd híveid szivét!\nTöltsd malaszttal a kebleket\,\nmelyeknek alkotója vagy. \nTe kit Védőnknek mondanak\,\ns mellénk a magas Ég adott!\nTűz\, élő forrás\, szeretet!\nTe lelkek lelki olaja! \nAjándékoddal hétszeres!\nTe ujj az Isten jobbkezén!\nTe\, ki az Atya megigért\nszavával áldod torkaink! \nGyújts fényt érzékeinkbe! Öntsd\nszivünkbe szent szerelmedet!\nS mi bennünk testi gyöngeség\,\nörök erőddel izmosítsd! \nEllenségünket űzzed el!\nS a Békét tüstént hozd közel\,\nelőttünk járva\, mint vezér!\nS kerüljünk mindent\, ami árt. \nÁltalad tudjuk az Atyát\,\ns ismerjük\, adjad\, a Fiút!\nTebenned higyjük Szellemét\nmindakettőnek végtelen. \nEzt teljesítse az Atya\,\ns vele egylényü Egyfia\,\naki veled uralkodik\,\nóh Lélek\, minden századig! \n(Képek forrása: Szentlélek templom – Szatmárnémeti – Paulovics László grafikus\, festőművész alkotása)
URL:https://stuttgarti-katolikusok.de/index.php/esemeny/nemzeti-osszetartozas-napja-stuttgartban-2/
LOCATION:Bruder Klaus Kirche\, Albert-Schäffle-Straße 30\, Stuttgart\, Baden-Württemberg\, 70186\, Németország
CATEGORIES:Szentmise
ATTACH;FMTTYPE=image/jpeg:https://stuttgarti-katolikusok.de/wp-content/uploads/2018/06/28694255868_53a6a47faa_z.jpg
END:VEVENT
BEGIN:VEVENT
DTSTART;TZID=Europe/Berlin:20220604T150000
DTEND;TZID=Europe/Berlin:20220604T160000
DTSTAMP:20260421T140004
CREATED:20230208T071824Z
LAST-MODIFIED:20230208T072538Z
UID:25614-1654354800-1654358400@stuttgarti-katolikusok.de
SUMMARY:Balingen
DESCRIPTION:
URL:https://stuttgarti-katolikusok.de/index.php/esemeny/balingen-23/
LOCATION:Baden-Württemberg
CATEGORIES:Szentmisék helye és ideje
END:VEVENT
BEGIN:VEVENT
DTSTART;TZID=Europe/Berlin:20220604T160000
DTEND;TZID=Europe/Berlin:20220604T180000
DTSTAMP:20260421T140004
CREATED:20220531T142951Z
LAST-MODIFIED:20220531T142951Z
UID:23402-1654358400-1654365600@stuttgarti-katolikusok.de
SUMMARY:Szentmise Balingenben
DESCRIPTION:Örömmel jelezzük\, hogy újra szabadon\, minden korlátozás nélkül látogathatjuk templomainkat.  \nNincs szükség távolság megtartására és a maszk használatára. \n * \nJúnius 4-én\, szombaton\, Balingenben 16.00 órakor szentmise\, utána ágápé. \nMindenkit szeretettel vár a közösség és Tibor atya! \n* \n \n* \nKegyelemteljes húsvéti napokat\, tartalmas beszélgetéseket és örömteli találkozásokat kívánunk minden Kedves Hívünknek! \n* \nHrabanus Maurus: PÜNKÖSD HIMNUSZA \n(Babits Mihály fordítása)  \nTeremtő Lélek\, légy velünk!\nLátogasd híveid szivét!\nTöltsd malaszttal a kebleket\,\nmelyeknek alkotója vagy. \nTe kit Védőnknek mondanak\,\ns mellénk a magas Ég adott!\nTűz\, élő forrás\, szeretet!\nTe lelkek lelki olaja! \nAjándékoddal hétszeres!\nTe ujj az Isten jobbkezén!\nTe\, ki az Atya megigért\nszavával áldod torkaink! \nGyújts fényt érzékeinkbe! Öntsd\nszivünkbe szent szerelmedet!\nS mi bennünk testi gyöngeség\,\nörök erőddel izmosítsd! \nEllenségünket űzzed el!\nS a Békét tüstént hozd közel\,\nelőttünk járva\, mint vezér!\nS kerüljünk mindent\, ami árt. \nÁltalad tudjuk az Atyát\,\ns ismerjük\, adjad\, a Fiút!\nTebenned higyjük Szellemét\nmindakettőnek végtelen. \nEzt teljesítse az Atya\,\ns vele egylényü Egyfia\,\naki veled uralkodik\,\nóh Lélek\, minden századig! \n(Képek forrása: Szentlélek templom – Szatmárnémeti – Paulovics László grafikus\, festőművész alkotása)
URL:https://stuttgarti-katolikusok.de/index.php/esemeny/szentmise-balingenben-51/
LOCATION:Sankt Paulus Kirche\, St. Paulus Str. 2\, Balingen-Frommern\, Baden-Württemberg\, 72336\, Németország
CATEGORIES:Szentmise
ATTACH;FMTTYPE=image/jpeg:https://stuttgarti-katolikusok.de/wp-content/uploads/2018/04/20180505_163840-e1764632638620.jpg
END:VEVENT
END:VCALENDAR