BEGIN:VCALENDAR
VERSION:2.0
PRODID:-//Stuttgarti Katolikusok - ECPv6.15.20//NONSGML v1.0//EN
CALSCALE:GREGORIAN
METHOD:PUBLISH
X-ORIGINAL-URL:https://stuttgarti-katolikusok.de
X-WR-CALDESC:Események Stuttgarti Katolikusok
REFRESH-INTERVAL;VALUE=DURATION:PT1H
X-Robots-Tag:noindex
X-PUBLISHED-TTL:PT1H
BEGIN:VTIMEZONE
TZID:Europe/Berlin
BEGIN:DAYLIGHT
TZOFFSETFROM:+0100
TZOFFSETTO:+0200
TZNAME:CEST
DTSTART:20210328T010000
END:DAYLIGHT
BEGIN:STANDARD
TZOFFSETFROM:+0200
TZOFFSETTO:+0100
TZNAME:CET
DTSTART:20211031T010000
END:STANDARD
BEGIN:DAYLIGHT
TZOFFSETFROM:+0100
TZOFFSETTO:+0200
TZNAME:CEST
DTSTART:20220327T010000
END:DAYLIGHT
BEGIN:STANDARD
TZOFFSETFROM:+0200
TZOFFSETTO:+0100
TZNAME:CET
DTSTART:20221030T010000
END:STANDARD
BEGIN:DAYLIGHT
TZOFFSETFROM:+0100
TZOFFSETTO:+0200
TZNAME:CEST
DTSTART:20230326T010000
END:DAYLIGHT
BEGIN:STANDARD
TZOFFSETFROM:+0200
TZOFFSETTO:+0100
TZNAME:CET
DTSTART:20231029T010000
END:STANDARD
END:VTIMEZONE
BEGIN:VEVENT
DTSTART;TZID=Europe/Berlin:20220603T160000
DTEND;TZID=Europe/Berlin:20220603T190000
DTSTAMP:20260421T135016
CREATED:20220531T142022Z
LAST-MODIFIED:20220531T142022Z
UID:23398-1654272000-1654282800@stuttgarti-katolikusok.de
SUMMARY:Stuttgarti délután
DESCRIPTION:Örömmel jelezzük\, hogy újra szabadon\, minden korlátozás nélkül látogathatjuk templomainkat.  \nNincs szükség távolság megtartására és a maszk használatára. \n * \nJúnius 3-án\, pénteken\, Stuttgarti délután\, \n16.00 órakor Barátságklub\, \n17.30 órakor rózsafüzér és májusi ájtatosság\, utána szentmise\, végeztével imakör. \nMindenkit szeretettel vár a közösség és Tibor atya! \n* \n \n* \nKegyelemteljes húsvéti napokat\, tartalmas beszélgetéseket és örömteli találkozásokat kívánunk minden Kedves Hívünknek! \n* \nHrabanus Maurus: PÜNKÖSD HIMNUSZA \n(Babits Mihály fordítása)  \nTeremtő Lélek\, légy velünk!\nLátogasd híveid szivét!\nTöltsd malaszttal a kebleket\,\nmelyeknek alkotója vagy. \nTe kit Védőnknek mondanak\,\ns mellénk a magas Ég adott!\nTűz\, élő forrás\, szeretet!\nTe lelkek lelki olaja! \nAjándékoddal hétszeres!\nTe ujj az Isten jobbkezén!\nTe\, ki az Atya megigért\nszavával áldod torkaink! \nGyújts fényt érzékeinkbe! Öntsd\nszivünkbe szent szerelmedet!\nS mi bennünk testi gyöngeség\,\nörök erőddel izmosítsd! \nEllenségünket űzzed el!\nS a Békét tüstént hozd közel\,\nelőttünk járva\, mint vezér!\nS kerüljünk mindent\, ami árt. \nÁltalad tudjuk az Atyát\,\ns ismerjük\, adjad\, a Fiút!\nTebenned higyjük Szellemét\nmindakettőnek végtelen. \nEzt teljesítse az Atya\,\ns vele egylényü Egyfia\,\naki veled uralkodik\,\nóh Lélek\, minden századig! \n(Képek forrása: Szentlélek templom – Szatmárnémeti – Paulovics László grafikus\, festőművész alkotása)
URL:https://stuttgarti-katolikusok.de/index.php/esemeny/stuttgarti-delutan-212/
LOCATION:Bruder Klaus Kirche\, Albert-Schäffle-Straße 30\, Stuttgart\, Baden-Württemberg\, 70186\, Németország
CATEGORIES:Stuttgarti délután
ATTACH;FMTTYPE=image/jpeg:https://stuttgarti-katolikusok.de/wp-content/uploads/2015/12/013__2_klaus.jpg
END:VEVENT
END:VCALENDAR