BEGIN:VCALENDAR
VERSION:2.0
PRODID:-//Stuttgarti Katolikusok - ECPv6.15.20//NONSGML v1.0//EN
CALSCALE:GREGORIAN
METHOD:PUBLISH
X-WR-CALNAME:Stuttgarti Katolikusok
X-ORIGINAL-URL:https://stuttgarti-katolikusok.de
X-WR-CALDESC:Események Stuttgarti Katolikusok
REFRESH-INTERVAL;VALUE=DURATION:PT1H
X-Robots-Tag:noindex
X-PUBLISHED-TTL:PT1H
BEGIN:VTIMEZONE
TZID:Europe/Berlin
BEGIN:DAYLIGHT
TZOFFSETFROM:+0100
TZOFFSETTO:+0200
TZNAME:CEST
DTSTART:20210328T010000
END:DAYLIGHT
BEGIN:STANDARD
TZOFFSETFROM:+0200
TZOFFSETTO:+0100
TZNAME:CET
DTSTART:20211031T010000
END:STANDARD
BEGIN:DAYLIGHT
TZOFFSETFROM:+0100
TZOFFSETTO:+0200
TZNAME:CEST
DTSTART:20220327T010000
END:DAYLIGHT
BEGIN:STANDARD
TZOFFSETFROM:+0200
TZOFFSETTO:+0100
TZNAME:CET
DTSTART:20221030T010000
END:STANDARD
BEGIN:DAYLIGHT
TZOFFSETFROM:+0100
TZOFFSETTO:+0200
TZNAME:CEST
DTSTART:20230326T010000
END:DAYLIGHT
BEGIN:STANDARD
TZOFFSETFROM:+0200
TZOFFSETTO:+0100
TZNAME:CET
DTSTART:20231029T010000
END:STANDARD
END:VTIMEZONE
BEGIN:VEVENT
DTSTART;TZID=Europe/Berlin:20220529T080000
DTEND;TZID=Europe/Berlin:20220529T090000
DTSTAMP:20260421T134958
CREATED:20230208T071946Z
LAST-MODIFIED:20230208T072806Z
UID:25706-1653811200-1653814800@stuttgarti-katolikusok.de
SUMMARY:Munderkingen
DESCRIPTION:
URL:https://stuttgarti-katolikusok.de/index.php/esemeny/munderkingen-4/
LOCATION:Baden-Württemberg
CATEGORIES:Szentmisék helye és ideje
END:VEVENT
BEGIN:VEVENT
DTSTART;TZID=Europe/Berlin:20220529T090000
DTEND;TZID=Europe/Berlin:20220529T090000
DTSTAMP:20260421T134958
CREATED:20220523T185801Z
LAST-MODIFIED:20220523T185801Z
UID:23365-1653814800-1653814800@stuttgarti-katolikusok.de
SUMMARY:Szentmise Munderkingenben
DESCRIPTION:Örömmel jelezzük\, hogy újra szabadon\, minden korlátozás nélkül látogathatjuk templomainkat.  \nNincs szükség távolság megtartására és a maszk használatára. \n * \nMájus 29-én\, Húsvét 7. vasárnapja\, Munderkingenben 9.00 órakor szentmise. \nMindenkit szeretettel vár a közösség és Tibor atya! \n* \n \n* \nKegyelemteljes húsvéti napokat\, tartalmas beszélgetéseket és örömteli találkozásokat kívánunk minden Kedves Hívünknek! \n* \n„Akár óriások építik a kastélyokat\, akár emberek a kunyhókat: kastélyok\, kunyhók mind mulandó dolgok. Csupán a hegyek\, a völgyek\, a folyók és a népek örökkévalók\, mert azokat Isten teremtette!” (Wass Albert\, erdélyi magyar író és költő – 1908 – 1998) \n(Kép forrása: Pixabay)
URL:https://stuttgarti-katolikusok.de/index.php/esemeny/szentmise-munderkingenben-46/
LOCATION:St. Dionysius\, Kirchhof 2\, Munderkingen\, Baden Württemberg\, 89597
CATEGORIES:Szentmise
ATTACH;FMTTYPE=image/jpeg:https://stuttgarti-katolikusok.de/wp-content/uploads/2020/06/munderkingen.jpg
END:VEVENT
BEGIN:VEVENT
DTSTART;TZID=Europe/Berlin:20220529T153000
DTEND;TZID=Europe/Berlin:20220529T163000
DTSTAMP:20260421T134958
CREATED:20230208T071823Z
LAST-MODIFIED:20230208T072537Z
UID:25613-1653838200-1653841800@stuttgarti-katolikusok.de
SUMMARY:Reutlingen
DESCRIPTION:
URL:https://stuttgarti-katolikusok.de/index.php/esemeny/reutlingen-3/
LOCATION:Baden-Württemberg
CATEGORIES:Szentmisék helye és ideje
END:VEVENT
BEGIN:VEVENT
DTSTART;TZID=Europe/Berlin:20220529T163000
DTEND;TZID=Europe/Berlin:20220529T183000
DTSTAMP:20260421T134958
CREATED:20220523T190143Z
LAST-MODIFIED:20220523T190143Z
UID:23367-1653841800-1653849000@stuttgarti-katolikusok.de
SUMMARY:Szentmise Reutlingenben
DESCRIPTION:Örömmel jelezzük\, hogy újra szabadon\, minden korlátozás nélkül látogathatjuk templomainkat.  \nNincs szükség távolság megtartására és a maszk használatára. \n * \nMájus 29-én\, Húsvét 7. vasárnapja\, Reutlingenben 16.30 órakor szentmise\, utána ágápé. \nMindenkit szeretettel vár a közösség és Tibor atya! \n* \n \n* \nKegyelemteljes húsvéti napokat\, tartalmas beszélgetéseket és örömteli találkozásokat kívánunk minden Kedves Hívünknek! \n* \n„Akár óriások építik a kastélyokat\, akár emberek a kunyhókat: kastélyok\, kunyhók mind mulandó dolgok. Csupán a hegyek\, a völgyek\, a folyók és a népek örökkévalók\, mert azokat Isten teremtette!” (Wass Albert\, erdélyi magyar író és költő – 1908 – 1998) \n(Kép forrása: Pixabay)
URL:https://stuttgarti-katolikusok.de/index.php/esemeny/szentmise-reutlingenben-43/
LOCATION:St. Andreas Kirche\, Nürnberger Str. 184\, Reutlingen-Orschel-Hagen\, Baden-Württemberg\, 72760\, Németország
CATEGORIES:Szentmise
ATTACH;FMTTYPE=image/jpeg:https://stuttgarti-katolikusok.de/wp-content/uploads/2015/12/Reutlingen.jpg
END:VEVENT
END:VCALENDAR