BEGIN:VCALENDAR
VERSION:2.0
PRODID:-//Stuttgarti Katolikusok - ECPv6.15.20//NONSGML v1.0//EN
CALSCALE:GREGORIAN
METHOD:PUBLISH
X-ORIGINAL-URL:https://stuttgarti-katolikusok.de
X-WR-CALDESC:Események Stuttgarti Katolikusok
REFRESH-INTERVAL;VALUE=DURATION:PT1H
X-Robots-Tag:noindex
X-PUBLISHED-TTL:PT1H
BEGIN:VTIMEZONE
TZID:Europe/Berlin
BEGIN:DAYLIGHT
TZOFFSETFROM:+0100
TZOFFSETTO:+0200
TZNAME:CEST
DTSTART:20210328T010000
END:DAYLIGHT
BEGIN:STANDARD
TZOFFSETFROM:+0200
TZOFFSETTO:+0100
TZNAME:CET
DTSTART:20211031T010000
END:STANDARD
BEGIN:DAYLIGHT
TZOFFSETFROM:+0100
TZOFFSETTO:+0200
TZNAME:CEST
DTSTART:20220327T010000
END:DAYLIGHT
BEGIN:STANDARD
TZOFFSETFROM:+0200
TZOFFSETTO:+0100
TZNAME:CET
DTSTART:20221030T010000
END:STANDARD
BEGIN:DAYLIGHT
TZOFFSETFROM:+0100
TZOFFSETTO:+0200
TZNAME:CEST
DTSTART:20230326T010000
END:DAYLIGHT
BEGIN:STANDARD
TZOFFSETFROM:+0200
TZOFFSETTO:+0100
TZNAME:CET
DTSTART:20231029T010000
END:STANDARD
END:VTIMEZONE
BEGIN:VEVENT
DTSTART;TZID=Europe/Berlin:20220526T083000
DTEND;TZID=Europe/Berlin:20220526T153000
DTSTAMP:20260421T141042
CREATED:20220523T182428Z
LAST-MODIFIED:20220523T182428Z
UID:23359-1653553800-1653579000@stuttgarti-katolikusok.de
SUMMARY:Szentmise Urunk mennybemenetelének ünnepén
DESCRIPTION:Május 26-án\, csütörtökön\, Urunk mennybemenetelének ünnepe\, \n10.00 órakor ünnepi szentmise a Schlosspaltz-on a „102. Deutscher Katholikentag Stuttgart 2022”. \nEnnek menete: \n\n8.30  és 9.00 óra között érkezés\, gyülekezés  a Neckartor-nál ( U-Bahn megálló Schlossgarten kijáratánál fent ). A Hauptbahnhof-tól is  el lehet oda gyalogolni a Schlosspark-on keresztül ( kb. 10perc) az út.\n\n  \n\n9.00 órakor ( húszperces) gyalogos „Sternwallfahrt” a Neckartortól  a Schlossplatzra  ( a Schlossgartenon) keresztül.\n\n  \n\n9.30 órakor felsorakozunk az oltár elött a Schlossplatz-on \, ahol minden népcsoportot személyesen köszöntenek.\n\n  \n\n10.00 órakor ünnepi szentmise – „Geteiltes Leben – offener Himmel” mottóval.\n\n  \n\n14.00 – 15.30 óra között Gesellschaft und Politik in Deutschland und Europa / Gespräch\n\nBrücken zwischen West und Ost \nGemeinden anderer Muttersprachen gestalten mit: Das Beispiel Ungarn \n(Rathaus\, 4. OG\, Mittlerer Sitzungssaal\, Marktplatz 1) \nEzen pódium beszélgetés közösségünk szervezésében történik. Meghívott előadónk Dr. Csiszár Klára pasztorálteológus. A pódium beszélgetést moderálja Merk Csaba Franz\, a weingarteni közösség legátusa. Közösségünk képviseletében pedig Dávid Melinda\, egyházközségünk titkárnője van jelen. \nMindazok\, aki szeretnének ezen a pódium beszélgetésen részt venni\, belépővel (állandó kártya\, illetve napi jegy) tehetik meg. \nMindenkit szeretettel vár a közösség és Tibor atya! \n* \n \n* \nKegyelemteljes húsvéti napokat\, tartalmas beszélgetéseket és örömteli találkozásokat kívánunk minden Kedves Hívünknek! \n* \n„Akár óriások építik a kastélyokat\, akár emberek a kunyhókat: kastélyok\, kunyhók mind mulandó dolgok. Csupán a hegyek\, a völgyek\, a folyók és a népek örökkévalók\, mert azokat Isten teremtette!” (Wass Albert\, erdélyi magyar író és költő – 1908 – 1998) \n(Kép forrása: Pixabay)
URL:https://stuttgarti-katolikusok.de/index.php/esemeny/szentmise-urunk-mennybemenetelenek-unnepen/
LOCATION:Baden-Württemberg
CATEGORIES:Szentmise
ATTACH;FMTTYPE=image/png:https://stuttgarti-katolikusok.de/wp-content/uploads/2022/05/csm-png-web-katholikentag-2022-designelement-leben-teilen-farbig-1-a52cc6f712.png
END:VEVENT
END:VCALENDAR