BEGIN:VCALENDAR
VERSION:2.0
PRODID:-//Stuttgarti Katolikusok - ECPv6.15.20//NONSGML v1.0//EN
CALSCALE:GREGORIAN
METHOD:PUBLISH
X-WR-CALNAME:Stuttgarti Katolikusok
X-ORIGINAL-URL:https://stuttgarti-katolikusok.de
X-WR-CALDESC:Események Stuttgarti Katolikusok
REFRESH-INTERVAL;VALUE=DURATION:PT1H
X-Robots-Tag:noindex
X-PUBLISHED-TTL:PT1H
BEGIN:VTIMEZONE
TZID:Europe/Berlin
BEGIN:DAYLIGHT
TZOFFSETFROM:+0100
TZOFFSETTO:+0200
TZNAME:CEST
DTSTART:20210328T010000
END:DAYLIGHT
BEGIN:STANDARD
TZOFFSETFROM:+0200
TZOFFSETTO:+0100
TZNAME:CET
DTSTART:20211031T010000
END:STANDARD
BEGIN:DAYLIGHT
TZOFFSETFROM:+0100
TZOFFSETTO:+0200
TZNAME:CEST
DTSTART:20220327T010000
END:DAYLIGHT
BEGIN:STANDARD
TZOFFSETFROM:+0200
TZOFFSETTO:+0100
TZNAME:CET
DTSTART:20221030T010000
END:STANDARD
BEGIN:DAYLIGHT
TZOFFSETFROM:+0100
TZOFFSETTO:+0200
TZNAME:CEST
DTSTART:20230326T010000
END:DAYLIGHT
BEGIN:STANDARD
TZOFFSETFROM:+0200
TZOFFSETTO:+0100
TZNAME:CET
DTSTART:20231029T010000
END:STANDARD
END:VTIMEZONE
BEGIN:VEVENT
DTSTART;TZID=Europe/Berlin:20220508T100000
DTEND;TZID=Europe/Berlin:20220508T110000
DTSTAMP:20260421T135000
CREATED:20230208T071951Z
LAST-MODIFIED:20230208T072810Z
UID:25714-1652004000-1652007600@stuttgarti-katolikusok.de
SUMMARY:Weingarten - St. Maria
DESCRIPTION:
URL:https://stuttgarti-katolikusok.de/index.php/esemeny/weingarten-st-maria-5/
LOCATION:Baden-Württemberg
CATEGORIES:Szentmisék helye és ideje
END:VEVENT
BEGIN:VEVENT
DTSTART;TZID=Europe/Berlin:20220508T110000
DTEND;TZID=Europe/Berlin:20220508T130000
DTSTAMP:20260421T135000
CREATED:20220503T222733Z
LAST-MODIFIED:20220503T222733Z
UID:23281-1652007600-1652014800@stuttgarti-katolikusok.de
SUMMARY:Szentmise Weingartenben
DESCRIPTION:Örömmel jelezzük\, hogy újra szabadon\, minden korlátozás nélkül látogathatjuk templomainkat.  \nNincs szükség távolság megtartására és a maszk használatára.  \n * \nMájus 8-án\, Húsvét 4. vasárnapja\,  Weingartenben 11.00 órakor szentmise a Marienkirche-ben\, utána ágápé. \nMindenkit szeretettel vár a közösség és Tibor atya! \n* \n \n* \nKegyelemteljes húsvéti napokat\, tartalmas beszélgetéseket és örömteli találkozásokat kívánunk minden Kedves Hívünknek! \n* \n„Hűség és bátorság csak olyan emberek körében tanyázik\, akik tiszta lelkiismerettel vannak egymás iránt: akiknek mosolyába nincs kés göngyölve\, szavaik pedig nem arra valók\, hogy a szándékaikat eltitkolják velük.” (Sütő András\, író 1927 – 2006) \n(Kép forrása: Pixabay)
URL:https://stuttgarti-katolikusok.de/index.php/esemeny/szentmise-weingartenben-63/
LOCATION:Marienkirche\, St. Konrad Str. 28\, Weingarten\, Baden Württemberg\, 88250\, Németország
CATEGORIES:Szentmise
ATTACH;FMTTYPE=image/jpeg:https://stuttgarti-katolikusok.de/wp-content/uploads/2016/01/weingarten-marien-kirche.jpg
END:VEVENT
BEGIN:VEVENT
DTSTART;TZID=Europe/Berlin:20220508T140000
DTEND;TZID=Europe/Berlin:20220508T150000
DTSTAMP:20260421T135000
CREATED:20230208T071821Z
LAST-MODIFIED:20230208T072535Z
UID:25608-1652018400-1652022000@stuttgarti-katolikusok.de
SUMMARY:Ulm
DESCRIPTION:
URL:https://stuttgarti-katolikusok.de/index.php/esemeny/ulm-14/
LOCATION:Baden-Württemberg
CATEGORIES:Szentmisék helye és ideje
END:VEVENT
BEGIN:VEVENT
DTSTART;TZID=Europe/Berlin:20220508T150000
DTEND;TZID=Europe/Berlin:20220508T170000
DTSTAMP:20260421T135000
CREATED:20220503T222934Z
LAST-MODIFIED:20220503T222934Z
UID:23283-1652022000-1652029200@stuttgarti-katolikusok.de
SUMMARY:Szentmise Ulmban
DESCRIPTION:Örömmel jelezzük\, hogy újra szabadon\, minden korlátozás nélkül látogathatjuk templomainkat.  \nNincs szükség távolság megtartására és a maszk használatára.  \n * \nMájus 8-án\, Húsvét 4. vasárnapja\, Ulmban 15.00 órakor szentmise\, utána ágápé. \n * \nMinden helyen mindenkit szeretettel vár a közösség és Tibor atya! \n* \n \n* \nKegyelemteljes húsvéti napokat\, tartalmas beszélgetéseket és örömteli találkozásokat kívánunk minden Kedves Hívünknek! \n* \n„Hűség és bátorság csak olyan emberek körében tanyázik\, akik tiszta lelkiismerettel vannak egymás iránt: akiknek mosolyába nincs kés göngyölve\, szavaik pedig nem arra valók\, hogy a szándékaikat eltitkolják velük.” (Sütő András\, író 1927 – 2006) \n(Kép forrása: Pixabay)
URL:https://stuttgarti-katolikusok.de/index.php/esemeny/szentmise-ulmban-78/
LOCATION:St. Michael zu den Wengen\, Wengengasse 6\, Ulm\, Baden-Württemberg\, 89073\, Németország
CATEGORIES:Szentmise
ATTACH;FMTTYPE=image/jpeg:https://stuttgarti-katolikusok.de/wp-content/uploads/2015/12/Wengenkirche1-e1483916551260.jpg
END:VEVENT
END:VCALENDAR