BEGIN:VCALENDAR
VERSION:2.0
PRODID:-//Stuttgarti Katolikusok - ECPv6.15.20//NONSGML v1.0//EN
CALSCALE:GREGORIAN
METHOD:PUBLISH
X-ORIGINAL-URL:https://stuttgarti-katolikusok.de
X-WR-CALDESC:Események Stuttgarti Katolikusok
REFRESH-INTERVAL;VALUE=DURATION:PT1H
X-Robots-Tag:noindex
X-PUBLISHED-TTL:PT1H
BEGIN:VTIMEZONE
TZID:Europe/Berlin
BEGIN:DAYLIGHT
TZOFFSETFROM:+0100
TZOFFSETTO:+0200
TZNAME:CEST
DTSTART:20210328T010000
END:DAYLIGHT
BEGIN:STANDARD
TZOFFSETFROM:+0200
TZOFFSETTO:+0100
TZNAME:CET
DTSTART:20211031T010000
END:STANDARD
BEGIN:DAYLIGHT
TZOFFSETFROM:+0100
TZOFFSETTO:+0200
TZNAME:CEST
DTSTART:20220327T010000
END:DAYLIGHT
BEGIN:STANDARD
TZOFFSETFROM:+0200
TZOFFSETTO:+0100
TZNAME:CET
DTSTART:20221030T010000
END:STANDARD
BEGIN:DAYLIGHT
TZOFFSETFROM:+0100
TZOFFSETTO:+0200
TZNAME:CEST
DTSTART:20230326T010000
END:DAYLIGHT
BEGIN:STANDARD
TZOFFSETFROM:+0200
TZOFFSETTO:+0100
TZNAME:CET
DTSTART:20231029T010000
END:STANDARD
END:VTIMEZONE
BEGIN:VEVENT
DTSTART;TZID=Europe/Berlin:20220430T180000
DTEND;TZID=Europe/Berlin:20220501T030000
DTSTAMP:20260421T120709
CREATED:20220426T075149Z
LAST-MODIFIED:20220426T075456Z
UID:23248-1651341600-1651374000@stuttgarti-katolikusok.de
SUMMARY:47. Stuttgarti Magyar Katolikus Jótékonysági Bál
DESCRIPTION:Április 30-án\, szombaton\, 18.00 órai teremnyitással a 47. Stuttgarti Magyar Katolikus Jótékonysági Bál. \nMindenkit szeretettel vár a báli rendezőbizottság\, a közösség és Tibor atya! \n* \n \n  \n  \n* \nKegyelemteljes húsvéti napokat\, tartalmas beszélgetéseket és örömteli találkozásokat kívánunk minden Kedves Hívünknek! \n* \n„Isten Országában megszűnnek az egyén határvonalai. Mindazt\, amit eddig csak tükör által homályosan találgattunk\, immár látni és tudni fogjuk. Isten a világ lényegének az állandósága nem zaj\, hanem Csend.” (Csermely Péter – kutató\, biokémikus – 1958 -) \n(Kép forrása: Pixabay)
URL:https://stuttgarti-katolikusok.de/index.php/esemeny/47-stuttgarti-magyar-katolikus-jotekonysagi-bal/
LOCATION:Schwabenlandhalle\, Tainerstraße 7\, Fellbach\, Baden-Württemberg\, 70734\, Németország
CATEGORIES:Stuttgarti Magyar Bál
ATTACH;FMTTYPE=image/jpeg:https://stuttgarti-katolikusok.de/wp-content/uploads/2022/04/47-magyar-bal.jpg
END:VEVENT
BEGIN:VEVENT
DTSTART;TZID=Europe/Berlin:20220501T083000
DTEND;TZID=Europe/Berlin:20220501T093000
DTSTAMP:20260421T120709
CREATED:20230208T071819Z
LAST-MODIFIED:20230208T072533Z
UID:25605-1651393800-1651397400@stuttgarti-katolikusok.de
SUMMARY:Schwäbisch Gmünd
DESCRIPTION:
URL:https://stuttgarti-katolikusok.de/index.php/esemeny/schwabisch-gmund-24/
LOCATION:Baden-Württemberg
CATEGORIES:Szentmisék helye és ideje
END:VEVENT
BEGIN:VEVENT
DTSTART;TZID=Europe/Berlin:20220501T093000
DTEND;TZID=Europe/Berlin:20220501T113000
DTSTAMP:20260421T120709
CREATED:20220426T075625Z
LAST-MODIFIED:20220426T075625Z
UID:23250-1651397400-1651404600@stuttgarti-katolikusok.de
SUMMARY:Búcsús-szentmise Schwäbisch-Gmündben
DESCRIPTION:Örömmel jelezzük\, hogy újra szabadon\, minden korlátozás nélkül látogathatjuk templomainkat.  \nNincs szükség távolság megtartására\, ellenben ajánlott az FFP2-es maszk használata. \n * \nMájus 1-jén\, Húsvét 3. vasárnapja\, Schwäbisch-Gmündben 9.30 órakor búcsús-szentmise\, Boldog Bajor Gizella ünnepe\, utána ágápé. \nMindenkit szeretettel vár a közösség és Tibor atya! \n* \n \n* \nKegyelemteljes húsvéti napokat\, tartalmas beszélgetéseket és örömteli találkozásokat kívánunk minden Kedves Hívünknek! \n* \n„Isten Országában megszűnnek az egyén határvonalai. Mindazt\, amit eddig csak tükör által homályosan találgattunk\, immár látni és tudni fogjuk. Isten a világ lényegének az állandósága nem zaj\, hanem Csend.” (Csermely Péter – kutató\, biokémikus – 1958 -) \n(Kép forrása: Pixabay)
URL:https://stuttgarti-katolikusok.de/index.php/esemeny/bucsus-szentmise-schwabisch-gmundben-3/
LOCATION:Sankt Franziskus Kirche\, Franziskaner Str. 3\, Schwäbisch-Gmünd\, Baden-Württemberg\, 73525\, Németország
CATEGORIES:Szentmise
ATTACH;FMTTYPE=image/jpeg:https://stuttgarti-katolikusok.de/wp-content/uploads/2018/03/st-franziskus-schw-gmund.jpg
END:VEVENT
BEGIN:VEVENT
DTSTART;TZID=Europe/Berlin:20220501T140000
DTEND;TZID=Europe/Berlin:20220501T150000
DTSTAMP:20260421T120709
CREATED:20230208T071820Z
LAST-MODIFIED:20230208T072533Z
UID:25606-1651413600-1651417200@stuttgarti-katolikusok.de
SUMMARY:Stuttgart
DESCRIPTION:
URL:https://stuttgarti-katolikusok.de/index.php/esemeny/stuttgart-28/
LOCATION:Baden-Württemberg
CATEGORIES:Szentmisék helye és ideje
END:VEVENT
BEGIN:VEVENT
DTSTART;TZID=Europe/Berlin:20220501T150000
DTEND;TZID=Europe/Berlin:20220501T160000
DTSTAMP:20260421T120709
CREATED:20220426T075853Z
LAST-MODIFIED:20220426T075853Z
UID:23253-1651417200-1651420800@stuttgarti-katolikusok.de
SUMMARY:Szentmise Stuttgartban
DESCRIPTION:Örömmel jelezzük\, hogy újra szabadon\, minden korlátozás nélkül látogathatjuk templomainkat.  \nNincs szükség távolság megtartására\, ellenben ajánlott az FFP2-es maszk használata. \n * \nMájus 1-jén\, Húsvét 3. vasárnapja\, Stuttgartban 15.00 órakor gyermek-szentmise\,  az ágápé elmarad!!! \nMindenkit szeretettel vár a közösség és Tibor atya! \n* \n \n* \nKegyelemteljes húsvéti napokat\, tartalmas beszélgetéseket és örömteli találkozásokat kívánunk minden Kedves Hívünknek! \n* \n„Isten Országában megszűnnek az egyén határvonalai. Mindazt\, amit eddig csak tükör által homályosan találgattunk\, immár látni és tudni fogjuk. Isten a világ lényegének az állandósága nem zaj\, hanem Csend.” (Csermely Péter – kutató\, biokémikus – 1958 -) \n(Kép forrása: Pixabay)
URL:https://stuttgarti-katolikusok.de/index.php/esemeny/szentmise-stuttgartban-101/
LOCATION:Bruder Klaus Kirche\, Albert-Schäffle-Straße 30\, Stuttgart\, Baden-Württemberg\, 70186\, Németország
CATEGORIES:Szentmise
ATTACH;FMTTYPE=image/jpeg:https://stuttgarti-katolikusok.de/wp-content/uploads/2015/12/013__2_klaus.jpg
END:VEVENT
END:VCALENDAR