BEGIN:VCALENDAR
VERSION:2.0
PRODID:-//Stuttgarti Katolikusok - ECPv6.15.20//NONSGML v1.0//EN
CALSCALE:GREGORIAN
METHOD:PUBLISH
X-WR-CALNAME:Stuttgarti Katolikusok
X-ORIGINAL-URL:https://stuttgarti-katolikusok.de
X-WR-CALDESC:Események Stuttgarti Katolikusok
REFRESH-INTERVAL;VALUE=DURATION:PT1H
X-Robots-Tag:noindex
X-PUBLISHED-TTL:PT1H
BEGIN:VTIMEZONE
TZID:Europe/Berlin
BEGIN:DAYLIGHT
TZOFFSETFROM:+0100
TZOFFSETTO:+0200
TZNAME:CEST
DTSTART:20210328T010000
END:DAYLIGHT
BEGIN:STANDARD
TZOFFSETFROM:+0200
TZOFFSETTO:+0100
TZNAME:CET
DTSTART:20211031T010000
END:STANDARD
BEGIN:DAYLIGHT
TZOFFSETFROM:+0100
TZOFFSETTO:+0200
TZNAME:CEST
DTSTART:20220327T010000
END:DAYLIGHT
BEGIN:STANDARD
TZOFFSETFROM:+0200
TZOFFSETTO:+0100
TZNAME:CET
DTSTART:20221030T010000
END:STANDARD
BEGIN:DAYLIGHT
TZOFFSETFROM:+0100
TZOFFSETTO:+0200
TZNAME:CEST
DTSTART:20230326T010000
END:DAYLIGHT
BEGIN:STANDARD
TZOFFSETFROM:+0200
TZOFFSETTO:+0100
TZNAME:CET
DTSTART:20231029T010000
END:STANDARD
END:VTIMEZONE
BEGIN:VEVENT
DTSTART;TZID=Europe/Berlin:20220430T180000
DTEND;TZID=Europe/Berlin:20220501T030000
DTSTAMP:20260421T122519
CREATED:20220426T075149Z
LAST-MODIFIED:20220426T075456Z
UID:23248-1651341600-1651374000@stuttgarti-katolikusok.de
SUMMARY:47. Stuttgarti Magyar Katolikus Jótékonysági Bál
DESCRIPTION:Április 30-án\, szombaton\, 18.00 órai teremnyitással a 47. Stuttgarti Magyar Katolikus Jótékonysági Bál. \nMindenkit szeretettel vár a báli rendezőbizottság\, a közösség és Tibor atya! \n* \n \n  \n  \n* \nKegyelemteljes húsvéti napokat\, tartalmas beszélgetéseket és örömteli találkozásokat kívánunk minden Kedves Hívünknek! \n* \n„Isten Országában megszűnnek az egyén határvonalai. Mindazt\, amit eddig csak tükör által homályosan találgattunk\, immár látni és tudni fogjuk. Isten a világ lényegének az állandósága nem zaj\, hanem Csend.” (Csermely Péter – kutató\, biokémikus – 1958 -) \n(Kép forrása: Pixabay)
URL:https://stuttgarti-katolikusok.de/index.php/esemeny/47-stuttgarti-magyar-katolikus-jotekonysagi-bal/
LOCATION:Schwabenlandhalle\, Tainerstraße 7\, Fellbach\, Baden-Württemberg\, 70734\, Németország
CATEGORIES:Stuttgarti Magyar Bál
ATTACH;FMTTYPE=image/jpeg:https://stuttgarti-katolikusok.de/wp-content/uploads/2022/04/47-magyar-bal.jpg
END:VEVENT
END:VCALENDAR