BEGIN:VCALENDAR
VERSION:2.0
PRODID:-//Stuttgarti Katolikusok - ECPv6.15.20//NONSGML v1.0//EN
CALSCALE:GREGORIAN
METHOD:PUBLISH
X-ORIGINAL-URL:https://stuttgarti-katolikusok.de
X-WR-CALDESC:Események Stuttgarti Katolikusok
REFRESH-INTERVAL;VALUE=DURATION:PT1H
X-Robots-Tag:noindex
X-PUBLISHED-TTL:PT1H
BEGIN:VTIMEZONE
TZID:Europe/Berlin
BEGIN:DAYLIGHT
TZOFFSETFROM:+0100
TZOFFSETTO:+0200
TZNAME:CEST
DTSTART:20210328T010000
END:DAYLIGHT
BEGIN:STANDARD
TZOFFSETFROM:+0200
TZOFFSETTO:+0100
TZNAME:CET
DTSTART:20211031T010000
END:STANDARD
BEGIN:DAYLIGHT
TZOFFSETFROM:+0100
TZOFFSETTO:+0200
TZNAME:CEST
DTSTART:20220327T010000
END:DAYLIGHT
BEGIN:STANDARD
TZOFFSETFROM:+0200
TZOFFSETTO:+0100
TZNAME:CET
DTSTART:20221030T010000
END:STANDARD
BEGIN:DAYLIGHT
TZOFFSETFROM:+0100
TZOFFSETTO:+0200
TZNAME:CEST
DTSTART:20230326T010000
END:DAYLIGHT
BEGIN:STANDARD
TZOFFSETFROM:+0200
TZOFFSETTO:+0100
TZNAME:CET
DTSTART:20231029T010000
END:STANDARD
END:VTIMEZONE
BEGIN:VEVENT
DTSTART;TZID=Europe/Berlin:20220402T150000
DTEND;TZID=Europe/Berlin:20220402T160000
DTSTAMP:20260421T120702
CREATED:20230208T071813Z
LAST-MODIFIED:20230208T072527Z
UID:25595-1648911600-1648915200@stuttgarti-katolikusok.de
SUMMARY:Balingen
DESCRIPTION:
URL:https://stuttgarti-katolikusok.de/index.php/esemeny/balingen-21/
LOCATION:Baden-Württemberg
CATEGORIES:Szentmisék helye és ideje
END:VEVENT
BEGIN:VEVENT
DTSTART;TZID=Europe/Berlin:20220402T160000
DTEND;TZID=Europe/Berlin:20220402T180000
DTSTAMP:20260421T120702
CREATED:20220328T222612Z
LAST-MODIFIED:20220328T222727Z
UID:23118-1648915200-1648922400@stuttgarti-katolikusok.de
SUMMARY:Szentmise Balingenben
DESCRIPTION:Örömmel értesítünk benneteket\, hogy 2022. február 9-ei hatállyal nincs már szükség a jelenléti lista vezetésére és őrzésére.  \nSzentmisén továbbra is kötelező az FFP2 maszk használata és a megfelelő távolság (1\,5 m) megtartása. A 6 és 18 év közöttiek számára más típusú maszk használata engedélyezett (orvosi maszk). \nMindezen enyhítés csak a szentmiséken való részvételt érinti.  \nA közösségi termeket 3G-vel lehet használni. Továbbá meg kell tartani azon előírásokat ezzel kapcsolatosan\, amelyek eddig is érvényben voltak. A gyakorlatban ez azt jelent\, hogy ágápé megtartására csak ezen előírások fényében van lehetőségünk. Ez minden miséző helyen saját szervezést és rendezést igényel.  \nGyermek-szentmisék megtartása esetében szintén a közösségi termek használatára vonatkozó előírások a mérvadók. \n* \nÁprilis 2-án\, szombaton\, Balingenben 16.00 órakor szentmise\, utána ágápé. \nMindenkit szeretettel vár a közösség és Tibor atya! \n * \n \n* \nBensőséges nagyböjti napokat\, jó munkát\, tartalmas beszélgetéseket és örömteli találkozásokat kívánunk minden Kedves Hívünknek! \n* \n„Szent Pál arra figyelmeztet\, hogy amikor Jézus testét magunkhoz vesszük – az Úr halálát hirdetjük. A mi keresztény életünk tápláléka tehát Jézus Krisztus halálából fakad. De nekünk is meg kell halnunk Krisztussal\, hogy isteni életünk legyen” (Mindszenty József – bíboros-hercegprímás – 1892 – 1975) \n(Kép forrása: Pixabay)
URL:https://stuttgarti-katolikusok.de/index.php/esemeny/szentmise-balingenben-49/
LOCATION:Sankt Paulus Kirche\, St. Paulus Str. 2\, Balingen-Frommern\, Baden-Württemberg\, 72336\, Németország
CATEGORIES:Szentmise
ATTACH;FMTTYPE=image/jpeg:https://stuttgarti-katolikusok.de/wp-content/uploads/2018/04/20180505_163840-e1764632638620.jpg
END:VEVENT
END:VCALENDAR