BEGIN:VCALENDAR
VERSION:2.0
PRODID:-//Stuttgarti Katolikusok - ECPv6.15.20//NONSGML v1.0//EN
CALSCALE:GREGORIAN
METHOD:PUBLISH
X-WR-CALNAME:Stuttgarti Katolikusok
X-ORIGINAL-URL:https://stuttgarti-katolikusok.de
X-WR-CALDESC:Események Stuttgarti Katolikusok
REFRESH-INTERVAL;VALUE=DURATION:PT1H
X-Robots-Tag:noindex
X-PUBLISHED-TTL:PT1H
BEGIN:VTIMEZONE
TZID:Europe/Berlin
BEGIN:DAYLIGHT
TZOFFSETFROM:+0100
TZOFFSETTO:+0200
TZNAME:CEST
DTSTART:20210328T010000
END:DAYLIGHT
BEGIN:STANDARD
TZOFFSETFROM:+0200
TZOFFSETTO:+0100
TZNAME:CET
DTSTART:20211031T010000
END:STANDARD
BEGIN:DAYLIGHT
TZOFFSETFROM:+0100
TZOFFSETTO:+0200
TZNAME:CEST
DTSTART:20220327T010000
END:DAYLIGHT
BEGIN:STANDARD
TZOFFSETFROM:+0200
TZOFFSETTO:+0100
TZNAME:CET
DTSTART:20221030T010000
END:STANDARD
BEGIN:DAYLIGHT
TZOFFSETFROM:+0100
TZOFFSETTO:+0200
TZNAME:CEST
DTSTART:20230326T010000
END:DAYLIGHT
BEGIN:STANDARD
TZOFFSETFROM:+0200
TZOFFSETTO:+0100
TZNAME:CET
DTSTART:20231029T010000
END:STANDARD
END:VTIMEZONE
BEGIN:VEVENT
DTSTART;TZID=Europe/Berlin:20220318T173000
DTEND;TZID=Europe/Berlin:20220320T123000
DTSTAMP:20260421T140959
CREATED:20220315T011431Z
LAST-MODIFIED:20220315T011431Z
UID:23058-1647624600-1647779400@stuttgarti-katolikusok.de
SUMMARY:Stuttgarti Csendes Napok
DESCRIPTION:Örömmel értesítünk benneteket\, hogy 2022. február 9-ei hatállyal nincs már szükség a jelenléti lista vezetésére és őrzésére.  \nSzentmisén továbbra is kötelező az FFP2 maszk használata és a megfelelő távolság (1\,5 m) megtartása. A 6 és 18 év közöttiek számára más típusú maszk használata engedélyezett (orvosi maszk). \nMindezen enyhítés csak a szentmiséken való részvételt érinti.  \nA közösségi termeket 3G-vel lehet használni. Továbbá meg kell tartani azon előírásokat ezzel kapcsolatosan\, amelyek eddig is érvényben voltak. A gyakorlatban ez azt jelent\, hogy ágápé megtartására csak ezen előírások fényében van lehetőségünk. Ez minden miséző helyen saját szervezést és rendezést igényel.  \nGyermek-szentmisék megtartása esetében szintén a közösségi termek használatára vonatkozó előírások a mérvadók. \n* \nStuttgarti Csendes Napok \nProgramja: \nP É N T E K \n17.30  keresztúti ájtatosság\, szentmise és bevezető elmélkedés  \nS Z O M B A T \n9.00 gyülekező \n 9.30  I. elmélkedés (utána gyóntatás) \n10.30  II. elmélkedés (utána gyóntatás) \n11.30 III. elmélkedés  \n12.15 Rövid ebédszünet \n13.00 IV. elmélkedés \n14.00  keresztút \nV A S Á R N A P \n11.30  Stuttgart szentmise  \n* \nMindenkit szeretettel vár a közösség és Tibor atya! \n * \n \n* \nBensőséges nagyböjti napokat\, jó munkát\, tartalmas beszélgetéseket és örömteli találkozásokat kívánunk minden Kedves Hívünknek! \n* \n„A kereszttel Isten túllép a szavakon: a kereszt az a szeretet\, amely nem magyarázható. Ezt akkor érthetjük meg\, ha engedjük\, hogy Isten őrülten szeressen. A kereszt beteljesíti és meghaladja a szavakat.” (Gaetano Piccolo SJ\, 1973 – ) \n(Kép forrása: Pixabay)
URL:https://stuttgarti-katolikusok.de/index.php/esemeny/stuttgarti-csendes-napok-5/
LOCATION:Bruder Klaus Kirche\, Albert-Schäffle-Straße 30\, Stuttgart\, Baden-Württemberg\, 70186\, Németország
CATEGORIES:Stuttgarti Csendes Napok
ATTACH;FMTTYPE=image/jpeg:https://stuttgarti-katolikusok.de/wp-content/uploads/2015/12/013__2_klaus.jpg
END:VEVENT
BEGIN:VEVENT
DTSTART;TZID=Europe/Berlin:20220318T180000
DTEND;TZID=Europe/Berlin:20220320T190000
DTSTAMP:20260421T140959
CREATED:20230208T072003Z
LAST-MODIFIED:20230208T072821Z
UID:25734-1647626400-1647802800@stuttgarti-katolikusok.de
SUMMARY:Stuttgarti Csendes Napok
DESCRIPTION:
URL:https://stuttgarti-katolikusok.de/index.php/esemeny/stuttgarti-csendes-napok-2/
LOCATION:Baden-Württemberg
CATEGORIES:Szentmisék helye és ideje
END:VEVENT
BEGIN:VEVENT
DTSTART;TZID=Europe/Berlin:20220320T090000
DTEND;TZID=Europe/Berlin:20220320T100000
DTSTAMP:20260421T140959
CREATED:20220315T012353Z
LAST-MODIFIED:20220315T012353Z
UID:23062-1647766800-1647770400@stuttgarti-katolikusok.de
SUMMARY:Szentmise Ludwigsburgban
DESCRIPTION:Örömmel értesítünk benneteket\, hogy 2022. február 9-ei hatállyal nincs már szükség a jelenléti lista vezetésére és őrzésére.  \nSzentmisén továbbra is kötelező az FFP2 maszk használata és a megfelelő távolság (1\,5 m) megtartása. A 6 és 18 év közöttiek számára más típusú maszk használata engedélyezett (orvosi maszk). \nMindezen enyhítés csak a szentmiséken való részvételt érinti.  \nA közösségi termeket 3G-vel lehet használni. Továbbá meg kell tartani azon előírásokat ezzel kapcsolatosan\, amelyek eddig is érvényben voltak. A gyakorlatban ez azt jelent\, hogy ágápé megtartására csak ezen előírások fényében van lehetőségünk. Ez minden miséző helyen saját szervezést és rendezést igényel.  \nGyermek-szentmisék megtartása esetében szintén a közösségi termek használatára vonatkozó előírások a mérvadók. \n* \nMárcius 20-án\, Nagyböjt 3. vasárnapja\, Ludwigsburgban 9.00 órakor szentmise. \nMindenkit szeretettel vár a közösség és Tibor atya! \n * \n \n* \nBensőséges nagyböjti napokat\, jó munkát\, tartalmas beszélgetéseket és örömteli találkozásokat kívánunk minden Kedves Hívünknek! \n* \n„A kereszttel Isten túllép a szavakon: a kereszt az a szeretet\, amely nem magyarázható. Ezt akkor érthetjük meg\, ha engedjük\, hogy Isten őrülten szeressen. A kereszt beteljesíti és meghaladja a szavakat.” (Gaetano Piccolo SJ\, 1973 – ) \n(Kép forrása: Pixabay)
URL:https://stuttgarti-katolikusok.de/index.php/esemeny/szentmise-ludwigsburgban-49/
LOCATION:St. Josef Kirche\, Park Str. 30\, Ludwigsburg-Hoheneck\, Baden-Württemberg\, 71642
CATEGORIES:Szentmise
ATTACH;FMTTYPE=image/jpeg:https://stuttgarti-katolikusok.de/wp-content/uploads/2021/04/ludwigsburg.jpeg
END:VEVENT
BEGIN:VEVENT
DTSTART;TZID=Europe/Berlin:20220320T090000
DTEND;TZID=Europe/Berlin:20220320T100000
DTSTAMP:20260421T140959
CREATED:20230208T071929Z
LAST-MODIFIED:20230208T072721Z
UID:25678-1647766800-1647770400@stuttgarti-katolikusok.de
SUMMARY:Ludwigsburg
DESCRIPTION:
URL:https://stuttgarti-katolikusok.de/index.php/esemeny/ludwigsburg-4/
LOCATION:Baden-Württemberg
CATEGORIES:Szentmisék helye és ideje
END:VEVENT
BEGIN:VEVENT
DTSTART;TZID=Europe/Berlin:20220320T113000
DTEND;TZID=Europe/Berlin:20220320T123000
DTSTAMP:20260421T140959
CREATED:20220315T012607Z
LAST-MODIFIED:20220315T012607Z
UID:23064-1647775800-1647779400@stuttgarti-katolikusok.de
SUMMARY:Szentmise Stuttgartban
DESCRIPTION:Örömmel értesítünk benneteket\, hogy 2022. február 9-ei hatállyal nincs már szükség a jelenléti lista vezetésére és őrzésére.  \nSzentmisén továbbra is kötelező az FFP2 maszk használata és a megfelelő távolság (1\,5 m) megtartása. A 6 és 18 év közöttiek számára más típusú maszk használata engedélyezett (orvosi maszk). \nMindezen enyhítés csak a szentmiséken való részvételt érinti.  \nA közösségi termeket 3G-vel lehet használni. Továbbá meg kell tartani azon előírásokat ezzel kapcsolatosan\, amelyek eddig is érvényben voltak. A gyakorlatban ez azt jelent\, hogy ágápé megtartására csak ezen előírások fényében van lehetőségünk. Ez minden miséző helyen saját szervezést és rendezést igényel.  \nGyermek-szentmisék megtartása esetében szintén a közösségi termek használatára vonatkozó előírások a mérvadók. \n* \nMárcius 20-án\, Nagyböjt 3. vasárnapja\,  Stuttgartban 11.30 órakor gyermek-szentmise. \nMindenkit szeretettel vár a közösség és Tibor atya! \n * \n \n* \nBensőséges nagyböjti napokat\, jó munkát\, tartalmas beszélgetéseket és örömteli találkozásokat kívánunk minden Kedves Hívünknek! \n* \n„A kereszttel Isten túllép a szavakon: a kereszt az a szeretet\, amely nem magyarázható. Ezt akkor érthetjük meg\, ha engedjük\, hogy Isten őrülten szeressen. A kereszt beteljesíti és meghaladja a szavakat.” (Gaetano Piccolo SJ\, 1973 – ) \n(Kép forrása: Pixabay)
URL:https://stuttgarti-katolikusok.de/index.php/esemeny/szentmise-stuttgartban-99/
LOCATION:Bruder Klaus Kirche\, Albert-Schäffle-Straße 30\, Stuttgart\, Baden-Württemberg\, 70186\, Németország
CATEGORIES:Szentmise
ATTACH;FMTTYPE=image/jpeg:https://stuttgarti-katolikusok.de/wp-content/uploads/2015/12/013__2_klaus.jpg
END:VEVENT
BEGIN:VEVENT
DTSTART;TZID=Europe/Berlin:20220320T113000
DTEND;TZID=Europe/Berlin:20220320T123000
DTSTAMP:20260421T140959
CREATED:20230208T071937Z
LAST-MODIFIED:20230208T072758Z
UID:25691-1647775800-1647779400@stuttgarti-katolikusok.de
SUMMARY:Stuttgart
DESCRIPTION:
URL:https://stuttgarti-katolikusok.de/index.php/esemeny/stuttgart-38/
LOCATION:Baden-Württemberg
CATEGORIES:Szentmisék helye és ideje
END:VEVENT
BEGIN:VEVENT
DTSTART;TZID=Europe/Berlin:20220320T153000
DTEND;TZID=Europe/Berlin:20220320T163000
DTSTAMP:20260421T140959
CREATED:20220315T012819Z
LAST-MODIFIED:20220315T012819Z
UID:23066-1647790200-1647793800@stuttgarti-katolikusok.de
SUMMARY:Szentmise Eislingenben
DESCRIPTION:Örömmel értesítünk benneteket\, hogy 2022. február 9-ei hatállyal nincs már szükség a jelenléti lista vezetésére és őrzésére.  \nSzentmisén továbbra is kötelező az FFP2 maszk használata és a megfelelő távolság (1\,5 m) megtartása. A 6 és 18 év közöttiek számára más típusú maszk használata engedélyezett (orvosi maszk). \nMindezen enyhítés csak a szentmiséken való részvételt érinti.  \nA közösségi termeket 3G-vel lehet használni. Továbbá meg kell tartani azon előírásokat ezzel kapcsolatosan\, amelyek eddig is érvényben voltak. A gyakorlatban ez azt jelent\, hogy ágápé megtartására csak ezen előírások fényében van lehetőségünk. Ez minden miséző helyen saját szervezést és rendezést igényel.  \nGyermek-szentmisék megtartása esetében szintén a közösségi termek használatára vonatkozó előírások a mérvadók. \n* \nMárcius 20-án\, Nagyböjt 3. vasárnapja\,  Eislingenben 15.30 órakor szentmise. \nMindenkit szeretettel vár a közösség és Tibor atya! \n * \n \n* \nBensőséges nagyböjti napokat\, jó munkát\, tartalmas beszélgetéseket és örömteli találkozásokat kívánunk minden Kedves Hívünknek! \n* \n„A kereszttel Isten túllép a szavakon: a kereszt az a szeretet\, amely nem magyarázható. Ezt akkor érthetjük meg\, ha engedjük\, hogy Isten őrülten szeressen. A kereszt beteljesíti és meghaladja a szavakat.” (Gaetano Piccolo SJ\, 1973 – ) \n(Kép forrása: Pixabay)
URL:https://stuttgarti-katolikusok.de/index.php/esemeny/szentmise-eislingenben-48/
LOCATION:Liebfrauen-Kirche\, Eberhardt Str. 30\, Eislingen/Fils\, Baden-Württemberg\, 73054\, Németország
CATEGORIES:Szentmise
END:VEVENT
BEGIN:VEVENT
DTSTART;TZID=Europe/Berlin:20220320T153000
DTEND;TZID=Europe/Berlin:20220320T163000
DTSTAMP:20260421T140959
CREATED:20230208T071800Z
LAST-MODIFIED:20230208T072516Z
UID:25574-1647790200-1647793800@stuttgarti-katolikusok.de
SUMMARY:Eislingen
DESCRIPTION:
URL:https://stuttgarti-katolikusok.de/index.php/esemeny/eislingen-2/
LOCATION:Baden-Württemberg
CATEGORIES:Szentmisék helye és ideje
END:VEVENT
END:VCALENDAR