BEGIN:VCALENDAR
VERSION:2.0
PRODID:-//Stuttgarti Katolikusok - ECPv6.15.20//NONSGML v1.0//EN
CALSCALE:GREGORIAN
METHOD:PUBLISH
X-WR-CALNAME:Stuttgarti Katolikusok
X-ORIGINAL-URL:https://stuttgarti-katolikusok.de
X-WR-CALDESC:Események Stuttgarti Katolikusok
REFRESH-INTERVAL;VALUE=DURATION:PT1H
X-Robots-Tag:noindex
X-PUBLISHED-TTL:PT1H
BEGIN:VTIMEZONE
TZID:Europe/Berlin
BEGIN:DAYLIGHT
TZOFFSETFROM:+0100
TZOFFSETTO:+0200
TZNAME:CEST
DTSTART:20210328T010000
END:DAYLIGHT
BEGIN:STANDARD
TZOFFSETFROM:+0200
TZOFFSETTO:+0100
TZNAME:CET
DTSTART:20211031T010000
END:STANDARD
BEGIN:DAYLIGHT
TZOFFSETFROM:+0100
TZOFFSETTO:+0200
TZNAME:CEST
DTSTART:20220327T010000
END:DAYLIGHT
BEGIN:STANDARD
TZOFFSETFROM:+0200
TZOFFSETTO:+0100
TZNAME:CET
DTSTART:20221030T010000
END:STANDARD
BEGIN:DAYLIGHT
TZOFFSETFROM:+0100
TZOFFSETTO:+0200
TZNAME:CEST
DTSTART:20230326T010000
END:DAYLIGHT
BEGIN:STANDARD
TZOFFSETFROM:+0200
TZOFFSETTO:+0100
TZNAME:CET
DTSTART:20231029T010000
END:STANDARD
END:VTIMEZONE
BEGIN:VEVENT
DTSTART;TZID=Europe/Berlin:20220306T093000
DTEND;TZID=Europe/Berlin:20220306T103000
DTSTAMP:20260421T134959
CREATED:20220228T202306Z
LAST-MODIFIED:20220228T202306Z
UID:23006-1646559000-1646562600@stuttgarti-katolikusok.de
SUMMARY:Szentmise Schwäbisch-Gmündben
DESCRIPTION:Örömmel értesítünk benneteket\, hogy 2022. február 9-ei hatállyal nincs már szükség a jelenléti lista vezetésére és őrzésére.  \nSzentmisén továbbra is kötelező az FFP2 maszk használata és a megfelelő távolság (1\,5 m) megtartása. A 6 és 18 év közöttiek számára más típusú maszk használata engedélyezett (orvosi maszk). \nMindezen enyhítés csak a szentmiséken való részvételt érinti.  \nA közösségi termeket 3G-vel lehet használni. Továbbá meg kell tartani azon előírásokat ezzel kapcsolatosan\, amelyek eddig is érvényben voltak. A gyakorlatban ez azt jelent\, hogy ágápé megtartására csak ezen előírások fényében van lehetőségünk. Ez minden miséző helyen saját szervezést és rendezést igényel.  \nGyermek-szentmisék megtartása esetében szintén a közösségi termek használatára vonatkozó előírások a mérvadók. \n* \nMárcius 6-án\, Nagyböjt 1. vasárnapja\, Schwäbisch-Gmündben 9.30 órakor szentmise\, keretében hamvazás.     \nMindenkit szeretettel vár a közösség és Tibor atya! \n* \n \n* \nBensőséges nagyböjti napokat\, jó munkát\, tartalmas beszélgetéseket és örömteli találkozásokat kívánunk minden Kedves Hívünknek! \n* \n„Gyáva a szívem. Az imák az Égben összeérnek. Uram. Valahogy már késő. Nem tudom rád bízni magam. Noha nem akarom csüggedten tudomásul venni – se magamat\, se a bűnösségemet\, se téged. De be se akarok csapni senkit. Legföljebb téged. Az ima a szív emlékezetének gyakori ébresztgetése. Gyakrabban kell emlékezni Istenre\, mint ahogyan lélegzetet veszünk. Irgalom Atyja\, ne hagyj el. Hogyan tovább? Erre várok tőled választ\, mert ez az én kérdésem. Úgy szoktál válaszolni\, hogy nem válaszolsz. Szépen tudsz hallgatni\, Uram. Ha kérdezlek\, hallgatsz\, és ha már nincs több kérdés\, az lesz az igazi válasz. Mégis most azt kérdem\, mi végre. Ki vagy Te\, Uram\, és ki vagyok én? Tudom\, rossz kérdés. Engedj látnom. Árva szívem holt erét töltsd meg\, égi Jóság.” (Esterházy Péter\, író – 1950-2016) \n(Kép forrása: Pixabay)
URL:https://stuttgarti-katolikusok.de/index.php/esemeny/szentmise-schwabisch-gmundben-54/
LOCATION:Sankt Franziskus Kirche\, Franziskaner Str. 3\, Schwäbisch-Gmünd\, Baden-Württemberg\, 73525\, Németország
CATEGORIES:Szentmise
ATTACH;FMTTYPE=image/jpeg:https://stuttgarti-katolikusok.de/wp-content/uploads/2018/03/st-franziskus-schw-gmund.jpg
END:VEVENT
BEGIN:VEVENT
DTSTART;TZID=Europe/Berlin:20220306T093000
DTEND;TZID=Europe/Berlin:20220306T103000
DTSTAMP:20260421T134959
CREATED:20230208T071404Z
LAST-MODIFIED:20230208T072513Z
UID:25567-1646559000-1646562600@stuttgarti-katolikusok.de
SUMMARY:Schwäbisch Gmünd
DESCRIPTION:
URL:https://stuttgarti-katolikusok.de/index.php/esemeny/schwabisch-gmund-20/
LOCATION:Baden-Württemberg
CATEGORIES:Szentmisék helye és ideje
END:VEVENT
BEGIN:VEVENT
DTSTART;TZID=Europe/Berlin:20220306T150000
DTEND;TZID=Europe/Berlin:20220306T160000
DTSTAMP:20260421T134959
CREATED:20220228T203845Z
LAST-MODIFIED:20220228T203845Z
UID:23008-1646578800-1646582400@stuttgarti-katolikusok.de
SUMMARY:Szentmise Stuttgartban
DESCRIPTION:Örömmel értesítünk benneteket\, hogy 2022. február 9-ei hatállyal nincs már szükség a jelenléti lista vezetésére és őrzésére.  \nSzentmisén továbbra is kötelező az FFP2 maszk használata és a megfelelő távolság (1\,5 m) megtartása. A 6 és 18 év közöttiek számára más típusú maszk használata engedélyezett (orvosi maszk). \nMindezen enyhítés csak a szentmiséken való részvételt érinti.  \nA közösségi termeket 3G-vel lehet használni. Továbbá meg kell tartani azon előírásokat ezzel kapcsolatosan\, amelyek eddig is érvényben voltak. A gyakorlatban ez azt jelent\, hogy ágápé megtartására csak ezen előírások fényében van lehetőségünk. Ez minden miséző helyen saját szervezést és rendezést igényel.  \nGyermek-szentmisék megtartása esetében szintén a közösségi termek használatára vonatkozó előírások a mérvadók. \n* \nMárcius 6-án\, Nagyböjt 1. vasárnapja\, Stuttgartban 15.00 órakor szentmise\, keretében hamvazás. \nMindenkit szeretettel vár a közösség és Tibor atya! \n* \n \n* \nBensőséges nagyböjti napokat\, jó munkát\, tartalmas beszélgetéseket és örömteli találkozásokat kívánunk minden Kedves Hívünknek! \n* \n„Gyáva a szívem. Az imák az Égben összeérnek. Uram. Valahogy már késő. Nem tudom rád bízni magam. Noha nem akarom csüggedten tudomásul venni – se magamat\, se a bűnösségemet\, se téged. De be se akarok csapni senkit. Legföljebb téged. Az ima a szív emlékezetének gyakori ébresztgetése. Gyakrabban kell emlékezni Istenre\, mint ahogyan lélegzetet veszünk. Irgalom Atyja\, ne hagyj el. Hogyan tovább? Erre várok tőled választ\, mert ez az én kérdésem. Úgy szoktál válaszolni\, hogy nem válaszolsz. Szépen tudsz hallgatni\, Uram. Ha kérdezlek\, hallgatsz\, és ha már nincs több kérdés\, az lesz az igazi válasz. Mégis most azt kérdem\, mi végre. Ki vagy Te\, Uram\, és ki vagyok én? Tudom\, rossz kérdés. Engedj látnom. Árva szívem holt erét töltsd meg\, égi Jóság.” (Esterházy Péter\, író – 1950-2016) \n(Kép forrása: Pixabay)
URL:https://stuttgarti-katolikusok.de/index.php/esemeny/szentmise-stuttgartban-98/
LOCATION:Bruder Klaus Kirche\, Albert-Schäffle-Straße 30\, Stuttgart\, Baden-Württemberg\, 70186\, Németország
CATEGORIES:Szentmise
ATTACH;FMTTYPE=image/jpeg:https://stuttgarti-katolikusok.de/wp-content/uploads/2015/12/013__2_klaus.jpg
END:VEVENT
BEGIN:VEVENT
DTSTART;TZID=Europe/Berlin:20220306T150000
DTEND;TZID=Europe/Berlin:20220306T160000
DTSTAMP:20260421T134959
CREATED:20230208T071754Z
LAST-MODIFIED:20230208T072514Z
UID:25571-1646578800-1646582400@stuttgarti-katolikusok.de
SUMMARY:Stuttgart
DESCRIPTION:
URL:https://stuttgarti-katolikusok.de/index.php/esemeny/stuttgart-24/
LOCATION:Baden-Württemberg
CATEGORIES:Szentmisék helye és ideje
END:VEVENT
END:VCALENDAR