BEGIN:VCALENDAR
VERSION:2.0
PRODID:-//Stuttgarti Katolikusok - ECPv6.15.20//NONSGML v1.0//EN
CALSCALE:GREGORIAN
METHOD:PUBLISH
X-ORIGINAL-URL:https://stuttgarti-katolikusok.de
X-WR-CALDESC:Események Stuttgarti Katolikusok
REFRESH-INTERVAL;VALUE=DURATION:PT1H
X-Robots-Tag:noindex
X-PUBLISHED-TTL:PT1H
BEGIN:VTIMEZONE
TZID:Europe/Berlin
BEGIN:DAYLIGHT
TZOFFSETFROM:+0100
TZOFFSETTO:+0200
TZNAME:CEST
DTSTART:20210328T010000
END:DAYLIGHT
BEGIN:STANDARD
TZOFFSETFROM:+0200
TZOFFSETTO:+0100
TZNAME:CET
DTSTART:20211031T010000
END:STANDARD
BEGIN:DAYLIGHT
TZOFFSETFROM:+0100
TZOFFSETTO:+0200
TZNAME:CEST
DTSTART:20220327T010000
END:DAYLIGHT
BEGIN:STANDARD
TZOFFSETFROM:+0200
TZOFFSETTO:+0100
TZNAME:CET
DTSTART:20221030T010000
END:STANDARD
BEGIN:DAYLIGHT
TZOFFSETFROM:+0100
TZOFFSETTO:+0200
TZNAME:CEST
DTSTART:20230326T010000
END:DAYLIGHT
BEGIN:STANDARD
TZOFFSETFROM:+0200
TZOFFSETTO:+0100
TZNAME:CET
DTSTART:20231029T010000
END:STANDARD
END:VTIMEZONE
BEGIN:VEVENT
DTSTART;TZID=Europe/Berlin:20220305T160000
DTEND;TZID=Europe/Berlin:20220305T170000
DTSTAMP:20260421T135106
CREATED:20220228T201922Z
LAST-MODIFIED:20220228T201922Z
UID:23003-1646496000-1646499600@stuttgarti-katolikusok.de
SUMMARY:Szentmise Balingenben
DESCRIPTION:Örömmel értesítünk benneteket\, hogy 2022. február 9-ei hatállyal nincs már szükség a jelenléti lista vezetésére és őrzésére.  \nSzentmisén továbbra is kötelező az FFP2 maszk használata és a megfelelő távolság (1\,5 m) megtartása. A 6 és 18 év közöttiek számára más típusú maszk használata engedélyezett (orvosi maszk). \nMindezen enyhítés csak a szentmiséken való részvételt érinti.  \nA közösségi termeket 3G-vel lehet használni. Továbbá meg kell tartani azon előírásokat ezzel kapcsolatosan\, amelyek eddig is érvényben voltak. A gyakorlatban ez azt jelent\, hogy ágápé megtartására csak ezen előírások fényében van lehetőségünk. Ez minden miséző helyen saját szervezést és rendezést igényel.  \nGyermek-szentmisék megtartása esetében szintén a közösségi termek használatára vonatkozó előírások a mérvadók. \n* \nMárcius 5-én\, szombaton\, Balingenben 16.00 órakor szentmise\, keretében hamvazás. \nMindenkit szeretettel vár a közösség és Tibor atya! \n* \n \n* \nBensőséges nagyböjti napokat\, jó munkát\, tartalmas beszélgetéseket és örömteli találkozásokat kívánunk minden Kedves Hívünknek! \n* \n„Gyáva a szívem. Az imák az Égben összeérnek. Uram. Valahogy már késő. Nem tudom rád bízni magam. Noha nem akarom csüggedten tudomásul venni – se magamat\, se a bűnösségemet\, se téged. De be se akarok csapni senkit. Legföljebb téged. Az ima a szív emlékezetének gyakori ébresztgetése. Gyakrabban kell emlékezni Istenre\, mint ahogyan lélegzetet veszünk. Irgalom Atyja\, ne hagyj el. Hogyan tovább? Erre várok tőled választ\, mert ez az én kérdésem. Úgy szoktál válaszolni\, hogy nem válaszolsz. Szépen tudsz hallgatni\, Uram. Ha kérdezlek\, hallgatsz\, és ha már nincs több kérdés\, az lesz az igazi válasz. Mégis most azt kérdem\, mi végre. Ki vagy Te\, Uram\, és ki vagyok én? Tudom\, rossz kérdés. Engedj látnom. Árva szívem holt erét töltsd meg\, égi Jóság.” (Esterházy Péter\, író – 1950-2016) \n(Kép forrása: Pixabay)
URL:https://stuttgarti-katolikusok.de/index.php/esemeny/szentmise-balingenben-48/
LOCATION:Sankt Paulus Kirche\, St. Paulus Str. 2\, Balingen-Frommern\, Baden-Württemberg\, 72336\, Németország
CATEGORIES:Szentmise
ATTACH;FMTTYPE=image/jpeg:https://stuttgarti-katolikusok.de/wp-content/uploads/2018/04/20180505_163840-e1764632638620.jpg
END:VEVENT
BEGIN:VEVENT
DTSTART;TZID=Europe/Berlin:20220305T160000
DTEND;TZID=Europe/Berlin:20220305T170000
DTSTAMP:20260421T135106
CREATED:20230208T071404Z
LAST-MODIFIED:20230208T072514Z
UID:25568-1646496000-1646499600@stuttgarti-katolikusok.de
SUMMARY:Balingen
DESCRIPTION:
URL:https://stuttgarti-katolikusok.de/index.php/esemeny/balingen-19/
LOCATION:Baden-Württemberg
CATEGORIES:Szentmisék helye és ideje
END:VEVENT
END:VCALENDAR